Workbook
Name Column1: 'БУ-Д-Н'!$A$17:$E$18
Name Column2: 'БУ-Д-Ж'!$A$17:$E$18
Name Column3: 'БУ-Д-УКУПНО'!$A$17:$E$18
Name Data1: 'БУ-Д-Н'!$A$19:$E$137
Name Data2: 'БУ-Д-Ж'!$A$19:$E$137
Name Data3: 'БУ-Д-УКУПНО'!$A$19:$E$137
Name Header: 'БУ-Д-Н'!$A$2:$E$12

Sheet config
A1: 105 | B1: 45394.45 | C1: 45441.329

Sheet БУ-Д-Н
E1: Образац:БУ-Д
A2: Назив друштва/субјекта: | C2: "НЕШКОВИЋ ОСИГУРАЊЕ" А.Д. Бијељина | D2: "НЕШКОВИЋ ОСИГУРАЊЕ" А.Д. Бијељина | E2: "НЕШКОВИЋ ОСИГУРАЊЕ" А.Д. Бијељина
A3: Ознака друштва/субјекта: | C3: РД-1 | D3: РД-1 | E3: РД-1
A4: Период за који се подаци достављају од: | C4: 46023
A5: Период за који се подаци достављају до: | C5: 46203
A6: Редни број: | C6: 1
A7: Саставио: | C7: Ј.Шкиљевић
A8: Одговорно лице: | C8: Миленко Мишановић
A9: Актуар: | C9: Вања Драгичевић
A10: Датум попуњавања: | C10: 46226
A11: Мјесто попуњавања: | C11: Бијељина
A12: Контакт: | C12: office@neskovicosiguranje.com
A14: Биланс успјеха
A15: КМ
A16: Група рачуна, рачун | B16: Позиција | C16: Ознака АОП | D16: Износ
A17: Група рачуна, рачун | B17: Позиција | C17: Ознака АОП | D17: Текућа година | E17: Претходна година
A18: 1 | B18: 2 | C18: 3 | D18: 4 | E18: 5
B19: А. ПОСЛОВНИ ПРИХОДИ И РАСХОДИ I - ПОСЛОВНИ ПРИХОДИ (202+208+209+210+211+212) | C19: 201 | D19: =D20+D26+D27+D28+D29+D30 -> 11657446 | E19: =E20+E26+E27+E28+E29+E30 -> 11181788
A20: 60 | B20: 1. Приходи од премије осигурања, саосигурања, реосигурања и ретроцесија животних осигурања (203 до 207) | C20: 202 | D20: =D21+D22+D23+D24+D25 -> 0 | E20: =E21+E22+E23+E24+E25 -> 0
A21: 600, 602, 605 | B21: а) Приходи од премије осигурања, саосигурања, реосигурања и ретроцесија животних осигурања | C21: 203
A22: 601 | B22: б) Приходи од премија добровољног пензијског осигурања | C22: 204
A23: 603 | B23: в) Приходи по основу учешћа саосигурања и реосигурања у накнади штета животних осигурања | C23: 205
A24: 604 | B24: г) Приходи од укидања и смањења резервисања животних осигурања, реосигурања и ретроцесија | C24: 206
A25: 606 до 609 | B25: д) Остали приходи по основу животног осигурања | C25: 207
A26: 610 до 619 | B26: 2. Приходи од премијa осигурања, саосигурања, реосигурања и ретроцесија неживотних осигурања | C26: 208 | D26: 9767730 | E26: 10454456
A27: 620 до 629 | B27: 3. Приходи по основу учешћа саосигурања, реосигурања и ретроцесија у накнади штета неживотних осигурања | C27: 209
A28: 630 до 639 | B28: 4. Приходи од укидања и смањења резервисања неживотних осигурања | C28: 210 | D28: 1201657
A29: 640 до 649 | B29: 5. Приходи од поврата пореских и других дажбина и приходи од премија, субвенција, дотација, донација и сл. | C29: 211 | D29: 33490 | E29: 22929
A30: 650 до 659 | B30: 6. Други пословни приходи | C30: 212 | D30: 654569 | E30: 704403
B31: II - ПОСЛОВНИ РАСХОДИ (214+236) | C31: 213 | D31: =D32+D54 -> 5649398 | E31: =E32+E54 -> 5448528
B32: 1. Функционални расходи (215+225+231) | C32: 214 | D32: =D33+D43+D49 -> 3443137 | E32: =E33+E43+E49 -> 3631656
A33: 50 | B33: 1.1. Расходи за дугорочна резервисања и функционалне доприносе (216 до 224) | C33: 215 | D33: =D34+D35+D36+D37+D38+D39+D40+D41+D42 -> 92222 | E33: =E34+E35+E36+E37+E38+E39+E40+E41+E42 -> 95632
A34: 500 | B34: а) Математичка резерва животних осигурања, осим добровољног пензијског осигурања | C34: 216
A35: 501 | B35: б) Математичка резерва добровољног пензијског осигурања | C35: 217
A36: 502 | B36: в) Допринос за превентиву | C36: 218 | D36: 10172 | E36: 10204
A37: 503 | B37: г) Ватрогасни допринос | C37: 219 | D37: 3497 | E37: 3354
A38: 504 | B38: д) Допринос Заштитном фонду | C38: 220 | D38: 40879 | E38: 46191
A39: 505 | B39: ђ) Расходи за дугорочна резервисања за изравнање ризика | C39: 221
A40: 506 | B40: е) Доприноси прописани посебним законима | C40: 222
A41: 507 | B41: ж) Повећање других техничких резерви | C41: 223
...

Sheet БУ-Д-Ж
E1: Образац:БУ-Д
A2: Назив друштва/субјекта: | C2: =IF('БУ-Д-Н'!C2="","",'БУ-Д-Н'!C2) -> "НЕШКОВИЋ ОСИГУРАЊЕ" А.Д. Бијељина | D2: =IF('БУ-Д-Н'!D2="","",'БУ-Д-Н'!D2) -> "НЕШКОВИЋ ОСИГУРАЊЕ" А.Д. Бијељина | E2: =IF('БУ-Д-Н'!E2="","",'БУ-Д-Н'!E2) -> "НЕШКОВИЋ ОСИГУРАЊЕ" А.Д. Бијељина
A3: Ознака друштва/субјекта: | C3: =IF('БУ-Д-Н'!C3="","",'БУ-Д-Н'!C3) -> РД-1 | D3: =IF('БУ-Д-Н'!D3="","",'БУ-Д-Н'!D3) -> РД-1 | E3: =IF('БУ-Д-Н'!E3="","",'БУ-Д-Н'!E3) -> РД-1
A4: Период за који се подаци достављају од: | C4: =IF('БУ-Д-Н'!C4="","",'БУ-Д-Н'!C4) -> 46023 | D4: =IF('БУ-Д-Н'!D4="","",'БУ-Д-Н'!D4) | E4: =IF('БУ-Д-Н'!E4="","",'БУ-Д-Н'!E4)
A5: Период за који се подаци достављају до: | C5: =IF('БУ-Д-Н'!C5="","",'БУ-Д-Н'!C5) -> 46203 | D5: =IF('БУ-Д-Н'!D5="","",'БУ-Д-Н'!D5) | E5: =IF('БУ-Д-Н'!E5="","",'БУ-Д-Н'!E5)
A6: Редни број: | C6: =IF('БУ-Д-Н'!C6="","",'БУ-Д-Н'!C6) -> 1 | D6: =IF('БУ-Д-Н'!D6="","",'БУ-Д-Н'!D6) | E6: =IF('БУ-Д-Н'!E6="","",'БУ-Д-Н'!E6)
A7: Саставио: | C7: =IF('БУ-Д-Н'!C7="","",'БУ-Д-Н'!C7) -> Ј.Шкиљевић | D7: =IF('БУ-Д-Н'!D7="","",'БУ-Д-Н'!D7) | E7: =IF('БУ-Д-Н'!E7="","",'БУ-Д-Н'!E7)
A8: Одговорно лице: | C8: =IF('БУ-Д-Н'!C8="","",'БУ-Д-Н'!C8) -> Миленко Мишановић | D8: =IF('БУ-Д-Н'!D8="","",'БУ-Д-Н'!D8) | E8: =IF('БУ-Д-Н'!E8="","",'БУ-Д-Н'!E8)
A9: Актуар: | C9: =IF('БУ-Д-Н'!C9="","",'БУ-Д-Н'!C9) -> Вања Драгичевић | D9: =IF('БУ-Д-Н'!D9="","",'БУ-Д-Н'!D9) | E9: =IF('БУ-Д-Н'!E9="","",'БУ-Д-Н'!E9)
A10: Датум попуњавања: | C10: =IF('БУ-Д-Н'!C10="","",'БУ-Д-Н'!C10) -> 46226 | D10: =IF('БУ-Д-Н'!D10="","",'БУ-Д-Н'!D10) | E10: =IF('БУ-Д-Н'!E10="","",'БУ-Д-Н'!E10)
A11: Мјесто попуњавања: | C11: =IF('БУ-Д-Н'!C11="","",'БУ-Д-Н'!C11) -> Бијељина | D11: =IF('БУ-Д-Н'!D11="","",'БУ-Д-Н'!D11) | E11: =IF('БУ-Д-Н'!E11="","",'БУ-Д-Н'!E11)
A12: Контакт: | C12: =IF('БУ-Д-Н'!C12="","",'БУ-Д-Н'!C12) -> office@neskovicosiguranje.com | D12: =IF('БУ-Д-Н'!D12="","",'БУ-Д-Н'!D12) | E12: =IF('БУ-Д-Н'!E12="","",'БУ-Д-Н'!E12)
A14: Биланс успјеха
A15: КМ
A16: Група рачуна, рачун | B16: Позиција | C16: Ознака АОП | D16: Износ
A17: Група рачуна, рачун | B17: Позиција | C17: Ознака АОП | D17: Текућа година | E17: Претходна година
A18: 1 | B18: 2 | C18: 3 | D18: 4 | E18: 5
B19: А. ПОСЛОВНИ ПРИХОДИ И РАСХОДИ I - ПОСЛОВНИ ПРИХОДИ (202+208+209+210+211+212) | C19: 201 | D19: =D20+D26+D27+D28+D29+D30 -> 0 | E19: =E20+E26+E27+E28+E29+E30 -> 0
A20: 60 | B20: 1. Приходи од премије осигурања, саосигурања, реосигурања и ретроцесија животних осигурања (203 до 207) | C20: 202 | D20: =D21+D22+D23+D24+D25 -> 0 | E20: =E21+E22+E23+E24+E25 -> 0
A21: 600, 602, 605 | B21: а) Приходи од премије осигурања, саосигурања, реосигурања и ретроцесија животних осигурања | C21: 203
A22: 601 | B22: б) Приходи од премија добровољног пензијског осигурања | C22: 204
A23: 603 | B23: в) Приходи по основу учешћа саосигурања и реосигурања у накнади штета животних осигурања | C23: 205
A24: 604 | B24: г) Приходи од укидања и смањења резервисања животних осигурања, реосигурања и ретроцесија | C24: 206
A25: 606 до 609 | B25: д) Остали приходи по основу животног осигурања | C25: 207
A26: 610 до 619 | B26: 2. Приходи од премијa осигурања, саосигурања, реосигурања и ретроцесија неживотних осигурања | C26: 208
A27: 620 до 629 | B27: 3. Приходи по основу учешћа саосигурања, реосигурања и ретроцесија у накнади штета неживотних осигурања | C27: 209
A28: 630 до 639 | B28: 4. Приходи од укидања и смањења резервисања неживотних осигурања | C28: 210
A29: 640 до 649 | B29: 5. Приходи од поврата пореских и других дажбина и приходи од премија, субвенција, дотација, донација и сл. | C29: 211
A30: 650 до 659 | B30: 6. Други пословни приходи | C30: 212
B31: II - ПОСЛОВНИ РАСХОДИ (214+236) | C31: 213 | D31: =D32+D54 -> 0 | E31: =E32+E54 -> 0
B32: 1. Функционални расходи (215+225+231) | C32: 214 | D32: =D33+D43+D49 -> 0 | E32: =E33+E43+E49 -> 0
A33: 50 | B33: 1.1. Расходи за дугорочна резервисања и функционалне доприносе (216 до 224) | C33: 215 | D33: =D34+D35+D36+D37+D38+D39+D40+D41+D42 -> 0 | E33: =E34+E35+E36+E37+E38+E39+E40+E41+E42 -> 0
A34: 500 | B34: а) Математичка резерва животних осигурања, осим добровољног пензијског осигурања | C34: 216
A35: 501 | B35: б) Математичка резерва добровољног пензијског осигурања | C35: 217
A36: 502 | B36: в) Допринос за превентиву | C36: 218
A37: 503 | B37: г) Ватрогасни допринос | C37: 219
A38: 504 | B38: д) Допринос Заштитном фонду | C38: 220
A39: 505 | B39: ђ) Расходи за дугорочна резервисања за изравнање ризика | C39: 221
A40: 506 | B40: е) Доприноси прописани посебним законима | C40: 222
A41: 507 | B41: ж) Повећање других техничких резерви | C41: 223
...

Sheet БУ-Д-УКУПНО
E1: Образац:БУ-Д
A2: Назив друштва/субјекта: | C2: =IF('БУ-Д-Н'!C2="","",'БУ-Д-Н'!C2) -> "НЕШКОВИЋ ОСИГУРАЊЕ" А.Д. Бијељина | D2: =IF('БУ-Д-Н'!D2="","",'БУ-Д-Н'!D2) -> "НЕШКОВИЋ ОСИГУРАЊЕ" А.Д. Бијељина | E2: =IF('БУ-Д-Н'!E2="","",'БУ-Д-Н'!E2) -> "НЕШКОВИЋ ОСИГУРАЊЕ" А.Д. Бијељина
A3: Ознака друштва/субјекта: | C3: =IF('БУ-Д-Н'!C3="","",'БУ-Д-Н'!C3) -> РД-1 | D3: =IF('БУ-Д-Н'!D3="","",'БУ-Д-Н'!D3) -> РД-1 | E3: =IF('БУ-Д-Н'!E3="","",'БУ-Д-Н'!E3) -> РД-1
A4: Период за који се подаци достављају од: | C4: =IF('БУ-Д-Н'!C4="","",'БУ-Д-Н'!C4) -> 46023 | D4: =IF('БУ-Д-Н'!D4="","",'БУ-Д-Н'!D4) | E4: =IF('БУ-Д-Н'!E4="","",'БУ-Д-Н'!E4)
A5: Период за који се подаци достављају до: | C5: =IF('БУ-Д-Н'!C5="","",'БУ-Д-Н'!C5) -> 46203 | D5: =IF('БУ-Д-Н'!D5="","",'БУ-Д-Н'!D5) | E5: =IF('БУ-Д-Н'!E5="","",'БУ-Д-Н'!E5)
A6: Редни број: | C6: =IF('БУ-Д-Н'!C6="","",'БУ-Д-Н'!C6) -> 1 | D6: =IF('БУ-Д-Н'!D6="","",'БУ-Д-Н'!D6) | E6: =IF('БУ-Д-Н'!E6="","",'БУ-Д-Н'!E6)
A7: Саставио: | C7: =IF('БУ-Д-Н'!C7="","",'БУ-Д-Н'!C7) -> Ј.Шкиљевић | D7: =IF('БУ-Д-Н'!D7="","",'БУ-Д-Н'!D7) | E7: =IF('БУ-Д-Н'!E7="","",'БУ-Д-Н'!E7)
A8: Одговорно лице: | C8: =IF('БУ-Д-Н'!C8="","",'БУ-Д-Н'!C8) -> Миленко Мишановић | D8: =IF('БУ-Д-Н'!D8="","",'БУ-Д-Н'!D8) | E8: =IF('БУ-Д-Н'!E8="","",'БУ-Д-Н'!E8)
A9: Актуар: | C9: =IF('БУ-Д-Н'!C9="","",'БУ-Д-Н'!C9) -> Вања Драгичевић | D9: =IF('БУ-Д-Н'!D9="","",'БУ-Д-Н'!D9) | E9: =IF('БУ-Д-Н'!E9="","",'БУ-Д-Н'!E9)
A10: Датум попуњавања: | C10: =IF('БУ-Д-Н'!C10="","",'БУ-Д-Н'!C10) -> 46226 | D10: =IF('БУ-Д-Н'!D10="","",'БУ-Д-Н'!D10) | E10: =IF('БУ-Д-Н'!E10="","",'БУ-Д-Н'!E10)
A11: Мјесто попуњавања: | C11: =IF('БУ-Д-Н'!C11="","",'БУ-Д-Н'!C11) -> Бијељина | D11: =IF('БУ-Д-Н'!D11="","",'БУ-Д-Н'!D11) | E11: =IF('БУ-Д-Н'!E11="","",'БУ-Д-Н'!E11)
A12: Контакт: | C12: =IF('БУ-Д-Н'!C12="","",'БУ-Д-Н'!C12) -> office@neskovicosiguranje.com | D12: =IF('БУ-Д-Н'!D12="","",'БУ-Д-Н'!D12) | E12: =IF('БУ-Д-Н'!E12="","",'БУ-Д-Н'!E12)
A14: Биланс успјеха
A15: КМ
A16: Група рачуна, рачун | B16: Позиција | C16: Ознака АОП | D16: Износ
A17: Група рачуна, рачун | B17: Позиција | C17: Ознака АОП | D17: Текућа година | E17: Претходна година
A18: 1 | B18: 2 | C18: 3 | D18: 4 | E18: 5
B19: А. ПОСЛОВНИ ПРИХОДИ И РАСХОДИ I - ПОСЛОВНИ ПРИХОДИ (202+208+209+210+211+212) | C19: 201 | D19: ='БУ-Д-Н'!D19+'БУ-Д-Ж'!D19 -> 11657446 | E19: ='БУ-Д-Н'!E19+'БУ-Д-Ж'!E19 -> 11181788
A20: 60 | B20: 1. Приходи од премије осигурања, саосигурања, реосигурања и ретроцесија животних осигурања (203 до 207) | C20: 202 | D20: ='БУ-Д-Н'!D20+'БУ-Д-Ж'!D20 -> 0 | E20: ='БУ-Д-Н'!E20+'БУ-Д-Ж'!E20 -> 0
A21: 600, 602, 605 | B21: а) Приходи од премије осигурања, саосигурања, реосигурања и ретроцесија животних осигурања | C21: 203 | D21: ='БУ-Д-Н'!D21+'БУ-Д-Ж'!D21 -> 0 | E21: ='БУ-Д-Н'!E21+'БУ-Д-Ж'!E21 -> 0
A22: 601 | B22: б) Приходи од премија добровољног пензијског осигурања | C22: 204 | D22: ='БУ-Д-Н'!D22+'БУ-Д-Ж'!D22 -> 0 | E22: ='БУ-Д-Н'!E22+'БУ-Д-Ж'!E22 -> 0
A23: 603 | B23: в) Приходи по основу учешћа саосигурања и реосигурања у накнади штета животних осигурања | C23: 205 | D23: ='БУ-Д-Н'!D23+'БУ-Д-Ж'!D23 -> 0 | E23: ='БУ-Д-Н'!E23+'БУ-Д-Ж'!E23 -> 0
A24: 604 | B24: г) Приходи од укидања и смањења резервисања животних осигурања, реосигурања и ретроцесија | C24: 206 | D24: ='БУ-Д-Н'!D24+'БУ-Д-Ж'!D24 -> 0 | E24: ='БУ-Д-Н'!E24+'БУ-Д-Ж'!E24 -> 0
A25: 606 до 609 | B25: д) Остали приходи по основу животног осигурања | C25: 207 | D25: ='БУ-Д-Н'!D25+'БУ-Д-Ж'!D25 -> 0 | E25: ='БУ-Д-Н'!E25+'БУ-Д-Ж'!E25 -> 0
A26: 610 до 619 | B26: 2. Приходи од премијa осигурања, саосигурања, реосигурања и ретроцесија неживотних осигурања | C26: 208 | D26: ='БУ-Д-Н'!D26+'БУ-Д-Ж'!D26 -> 9767730 | E26: ='БУ-Д-Н'!E26+'БУ-Д-Ж'!E26 -> 10454456
A27: 620 до 629 | B27: 3. Приходи по основу учешћа саосигурања, реосигурања и ретроцесија у накнади штета неживотних осигурања | C27: 209 | D27: ='БУ-Д-Н'!D27+'БУ-Д-Ж'!D27 -> 0 | E27: ='БУ-Д-Н'!E27+'БУ-Д-Ж'!E27 -> 0
A28: 630 до 639 | B28: 4. Приходи од укидања и смањења резервисања неживотних осигурања | C28: 210 | D28: ='БУ-Д-Н'!D28+'БУ-Д-Ж'!D28 -> 1201657 | E28: ='БУ-Д-Н'!E28+'БУ-Д-Ж'!E28 -> 0
A29: 640 до 649 | B29: 5. Приходи од поврата пореских и других дажбина и приходи од премија, субвенција, дотација, донација и сл. | C29: 211 | D29: ='БУ-Д-Н'!D29+'БУ-Д-Ж'!D29 -> 33490 | E29: ='БУ-Д-Н'!E29+'БУ-Д-Ж'!E29 -> 22929
A30: 650 до 659 | B30: 6. Други пословни приходи | C30: 212 | D30: ='БУ-Д-Н'!D30+'БУ-Д-Ж'!D30 -> 654569 | E30: ='БУ-Д-Н'!E30+'БУ-Д-Ж'!E30 -> 704403
B31: II - ПОСЛОВНИ РАСХОДИ (214+236) | C31: 213 | D31: ='БУ-Д-Н'!D31+'БУ-Д-Ж'!D31 -> 5649398 | E31: ='БУ-Д-Н'!E31+'БУ-Д-Ж'!E31 -> 5448528
B32: 1. Функционални расходи (215+225+231) | C32: 214 | D32: ='БУ-Д-Н'!D32+'БУ-Д-Ж'!D32 -> 3443137 | E32: ='БУ-Д-Н'!E32+'БУ-Д-Ж'!E32 -> 3631656
A33: 50 | B33: 1.1. Расходи за дугорочна резервисања и функционалне доприносе (216 до 224) | C33: 215 | D33: ='БУ-Д-Н'!D33+'БУ-Д-Ж'!D33 -> 92222 | E33: ='БУ-Д-Н'!E33+'БУ-Д-Ж'!E33 -> 95632
A34: 500 | B34: а) Математичка резерва животних осигурања, осим добровољног пензијског осигурања | C34: 216 | D34: ='БУ-Д-Н'!D34+'БУ-Д-Ж'!D34 -> 0 | E34: ='БУ-Д-Н'!E34+'БУ-Д-Ж'!E34 -> 0
A35: 501 | B35: б) Математичка резерва добровољног пензијског осигурања | C35: 217 | D35: ='БУ-Д-Н'!D35+'БУ-Д-Ж'!D35 -> 0 | E35: ='БУ-Д-Н'!E35+'БУ-Д-Ж'!E35 -> 0
A36: 502 | B36: в) Допринос за превентиву | C36: 218 | D36: ='БУ-Д-Н'!D36+'БУ-Д-Ж'!D36 -> 10172 | E36: ='БУ-Д-Н'!E36+'БУ-Д-Ж'!E36 -> 10204
A37: 503 | B37: г) Ватрогасни допринос | C37: 219 | D37: ='БУ-Д-Н'!D37+'БУ-Д-Ж'!D37 -> 3497 | E37: ='БУ-Д-Н'!E37+'БУ-Д-Ж'!E37 -> 3354
A38: 504 | B38: д) Допринос Заштитном фонду | C38: 220 | D38: ='БУ-Д-Н'!D38+'БУ-Д-Ж'!D38 -> 40879 | E38: ='БУ-Д-Н'!E38+'БУ-Д-Ж'!E38 -> 46191
A39: 505 | B39: ђ) Расходи за дугорочна резервисања за изравнање ризика | C39: 221 | D39: ='БУ-Д-Н'!D39+'БУ-Д-Ж'!D39 -> 0 | E39: ='БУ-Д-Н'!E39+'БУ-Д-Ж'!E39 -> 0
A40: 506 | B40: е) Доприноси прописани посебним законима | C40: 222 | D40: ='БУ-Д-Н'!D40+'БУ-Д-Ж'!D40 -> 0 | E40: ='БУ-Д-Н'!E40+'БУ-Д-Ж'!E40 -> 0
A41: 507 | B41: ж) Повећање других техничких резерви | C41: 223 | D41: ='БУ-Д-Н'!D41+'БУ-Д-Ж'!D41 -> 0 | E41: ='БУ-Д-Н'!E41+'БУ-Д-Ж'!E41 -> 0
...
