Workbook
Name Column1: 'БУ-Д-Н'!$A$17:$E$18
Name Column2: 'БУ-Д-Ж'!$A$17:$E$18
Name Column3: 'БУ-Д-УКУПНО'!$A$17:$E$18
Name Data1: 'БУ-Д-Н'!$A$19:$E$137
Name Data2: 'БУ-Д-Ж'!$A$19:$E$137
Name Data3: 'БУ-Д-УКУПНО'!$A$19:$E$137
Name Header: 'БУ-Д-Н'!$A$2:$E$12

Sheet config
A1: 105 | B1: 45394.45 | C1: 45441.329

Sheet БУ-Д-Н
E1: Образац:БУ-Д
A2: Назив друштва/субјекта: | C2: "НЕШКОВИЋ ОСИГУРАЊЕ" А.Д. Бијељина | D2: "НЕШКОВИЋ ОСИГУРАЊЕ" А.Д. Бијељина | E2: "НЕШКОВИЋ ОСИГУРАЊЕ" А.Д. Бијељина
A3: Ознака друштва/субјекта: | C3: РД-1 | D3: РД-1 | E3: РД-1
A4: Период за који се подаци достављају од: | C4: 46023
A5: Период за који се подаци достављају до: | C5: 46203
A6: Редни број: | C6: 1
A7: Саставио: | C7: Ј.Шкиљевић
A8: Одговорно лице: | C8: Миленко Мишановић
A9: Актуар: | C9: Вања Драгичевић
A10: Датум попуњавања: | C10: 46226
A11: Мјесто попуњавања: | C11: Бијељина
A12: Контакт: | C12: office@neskovicosiguranje.com
A14: Биланс успјеха
A15: КМ
A16: Група рачуна, рачун | B16: Позиција | C16: Ознака АОП | D16: Износ
A17: Група рачуна, рачун | B17: Позиција | C17: Ознака АОП | D17: Текућа година | E17: Претходна година
A18: 1 | B18: 2 | C18: 3 | D18: 4 | E18: 5
B19: А. ПОСЛОВНИ ПРИХОДИ И РАСХОДИ I - ПОСЛОВНИ ПРИХОДИ (202+208+209+210+211+212) | C19: 201 | D19: =D20+D26+D27+D28+D29+D30 -> 11657446 | E19: =E20+E26+E27+E28+E29+E30 -> 11181788
A20: 60 | B20: 1. Приходи од премије осигурања, саосигурања, реосигурања и ретроцесија животних осигурања (203 до 207) | C20: 202 | D20: =D21+D22+D23+D24+D25 -> 0 | E20: =E21+E22+E23+E24+E25 -> 0
A21: 600, 602, 605 | B21: а) Приходи од премије осигурања, саосигурања, реосигурања и ретроцесија животних осигурања | C21: 203
A22: 601 | B22: б) Приходи од премија добровољног пензијског осигурања | C22: 204
A23: 603 | B23: в) Приходи по основу учешћа саосигурања и реосигурања у накнади штета животних осигурања | C23: 205
A24: 604 | B24: г) Приходи од укидања и смањења резервисања животних осигурања, реосигурања и ретроцесија | C24: 206
A25: 606 до 609 | B25: д) Остали приходи по основу животног осигурања | C25: 207
A26: 610 до 619 | B26: 2. Приходи од премијa осигурања, саосигурања, реосигурања и ретроцесија неживотних осигурања | C26: 208 | D26: 9767730 | E26: 10454456
A27: 620 до 629 | B27: 3. Приходи по основу учешћа саосигурања, реосигурања и ретроцесија у накнади штета неживотних осигурања | C27: 209
A28: 630 до 639 | B28: 4. Приходи од укидања и смањења резервисања неживотних осигурања | C28: 210 | D28: 1201657
A29: 640 до 649 | B29: 5. Приходи од поврата пореских и других дажбина и приходи од премија, субвенција, дотација, донација и сл. | C29: 211 | D29: 33490 | E29: 22929
A30: 650 до 659 | B30: 6. Други пословни приходи | C30: 212 | D30: 654569 | E30: 704403
B31: II - ПОСЛОВНИ РАСХОДИ (214+236) | C31: 213 | D31: =D32+D54 -> 5649398 | E31: =E32+E54 -> 5448528
B32: 1. Функционални расходи (215+225+231) | C32: 214 | D32: =D33+D43+D49 -> 3443137 | E32: =E33+E43+E49 -> 3631656
A33: 50 | B33: 1.1. Расходи за дугорочна резервисања и функционалне доприносе (216 до 224) | C33: 215 | D33: =D34+D35+D36+D37+D38+D39+D40+D41+D42 -> 92222 | E33: =E34+E35+E36+E37+E38+E39+E40+E41+E42 -> 95632
A34: 500 | B34: а) Математичка резерва животних осигурања, осим добровољног пензијског осигурања | C34: 216
A35: 501 | B35: б) Математичка резерва добровољног пензијског осигурања | C35: 217
A36: 502 | B36: в) Допринос за превентиву | C36: 218 | D36: 10172 | E36: 10204
A37: 503 | B37: г) Ватрогасни допринос | C37: 219 | D37: 3497 | E37: 3354
A38: 504 | B38: д) Допринос Заштитном фонду | C38: 220 | D38: 40879 | E38: 46191
A39: 505 | B39: ђ) Расходи за дугорочна резервисања за изравнање ризика | C39: 221
A40: 506 | B40: е) Доприноси прописани посебним законима | C40: 222
A41: 507 | B41: ж) Повећање других техничких резерви | C41: 223
A42: 509 | B42: з) Остали расходи за дугорочна резервисања и функционалне доприносе | C42: 224 | D42: 37674 | E42: 35883
A43: 51 | B43: 1.2. Накнаде штета, уговорених износа и премија саосигурања и реосигурања (226 до 230) | C43: 225 | D43: =D44+D45+D46+D47+D48 -> 0 | E43: =E44+E45+E46+E47+E48 -> 0
A44: 510,513 | B44: а) Накнаде штета, уговорених износа и удјела у штетама животних осигурања | C44: 226
A45: 511 | B45: б) Накнаде штета и уговорених сума добровољног пензијског осигурања | C45: 227
A46: 512,514 | B46: в) Расходи по основу премија и провизија саосигурања, реосигурања и ретроцесија животних осигурања | C46: 228
A47: 515, 516, 517 | B47: г) Резервисања за штете, удјеле у штетама и остала резервисања по основу животних осигурања | C47: 229
A48: 518 | B48: д) Расходи по основу бонуса и попуста животних осигурања | C48: 230
A49: 52 | B49: 1.3. Накнаде штета и остале накнаде неживотних осигурања (232 до 235) | C49: 231 | D49: =D50+D51+D52+D53 -> 3350915 | E49: =E50+E51+E52+E53 -> 3536024
A50: 520, 521, 522, 524 | B50: а) Накнаде штета, осигураних сума, других уговорених износа и удјели у штетама неживотних осигурања | C50: 232 | D50: 3177102 | E50: 2887886
A51: 523,525 | B51: б) Расходи по основу премија и провизија саосигурања, реосигурања и ретроцесија неживотних осигурања | C51: 233 | D51: 173813 | E51: 176486
A52: 528 | B52: в) Расходи по основу бонуса и попуста неживотних осигурања | C52: 234
A53: 526, 527, 529 | B53: г) Резервисања за штете, удјеле у штети и остала резервисања по основу неживотних осигурања | C53: 235 | E53: 471652
B54: 2. Трошкови спровођења осигурања (237+240+246) | C54: 236 | D54: =D55+D58+D64 -> 2206261 | E54: =E55+E58+E64 -> 1816872
A55: 53 | B55: 2.1. Трошкови амортизације и резервисања (238+239) | C55: 237 | D55: =D56+D57 -> 148066 | E55: =E56+E57 -> 143983
A56: 530 | B56: а) Трошкови амортизације | C56: 238 | D56: 148066 | E56: 143983
A57: 533 до 539 | B57: б) Трошкови резервисања | C57: 239
A58: 54 | B58: 2.2. Трошкови материјала, енергије, услуга и нематеријални трошкови (241 до 245) | C58: 240 | D58: =D59+D60+D61+D62+D63 -> 938098 | E58: =E59+E60+E61+E62+E63 -> 754876
A59: 540 | B59: а) Трошкови материјала, горива и енергије | C59: 241 | D59: 283501 | E59: 273814
A60: 541 | B60: б) Трошкови провизија | C60: 242 | D60: 11063
A61: 542,543 | B61: в) Трошкови производних услуга, рекламе и пропаганде | C61: 243 | D61: 23467 | E61: 21659
A62: 544, 545, 547, 548, 549 | B62: г) Нематеријални трошкови | C62: 244 | D62: 551679 | E62: 396076
A63: 546 | B63: д) Трошкови пореза и доприноса | C63: 245 | D63: 68388 | E63: 63327
A64: 55 | B64: 2.3. Трошкови зарада, накнада зарада и остали лични расходи (247+248) | C64: 246 | D64: =D65+D66 -> 1120097 | E64: =E65+E66 -> 918013
A65: 550 | B65: а) Трошкови бруто зарада и накнада зарада | C65: 247 | D65: 1076586 | E65: 888457
A66: 552 до 559 | B66: б) Остали лични расходи и накнаде | C66: 248 | D66: 43511 | E66: 29556
B67: III - ПОСЛОВНИ ДОБИТАК (201-213) | C67: 249 | D67: =IF((D19-D31)>0,D19-D31,0) -> 6008048 | E67: =IF((E19-E31)>0,E19-E31,0) -> 5733260
B68: IV - ПОСЛОВНИ ГУБИТАК (213-201) | C68: 250 | D68: =IF((D31-D19)>0,D31-D19,0) -> 0 | E68: =IF((E31-E19)>0,E31-E19,0) -> 0
A69: 66 | B69: Б. ФИНАНСИЈСКИ ПРИХОДИ И РАСХОДИ I - ФИНАНАСИЈСКИ ПРИХОДИ (252 до 255) | C69: 251 | D69: =D70+D71+D72+D73 -> 485842 | E69: =E70+E71+E72+E73 -> 379523
A70: 660,661 | B70: 1. Финансијски приходи од матичних, зависних и осталих повезаних правних лица | C70: 252 | D70: 148480 | E70: 162032
A71: 662 | B71: 2. Приход од камата | C71: 253 | D71: 240766 | E71: 217304
A72: 663 | B72: 3. Позитивне курсне разлике | C72: 254 | D72: 96551 | E72: 59
A73: 664,665,669 | B73: 4. Остали финансијски приходи | C73: 255 | D73: 45 | E73: 128
A74: 56 | B74: II - ФИНАНСИЈСКИ РАСХОДИ (257 до 260) | C74: 256 | D74: =D75+D76+D77+D78 -> 46745 | E74: =E75+E76+E77+E78 -> 219682
A75: 560,561 | B75: 1. Финансијски расходи из односа са матичним, зависним и осталим повезаним правним лицима | C75: 257
A76: 562 | B76: 2. Расходи камата | C76: 258 | D76: 3309 | E76: 4176
A77: 563 | B77: 3. Негативне курсне разлике | C77: 259 | D77: 43432 | E77: 215500
A78: 564, 565, 569 | B78: 4. Остали финансијски расходи | C78: 260 | D78: 4 | E78: 6
B79: III - ДОБИТАК РЕДОВНЕ АКТИВНОСТИ (249+251-256) или (251-256-250) | C79: 261 | D79: =IF((D67-D68+D69-D74)>0,D67-D68+D69-D74,0) -> 6447145 | E79: =IF((E67-E68+E69-E74)>0,E67-E68+E69-E74,0) -> 5893101
B80: IV - ГУБИТАК РЕДОВНЕ АКТИВНОСТИ (250+256-251) или (256-251-249) | C80: 262 | D80: =IF((D68-D67+D74-D69)>0,D68-D67+D74-D69,0) -> 0 | E80: =IF((E68-E67+E74-E69)>0,E68-E67+E74-E69,0) -> 0
A81: 67 | B81: В. ОСТАЛИ ПРИХОДИ И РАСХОДИ I - ОСТАЛИ ПРИХОДИ (264 до 267) | C81: 263 | D81: =D82+D83+D84+D85 -> 27155 | E81: =E82+E83+E84+E85 -> 10747
A82: 670,671 | B82: 1. Добици од продаје нематеријалних средстава, некретнина, биолошких средстава, постројења и опреме и инвестиционих некретнина | C82: 264 | E82: 256
A83: 672 | B83: 2. Добици од продаје учешћа и дугорочних хартија од вриједности | C83: 265 | D83: 16591
A84: 676 | B84: 3. Приходи по основу ефеката уговорене заштите од ризика | C84: 266
A85: 673, 674, 675, 677, 678, 679 | B85: 4. Остали приходи | C85: 267 | D85: 10564 | E85: 10491
A86: 57 | B86: II - ОСТАЛИ РАСХОДИ (269 до 272) | C86: 268 | D86: =D87+D88+D89+D90 -> 53673 | E86: =E87+E88+E89+E90 -> 29946
A87: 570,571 | B87: 1. Губици по основу расходовања и продаје нематеријалних средстава, некретнина, билошких средстава, постројења, опреме и инвестиционих | C87: 269
A88: 572 | B88: 2. Губици по основу продаје учешћа у капиталу и хартија од вриједности | C88: 270 | D88: 49 | E88: 2276
A89: 575 | B89: 3. Расходи по основу ефеката уговорене заштите од ризика | C89: 271
A90: 573, 574, 576, 577 и 579 | B90: 4. Остали расходи | C90: 272 | D90: 53624 | E90: 27670
B91: III - ДОБИТАК ПО ОСНОВУ ОСТАЛИХ ПРИХОДА И РАСХОДА (263-268) | C91: 273 | D91: =IF((D81-D86)>0,D81-D86,0) -> 0 | E91: =IF((E81-E86)>0,E81-E86,0) -> 0
B92: IV - ГУБИТАК ПО ОСНОВУ ОСТАЛИХ ПРИХОДА И РАСХОДА (268-263) | C92: 274 | D92: =IF((D86-D81)>0,D86-D81,0) -> 26518 | E92: =IF((E86-E81)>0,E86-E81,0) -> 19199
A93: 68 | B93: Г. ПРИХОДИ И РАСХОДИ ОД УСКЛАЂИВАЊА ВРИЈЕДНОСТИ ИМОВИНЕ I - ПРИХОДИ ОД УСКЛАЂИВАЊА ВРИЈЕДНОСТИ ИМОВИНЕ (276 до 278) | C93: 275 | D93: =D94+D95+D96 -> 0 | E93: =E94+E95+E96 -> 0
A94: 680, 681, 682 | B94: 1. Приходи од усклађивања вриједности нематеријалних средстава, некретнина, биолошких средстава, постројења, опреме и инвестиционих некретнина | C94: 276
A95: 683 | B95: 2. Приходи од усклађивања вриједности дугорочних финансијских пласмана и финансијских средстава расположивих за продају | C95: 277
A96: 684 до 689 | B96: 3. Остали приходи од усклађивања вриједности имовине | C96: 278
A97: 58 | B97: II - РАСХОДИ ОД УСКЛАЂИВАЊА ВРИЈЕДНОСТИ ИМОВИНЕ (280 до 282) | C97: 279 | D97: =D98+D99+D100 -> 0 | E97: =E98+E99+E100 -> 0
A98: 580, 581, 582 | B98: 1. Обезврјеђење нематеријалних средстава, некретнина, постројења, опреме и инвестиционих некретнина | C98: 280
A99: 583 | B99: 2. Обезврјеђење дугорочних финансијских пласмана и финансијских средстава расположивих за продају | C99: 281
A100: 584 до 589 | B100: 3. Остали расходи по основу усклађивања вриједности имовине | C100: 282
B101: III - ДОБИТАК ПО ОСНОВУ УСКЛАЂИВАЊА ВРИЈЕДНОСТИ ИМОВИНЕ (275-279) | C101: 283 | D101: =IF((D93-D97)>0,D93-D97,0) -> 0 | E101: =IF((E93-E97)>0,E93-E97,0) -> 0
...

Sheet БУ-Д-Ж
E1: Образац:БУ-Д
A2: Назив друштва/субјекта: | C2: =IF('БУ-Д-Н'!C2="","",'БУ-Д-Н'!C2) -> "НЕШКОВИЋ ОСИГУРАЊЕ" А.Д. Бијељина | D2: =IF('БУ-Д-Н'!D2="","",'БУ-Д-Н'!D2) -> "НЕШКОВИЋ ОСИГУРАЊЕ" А.Д. Бијељина | E2: =IF('БУ-Д-Н'!E2="","",'БУ-Д-Н'!E2) -> "НЕШКОВИЋ ОСИГУРАЊЕ" А.Д. Бијељина
A3: Ознака друштва/субјекта: | C3: =IF('БУ-Д-Н'!C3="","",'БУ-Д-Н'!C3) -> РД-1 | D3: =IF('БУ-Д-Н'!D3="","",'БУ-Д-Н'!D3) -> РД-1 | E3: =IF('БУ-Д-Н'!E3="","",'БУ-Д-Н'!E3) -> РД-1
A4: Период за који се подаци достављају од: | C4: =IF('БУ-Д-Н'!C4="","",'БУ-Д-Н'!C4) -> 46023 | D4: =IF('БУ-Д-Н'!D4="","",'БУ-Д-Н'!D4) | E4: =IF('БУ-Д-Н'!E4="","",'БУ-Д-Н'!E4)
A5: Период за који се подаци достављају до: | C5: =IF('БУ-Д-Н'!C5="","",'БУ-Д-Н'!C5) -> 46203 | D5: =IF('БУ-Д-Н'!D5="","",'БУ-Д-Н'!D5) | E5: =IF('БУ-Д-Н'!E5="","",'БУ-Д-Н'!E5)
A6: Редни број: | C6: =IF('БУ-Д-Н'!C6="","",'БУ-Д-Н'!C6) -> 1 | D6: =IF('БУ-Д-Н'!D6="","",'БУ-Д-Н'!D6) | E6: =IF('БУ-Д-Н'!E6="","",'БУ-Д-Н'!E6)
A7: Саставио: | C7: =IF('БУ-Д-Н'!C7="","",'БУ-Д-Н'!C7) -> Ј.Шкиљевић | D7: =IF('БУ-Д-Н'!D7="","",'БУ-Д-Н'!D7) | E7: =IF('БУ-Д-Н'!E7="","",'БУ-Д-Н'!E7)
A8: Одговорно лице: | C8: =IF('БУ-Д-Н'!C8="","",'БУ-Д-Н'!C8) -> Миленко Мишановић | D8: =IF('БУ-Д-Н'!D8="","",'БУ-Д-Н'!D8) | E8: =IF('БУ-Д-Н'!E8="","",'БУ-Д-Н'!E8)
A9: Актуар: | C9: =IF('БУ-Д-Н'!C9="","",'БУ-Д-Н'!C9) -> Вања Драгичевић | D9: =IF('БУ-Д-Н'!D9="","",'БУ-Д-Н'!D9) | E9: =IF('БУ-Д-Н'!E9="","",'БУ-Д-Н'!E9)
A10: Датум попуњавања: | C10: =IF('БУ-Д-Н'!C10="","",'БУ-Д-Н'!C10) -> 46226 | D10: =IF('БУ-Д-Н'!D10="","",'БУ-Д-Н'!D10) | E10: =IF('БУ-Д-Н'!E10="","",'БУ-Д-Н'!E10)
A11: Мјесто попуњавања: | C11: =IF('БУ-Д-Н'!C11="","",'БУ-Д-Н'!C11) -> Бијељина | D11: =IF('БУ-Д-Н'!D11="","",'БУ-Д-Н'!D11) | E11: =IF('БУ-Д-Н'!E11="","",'БУ-Д-Н'!E11)
A12: Контакт: | C12: =IF('БУ-Д-Н'!C12="","",'БУ-Д-Н'!C12) -> office@neskovicosiguranje.com | D12: =IF('БУ-Д-Н'!D12="","",'БУ-Д-Н'!D12) | E12: =IF('БУ-Д-Н'!E12="","",'БУ-Д-Н'!E12)
A14: Биланс успјеха
A15: КМ
A16: Група рачуна, рачун | B16: Позиција | C16: Ознака АОП | D16: Износ
A17: Група рачуна, рачун | B17: Позиција | C17: Ознака АОП | D17: Текућа година | E17: Претходна година
A18: 1 | B18: 2 | C18: 3 | D18: 4 | E18: 5
B19: А. ПОСЛОВНИ ПРИХОДИ И РАСХОДИ I - ПОСЛОВНИ ПРИХОДИ (202+208+209+210+211+212) | C19: 201 | D19: =D20+D26+D27+D28+D29+D30 -> 0 | E19: =E20+E26+E27+E28+E29+E30 -> 0
A20: 60 | B20: 1. Приходи од премије осигурања, саосигурања, реосигурања и ретроцесија животних осигурања (203 до 207) | C20: 202 | D20: =D21+D22+D23+D24+D25 -> 0 | E20: =E21+E22+E23+E24+E25 -> 0
A21: 600, 602, 605 | B21: а) Приходи од премије осигурања, саосигурања, реосигурања и ретроцесија животних осигурања | C21: 203
A22: 601 | B22: б) Приходи од премија добровољног пензијског осигурања | C22: 204
A23: 603 | B23: в) Приходи по основу учешћа саосигурања и реосигурања у накнади штета животних осигурања | C23: 205
A24: 604 | B24: г) Приходи од укидања и смањења резервисања животних осигурања, реосигурања и ретроцесија | C24: 206
A25: 606 до 609 | B25: д) Остали приходи по основу животног осигурања | C25: 207
A26: 610 до 619 | B26: 2. Приходи од премијa осигурања, саосигурања, реосигурања и ретроцесија неживотних осигурања | C26: 208
A27: 620 до 629 | B27: 3. Приходи по основу учешћа саосигурања, реосигурања и ретроцесија у накнади штета неживотних осигурања | C27: 209
A28: 630 до 639 | B28: 4. Приходи од укидања и смањења резервисања неживотних осигурања | C28: 210
A29: 640 до 649 | B29: 5. Приходи од поврата пореских и других дажбина и приходи од премија, субвенција, дотација, донација и сл. | C29: 211
A30: 650 до 659 | B30: 6. Други пословни приходи | C30: 212
B31: II - ПОСЛОВНИ РАСХОДИ (214+236) | C31: 213 | D31: =D32+D54 -> 0 | E31: =E32+E54 -> 0
B32: 1. Функционални расходи (215+225+231) | C32: 214 | D32: =D33+D43+D49 -> 0 | E32: =E33+E43+E49 -> 0
A33: 50 | B33: 1.1. Расходи за дугорочна резервисања и функционалне доприносе (216 до 224) | C33: 215 | D33: =D34+D35+D36+D37+D38+D39+D40+D41+D42 -> 0 | E33: =E34+E35+E36+E37+E38+E39+E40+E41+E42 -> 0
A34: 500 | B34: а) Математичка резерва животних осигурања, осим добровољног пензијског осигурања | C34: 216
A35: 501 | B35: б) Математичка резерва добровољног пензијског осигурања | C35: 217
A36: 502 | B36: в) Допринос за превентиву | C36: 218
A37: 503 | B37: г) Ватрогасни допринос | C37: 219
A38: 504 | B38: д) Допринос Заштитном фонду | C38: 220
A39: 505 | B39: ђ) Расходи за дугорочна резервисања за изравнање ризика | C39: 221
A40: 506 | B40: е) Доприноси прописани посебним законима | C40: 222
A41: 507 | B41: ж) Повећање других техничких резерви | C41: 223
A42: 509 | B42: з) Остали расходи за дугорочна резервисања и функционалне доприносе | C42: 224
A43: 51 | B43: 1.2. Накнаде штета, уговорених износа и премија саосигурања и реосигурања (226 до 230) | C43: 225 | D43: =D44+D45+D46+D47+D48 -> 0 | E43: =E44+E45+E46+E47+E48 -> 0
A44: 510,513 | B44: а) Накнаде штета, уговорених износа и удјела у штетама животних осигурања | C44: 226
A45: 511 | B45: б) Накнаде штета и уговорених сума добровољног пензијског осигурања | C45: 227
A46: 512,514 | B46: в) Расходи по основу премија и провизија саосигурања, реосигурања и ретроцесија животних осигурања | C46: 228
A47: 515, 516, 517 | B47: г) Резервисања за штете, удјеле у штетама и остала резервисања по основу животних осигурања | C47: 229
A48: 518 | B48: д) Расходи по основу бонуса и попуста животних осигурања | C48: 230
A49: 52 | B49: 1.3. Накнаде штета и остале накнаде неживотних осигурања (232 до 235) | C49: 231 | D49: =D50+D51+D52+D53 -> 0 | E49: =E50+E51+E52+E53 -> 0
A50: 520, 521, 522, 524 | B50: а) Накнаде штета, осигураних сума, других уговорених износа и удјели у штетама неживотних осигурања | C50: 232
A51: 523,525 | B51: б) Расходи по основу премија и провизија саосигурања, реосигурања и ретроцесија неживотних осигурања | C51: 233
A52: 528 | B52: в) Расходи по основу бонуса и попуста неживотних осигурања | C52: 234
A53: 526, 527, 529 | B53: г) Резервисања за штете, удјеле у штети и остала резервисања по основу неживотних осигурања | C53: 235
B54: 2. Трошкови спровођења осигурања (237+240+246) | C54: 236 | D54: =D55+D58+D64 -> 0 | E54: =E55+E58+E64 -> 0
A55: 53 | B55: 2.1. Трошкови амортизације и резервисања (238+239) | C55: 237 | D55: =D56+D57 -> 0 | E55: =E56+E57 -> 0
A56: 530 | B56: а) Трошкови амортизације | C56: 238
A57: 533 до 539 | B57: б) Трошкови резервисања | C57: 239
A58: 54 | B58: 2.2. Трошкови материјала, енергије, услуга и нематеријални трошкови (241 до 245) | C58: 240 | D58: =D59+D60+D61+D62+D63 -> 0 | E58: =E59+E60+E61+E62+E63 -> 0
A59: 540 | B59: а) Трошкови материјала, горива и енергије | C59: 241
A60: 541 | B60: б) Трошкови провизија | C60: 242
A61: 542,543 | B61: в) Трошкови производних услуга, рекламе и пропаганде | C61: 243
A62: 544, 545, 547, 548, 549 | B62: г) Нематеријални трошкови | C62: 244
A63: 546 | B63: д) Трошкови пореза и доприноса | C63: 245
A64: 55 | B64: 2.3. Трошкови зарада, накнада зарада и остали лични расходи (247+248) | C64: 246 | D64: =D65+D66 -> 0 | E64: =E65+E66 -> 0
A65: 550 | B65: а) Трошкови бруто зарада и накнада зарада | C65: 247
A66: 552 до 559 | B66: б) Остали лични расходи и накнаде | C66: 248
B67: III - ПОСЛОВНИ ДОБИТАК (201-213) | C67: 249 | D67: =IF((D19-D31)>0,D19-D31,0) -> 0 | E67: =IF((E19-E31)>0,E19-E31,0) -> 0
B68: IV - ПОСЛОВНИ ГУБИТАК (213-201) | C68: 250 | D68: =IF((D31-D19)>0,D31-D19,0) -> 0 | E68: =IF((E31-E19)>0,E31-E19,0) -> 0
A69: 66 | B69: Б. ФИНАНСИЈСКИ ПРИХОДИ И РАСХОДИ I - ФИНАНАСИЈСКИ ПРИХОДИ (252 до 255) | C69: 251 | D69: =D70+D71+D72+D73 -> 0 | E69: =E70+E71+E72+E73 -> 0
A70: 660,661 | B70: 1. Финансијски приходи од матичних, зависних и осталих повезаних правних лица | C70: 252
A71: 662 | B71: 2. Приход од камата | C71: 253
A72: 663 | B72: 3. Позитивне курсне разлике | C72: 254
A73: 664,665,669 | B73: 4. Остали финансијски приходи | C73: 255
A74: 56 | B74: II - ФИНАНСИЈСКИ РАСХОДИ (257 до 260) | C74: 256 | D74: =D75+D76+D77+D78 -> 0 | E74: =E75+E76+E77+E78 -> 0
A75: 560,561 | B75: 1. Финансијски расходи из односа са матичним, зависним и осталим повезаним правним лицима | C75: 257
A76: 562 | B76: 2. Расходи камата | C76: 258
A77: 563 | B77: 3. Негативне курсне разлике | C77: 259
A78: 564, 565, 569 | B78: 4. Остали финансијски расходи | C78: 260
B79: III - ДОБИТАК РЕДОВНЕ АКТИВНОСТИ (249+251-256) или (251-256-250) | C79: 261 | D79: =IF((D67-D68+D69-D74)>0,D67-D68+D69-D74,0) -> 0 | E79: =IF((E67-E68+E69-E74)>0,E67-E68+E69-E74,0) -> 0
B80: IV - ГУБИТАК РЕДОВНЕ АКТИВНОСТИ (250+256-251) или (256-251-249) | C80: 262 | D80: =IF((D68-D67+D74-D69)>0,D68-D67+D74-D69,0) -> 0 | E80: =IF((E68-E67+E74-E69)>0,E68-E67+E74-E69,0) -> 0
A81: 67 | B81: В. ОСТАЛИ ПРИХОДИ И РАСХОДИ I - ОСТАЛИ ПРИХОДИ (264 до 267) | C81: 263 | D81: =D82+D83+D84+D85 -> 0 | E81: =E82+E83+E84+E85 -> 0
A82: 670,671 | B82: 1. Добици од продаје нематеријалних средстава, некретнина, биолошких средстава, постројења и опреме и инвестиционих некретнина | C82: 264
A83: 672 | B83: 2. Добици од продаје учешћа и дугорочних хартија од вриједности | C83: 265
A84: 676 | B84: 3. Приходи по основу ефеката уговорене заштите од ризика | C84: 266
A85: 673, 674, 675, 677, 678, 679 | B85: 4. Остали приходи | C85: 267
A86: 57 | B86: II - ОСТАЛИ РАСХОДИ (269 до 272) | C86: 268 | D86: =D87+D88+D89+D90 -> 0 | E86: =E87+E88+E89+E90 -> 0
A87: 570,571 | B87: 1. Губици по основу расходовања и продаје нематеријалних средстава, некретнина, билошких средстава, постројења, опреме и инвестиционих | C87: 269
A88: 572 | B88: 2. Губици по основу продаје учешћа у капиталу и хартија од вриједности | C88: 270
A89: 575 | B89: 3. Расходи по основу ефеката уговорене заштите од ризика | C89: 271
A90: 573, 574, 576, 577 и 579 | B90: 4. Остали расходи | C90: 272
B91: III - ДОБИТАК ПО ОСНОВУ ОСТАЛИХ ПРИХОДА И РАСХОДА (263-268) | C91: 273 | D91: =IF((D81-D86)>0,D81-D86,0) -> 0 | E91: =IF((E81-E86)>0,E81-E86,0) -> 0
B92: IV - ГУБИТАК ПО ОСНОВУ ОСТАЛИХ ПРИХОДА И РАСХОДА (268-263) | C92: 274 | D92: =IF((D86-D81)>0,D86-D81,0) -> 0 | E92: =IF((E86-E81)>0,E86-E81,0) -> 0
A93: 68 | B93: Г. ПРИХОДИ И РАСХОДИ ОД УСКЛАЂИВАЊА ВРИЈЕДНОСТИ ИМОВИНЕ I - ПРИХОДИ ОД УСКЛАЂИВАЊА ВРИЈЕДНОСТИ ИМОВИНЕ (276 до 278) | C93: 275 | D93: =D94+D95+D96 -> 0 | E93: =E94+E95+E96 -> 0
A94: 680, 681, 682 | B94: 1. Приходи од усклађивања вриједности нематеријалних средстава, некретнина, биолошких средстава, постројења, опреме и инвестиционих некретнина | C94: 276
A95: 683 | B95: 2. Приходи од усклађивања вриједности дугорочних финансијских пласмана и финансијских средстава расположивих за продају | C95: 277
A96: 684 до 689 | B96: 3. Остали приходи од усклађивања вриједности имовине | C96: 278
A97: 58 | B97: II - РАСХОДИ ОД УСКЛАЂИВАЊА ВРИЈЕДНОСТИ ИМОВИНЕ (280 до 282) | C97: 279 | D97: =D98+D99+D100 -> 0 | E97: =E98+E99+E100 -> 0
A98: 580, 581, 582 | B98: 1. Обезврјеђење нематеријалних средстава, некретнина, постројења, опреме и инвестиционих некретнина | C98: 280
A99: 583 | B99: 2. Обезврјеђење дугорочних финансијских пласмана и финансијских средстава расположивих за продају | C99: 281
A100: 584 до 589 | B100: 3. Остали расходи по основу усклађивања вриједности имовине | C100: 282
B101: III - ДОБИТАК ПО ОСНОВУ УСКЛАЂИВАЊА ВРИЈЕДНОСТИ ИМОВИНЕ (275-279) | C101: 283 | D101: =IF((D93-D97)>0,D93-D97,0) -> 0 | E101: =IF((E93-E97)>0,E93-E97,0) -> 0
...

Sheet БУ-Д-УКУПНО
E1: Образац:БУ-Д
A2: Назив друштва/субјекта: | C2: =IF('БУ-Д-Н'!C2="","",'БУ-Д-Н'!C2) -> "НЕШКОВИЋ ОСИГУРАЊЕ" А.Д. Бијељина | D2: =IF('БУ-Д-Н'!D2="","",'БУ-Д-Н'!D2) -> "НЕШКОВИЋ ОСИГУРАЊЕ" А.Д. Бијељина | E2: =IF('БУ-Д-Н'!E2="","",'БУ-Д-Н'!E2) -> "НЕШКОВИЋ ОСИГУРАЊЕ" А.Д. Бијељина
A3: Ознака друштва/субјекта: | C3: =IF('БУ-Д-Н'!C3="","",'БУ-Д-Н'!C3) -> РД-1 | D3: =IF('БУ-Д-Н'!D3="","",'БУ-Д-Н'!D3) -> РД-1 | E3: =IF('БУ-Д-Н'!E3="","",'БУ-Д-Н'!E3) -> РД-1
A4: Период за који се подаци достављају од: | C4: =IF('БУ-Д-Н'!C4="","",'БУ-Д-Н'!C4) -> 46023 | D4: =IF('БУ-Д-Н'!D4="","",'БУ-Д-Н'!D4) | E4: =IF('БУ-Д-Н'!E4="","",'БУ-Д-Н'!E4)
A5: Период за који се подаци достављају до: | C5: =IF('БУ-Д-Н'!C5="","",'БУ-Д-Н'!C5) -> 46203 | D5: =IF('БУ-Д-Н'!D5="","",'БУ-Д-Н'!D5) | E5: =IF('БУ-Д-Н'!E5="","",'БУ-Д-Н'!E5)
A6: Редни број: | C6: =IF('БУ-Д-Н'!C6="","",'БУ-Д-Н'!C6) -> 1 | D6: =IF('БУ-Д-Н'!D6="","",'БУ-Д-Н'!D6) | E6: =IF('БУ-Д-Н'!E6="","",'БУ-Д-Н'!E6)
A7: Саставио: | C7: =IF('БУ-Д-Н'!C7="","",'БУ-Д-Н'!C7) -> Ј.Шкиљевић | D7: =IF('БУ-Д-Н'!D7="","",'БУ-Д-Н'!D7) | E7: =IF('БУ-Д-Н'!E7="","",'БУ-Д-Н'!E7)
A8: Одговорно лице: | C8: =IF('БУ-Д-Н'!C8="","",'БУ-Д-Н'!C8) -> Миленко Мишановић | D8: =IF('БУ-Д-Н'!D8="","",'БУ-Д-Н'!D8) | E8: =IF('БУ-Д-Н'!E8="","",'БУ-Д-Н'!E8)
A9: Актуар: | C9: =IF('БУ-Д-Н'!C9="","",'БУ-Д-Н'!C9) -> Вања Драгичевић | D9: =IF('БУ-Д-Н'!D9="","",'БУ-Д-Н'!D9) | E9: =IF('БУ-Д-Н'!E9="","",'БУ-Д-Н'!E9)
A10: Датум попуњавања: | C10: =IF('БУ-Д-Н'!C10="","",'БУ-Д-Н'!C10) -> 46226 | D10: =IF('БУ-Д-Н'!D10="","",'БУ-Д-Н'!D10) | E10: =IF('БУ-Д-Н'!E10="","",'БУ-Д-Н'!E10)
A11: Мјесто попуњавања: | C11: =IF('БУ-Д-Н'!C11="","",'БУ-Д-Н'!C11) -> Бијељина | D11: =IF('БУ-Д-Н'!D11="","",'БУ-Д-Н'!D11) | E11: =IF('БУ-Д-Н'!E11="","",'БУ-Д-Н'!E11)
A12: Контакт: | C12: =IF('БУ-Д-Н'!C12="","",'БУ-Д-Н'!C12) -> office@neskovicosiguranje.com | D12: =IF('БУ-Д-Н'!D12="","",'БУ-Д-Н'!D12) | E12: =IF('БУ-Д-Н'!E12="","",'БУ-Д-Н'!E12)
A14: Биланс успјеха
A15: КМ
A16: Група рачуна, рачун | B16: Позиција | C16: Ознака АОП | D16: Износ
A17: Група рачуна, рачун | B17: Позиција | C17: Ознака АОП | D17: Текућа година | E17: Претходна година
A18: 1 | B18: 2 | C18: 3 | D18: 4 | E18: 5
B19: А. ПОСЛОВНИ ПРИХОДИ И РАСХОДИ I - ПОСЛОВНИ ПРИХОДИ (202+208+209+210+211+212) | C19: 201 | D19: ='БУ-Д-Н'!D19+'БУ-Д-Ж'!D19 -> 11657446 | E19: ='БУ-Д-Н'!E19+'БУ-Д-Ж'!E19 -> 11181788
A20: 60 | B20: 1. Приходи од премије осигурања, саосигурања, реосигурања и ретроцесија животних осигурања (203 до 207) | C20: 202 | D20: ='БУ-Д-Н'!D20+'БУ-Д-Ж'!D20 -> 0 | E20: ='БУ-Д-Н'!E20+'БУ-Д-Ж'!E20 -> 0
A21: 600, 602, 605 | B21: а) Приходи од премије осигурања, саосигурања, реосигурања и ретроцесија животних осигурања | C21: 203 | D21: ='БУ-Д-Н'!D21+'БУ-Д-Ж'!D21 -> 0 | E21: ='БУ-Д-Н'!E21+'БУ-Д-Ж'!E21 -> 0
A22: 601 | B22: б) Приходи од премија добровољног пензијског осигурања | C22: 204 | D22: ='БУ-Д-Н'!D22+'БУ-Д-Ж'!D22 -> 0 | E22: ='БУ-Д-Н'!E22+'БУ-Д-Ж'!E22 -> 0
A23: 603 | B23: в) Приходи по основу учешћа саосигурања и реосигурања у накнади штета животних осигурања | C23: 205 | D23: ='БУ-Д-Н'!D23+'БУ-Д-Ж'!D23 -> 0 | E23: ='БУ-Д-Н'!E23+'БУ-Д-Ж'!E23 -> 0
A24: 604 | B24: г) Приходи од укидања и смањења резервисања животних осигурања, реосигурања и ретроцесија | C24: 206 | D24: ='БУ-Д-Н'!D24+'БУ-Д-Ж'!D24 -> 0 | E24: ='БУ-Д-Н'!E24+'БУ-Д-Ж'!E24 -> 0
A25: 606 до 609 | B25: д) Остали приходи по основу животног осигурања | C25: 207 | D25: ='БУ-Д-Н'!D25+'БУ-Д-Ж'!D25 -> 0 | E25: ='БУ-Д-Н'!E25+'БУ-Д-Ж'!E25 -> 0
A26: 610 до 619 | B26: 2. Приходи од премијa осигурања, саосигурања, реосигурања и ретроцесија неживотних осигурања | C26: 208 | D26: ='БУ-Д-Н'!D26+'БУ-Д-Ж'!D26 -> 9767730 | E26: ='БУ-Д-Н'!E26+'БУ-Д-Ж'!E26 -> 10454456
A27: 620 до 629 | B27: 3. Приходи по основу учешћа саосигурања, реосигурања и ретроцесија у накнади штета неживотних осигурања | C27: 209 | D27: ='БУ-Д-Н'!D27+'БУ-Д-Ж'!D27 -> 0 | E27: ='БУ-Д-Н'!E27+'БУ-Д-Ж'!E27 -> 0
A28: 630 до 639 | B28: 4. Приходи од укидања и смањења резервисања неживотних осигурања | C28: 210 | D28: ='БУ-Д-Н'!D28+'БУ-Д-Ж'!D28 -> 1201657 | E28: ='БУ-Д-Н'!E28+'БУ-Д-Ж'!E28 -> 0
A29: 640 до 649 | B29: 5. Приходи од поврата пореских и других дажбина и приходи од премија, субвенција, дотација, донација и сл. | C29: 211 | D29: ='БУ-Д-Н'!D29+'БУ-Д-Ж'!D29 -> 33490 | E29: ='БУ-Д-Н'!E29+'БУ-Д-Ж'!E29 -> 22929
A30: 650 до 659 | B30: 6. Други пословни приходи | C30: 212 | D30: ='БУ-Д-Н'!D30+'БУ-Д-Ж'!D30 -> 654569 | E30: ='БУ-Д-Н'!E30+'БУ-Д-Ж'!E30 -> 704403
B31: II - ПОСЛОВНИ РАСХОДИ (214+236) | C31: 213 | D31: ='БУ-Д-Н'!D31+'БУ-Д-Ж'!D31 -> 5649398 | E31: ='БУ-Д-Н'!E31+'БУ-Д-Ж'!E31 -> 5448528
B32: 1. Функционални расходи (215+225+231) | C32: 214 | D32: ='БУ-Д-Н'!D32+'БУ-Д-Ж'!D32 -> 3443137 | E32: ='БУ-Д-Н'!E32+'БУ-Д-Ж'!E32 -> 3631656
A33: 50 | B33: 1.1. Расходи за дугорочна резервисања и функционалне доприносе (216 до 224) | C33: 215 | D33: ='БУ-Д-Н'!D33+'БУ-Д-Ж'!D33 -> 92222 | E33: ='БУ-Д-Н'!E33+'БУ-Д-Ж'!E33 -> 95632
A34: 500 | B34: а) Математичка резерва животних осигурања, осим добровољног пензијског осигурања | C34: 216 | D34: ='БУ-Д-Н'!D34+'БУ-Д-Ж'!D34 -> 0 | E34: ='БУ-Д-Н'!E34+'БУ-Д-Ж'!E34 -> 0
A35: 501 | B35: б) Математичка резерва добровољног пензијског осигурања | C35: 217 | D35: ='БУ-Д-Н'!D35+'БУ-Д-Ж'!D35 -> 0 | E35: ='БУ-Д-Н'!E35+'БУ-Д-Ж'!E35 -> 0
A36: 502 | B36: в) Допринос за превентиву | C36: 218 | D36: ='БУ-Д-Н'!D36+'БУ-Д-Ж'!D36 -> 10172 | E36: ='БУ-Д-Н'!E36+'БУ-Д-Ж'!E36 -> 10204
A37: 503 | B37: г) Ватрогасни допринос | C37: 219 | D37: ='БУ-Д-Н'!D37+'БУ-Д-Ж'!D37 -> 3497 | E37: ='БУ-Д-Н'!E37+'БУ-Д-Ж'!E37 -> 3354
A38: 504 | B38: д) Допринос Заштитном фонду | C38: 220 | D38: ='БУ-Д-Н'!D38+'БУ-Д-Ж'!D38 -> 40879 | E38: ='БУ-Д-Н'!E38+'БУ-Д-Ж'!E38 -> 46191
A39: 505 | B39: ђ) Расходи за дугорочна резервисања за изравнање ризика | C39: 221 | D39: ='БУ-Д-Н'!D39+'БУ-Д-Ж'!D39 -> 0 | E39: ='БУ-Д-Н'!E39+'БУ-Д-Ж'!E39 -> 0
A40: 506 | B40: е) Доприноси прописани посебним законима | C40: 222 | D40: ='БУ-Д-Н'!D40+'БУ-Д-Ж'!D40 -> 0 | E40: ='БУ-Д-Н'!E40+'БУ-Д-Ж'!E40 -> 0
A41: 507 | B41: ж) Повећање других техничких резерви | C41: 223 | D41: ='БУ-Д-Н'!D41+'БУ-Д-Ж'!D41 -> 0 | E41: ='БУ-Д-Н'!E41+'БУ-Д-Ж'!E41 -> 0
A42: 509 | B42: з) Остали расходи за дугорочна резервисања и функционалне доприносе | C42: 224 | D42: ='БУ-Д-Н'!D42+'БУ-Д-Ж'!D42 -> 37674 | E42: ='БУ-Д-Н'!E42+'БУ-Д-Ж'!E42 -> 35883
A43: 51 | B43: 1.2. Накнаде штета, уговорених износа и премија саосигурања и реосигурања (226 до 230) | C43: 225 | D43: ='БУ-Д-Н'!D43+'БУ-Д-Ж'!D43 -> 0 | E43: ='БУ-Д-Н'!E43+'БУ-Д-Ж'!E43 -> 0
A44: 510,513 | B44: а) Накнаде штета, уговорених износа и удјела у штетама животних осигурања | C44: 226 | D44: ='БУ-Д-Н'!D44+'БУ-Д-Ж'!D44 -> 0 | E44: ='БУ-Д-Н'!E44+'БУ-Д-Ж'!E44 -> 0
... A53: 526, 527, 529 | B53: г) Резервисања за штете, удјеле у штети и остала резервисања по основу неживотних осигурања | C53: 235 | D53: ='БУ-Д-Н'!D53+'БУ-Д-Ж'!D53 -> 0 | E53: ='БУ-Д-Н'!E53+'БУ-Д-Ж'!E53 -> 471652
B54: 2. Трошкови спровођења осигурања (237+240+246) | C54: 236 | D54: ='БУ-Д-Н'!D54+'БУ-Д-Ж'!D54 -> 2206261 | E54: ='БУ-Д-Н'!E54+'БУ-Д-Ж'!E54 -> 1816872
A55: 53 | B55: 2.1. Трошкови амортизације и резервисања (238+239) | C55: 237 | D55: ='БУ-Д-Н'!D55+'БУ-Д-Ж'!D55 -> 148066 | E55: ='БУ-Д-Н'!E55+'БУ-Д-Ж'!E55 -> 143983
A56: 530 | B56: а) Трошкови амортизације | C56: 238 | D56: ='БУ-Д-Н'!D56+'БУ-Д-Ж'!D56 -> 148066 | E56: ='БУ-Д-Н'!E56+'БУ-Д-Ж'!E56 -> 143983
A57: 533 до 539 | B57: б) Трошкови резервисања | C57: 239 | D57: ='БУ-Д-Н'!D57+'БУ-Д-Ж'!D57 -> 0 | E57: ='БУ-Д-Н'!E57+'БУ-Д-Ж'!E57 -> 0
A58: 54 | B58: 2.2. Трошкови материјала, енергије, услуга и нематеријални трошкови (241 до 245) | C58: 240 | D58: ='БУ-Д-Н'!D58+'БУ-Д-Ж'!D58 -> 938098 | E58: ='БУ-Д-Н'!E58+'БУ-Д-Ж'!E58 -> 754876
A59: 540 | B59: а) Трошкови материјала, горива и енергије | C59: 241 | D59: ='БУ-Д-Н'!D59+'БУ-Д-Ж'!D59 -> 283501 | E59: ='БУ-Д-Н'!E59+'БУ-Д-Ж'!E59 -> 273814
A60: 541 | B60: б) Трошкови провизија | C60: 242 | D60: ='БУ-Д-Н'!D60+'БУ-Д-Ж'!D60 -> 11063 | E60: ='БУ-Д-Н'!E60+'БУ-Д-Ж'!E60 -> 0
A61: 542,543 | B61: в) Трошкови производних услуга, рекламе и пропаганде | C61: 243 | D61: ='БУ-Д-Н'!D61+'БУ-Д-Ж'!D61 -> 23467 | E61: ='БУ-Д-Н'!E61+'БУ-Д-Ж'!E61 -> 21659
A62: 544, 545, 547, 548, 549 | B62: г) Нематеријални трошкови | C62: 244 | D62: ='БУ-Д-Н'!D62+'БУ-Д-Ж'!D62 -> 551679 | E62: ='БУ-Д-Н'!E62+'БУ-Д-Ж'!E62 -> 396076
A63: 546 | B63: д) Трошкови пореза и доприноса | C63: 245 | D63: ='БУ-Д-Н'!D63+'БУ-Д-Ж'!D63 -> 68388 | E63: ='БУ-Д-Н'!E63+'БУ-Д-Ж'!E63 -> 63327
A64: 55 | B64: 2.3. Трошкови зарада, накнада зарада и остали лични расходи (247+248) | C64: 246 | D64: ='БУ-Д-Н'!D64+'БУ-Д-Ж'!D64 -> 1120097 | E64: ='БУ-Д-Н'!E64+'БУ-Д-Ж'!E64 -> 918013
A65: 550 | B65: а) Трошкови бруто зарада и накнада зарада | C65: 247 | D65: ='БУ-Д-Н'!D65+'БУ-Д-Ж'!D65 -> 1076586 | E65: ='БУ-Д-Н'!E65+'БУ-Д-Ж'!E65 -> 888457
A66: 552 до 559 | B66: б) Остали лични расходи и накнаде | C66: 248 | D66: ='БУ-Д-Н'!D66+'БУ-Д-Ж'!D66 -> 43511 | E66: ='БУ-Д-Н'!E66+'БУ-Д-Ж'!E66 -> 29556
B67: III - ПОСЛОВНИ ДОБИТАК (201-213) | C67: 249 | D67: =IF(('БУ-Д-Н'!D67+'БУ-Д-Ж'!D67)>0,'БУ-Д-Н'!D67+'БУ-Д-Ж'!D67,0) -> 6008048 | E67: =IF(('БУ-Д-Н'!E67+'БУ-Д-Ж'!E67)>0,'БУ-Д-Н'!E67+'БУ-Д-Ж'!E67,0) -> 5733260
B68: IV - ПОСЛОВНИ ГУБИТАК (213-201) | C68: 250 | D68: =IF(('БУ-Д-Н'!D68+'БУ-Д-Ж'!D68)>0,'БУ-Д-Н'!D68+'БУ-Д-Ж'!D68,0) -> 0 | E68: =IF(('БУ-Д-Н'!E68+'БУ-Д-Ж'!E68)>0,'БУ-Д-Н'!E68+'БУ-Д-Ж'!E68,0) -> 0
A69: 66 | B69: Б. ФИНАНСИЈСКИ ПРИХОДИ И РАСХОДИ I - ФИНАНАСИЈСКИ ПРИХОДИ (252 до 255) | C69: 251 | D69: ='БУ-Д-Н'!D69+'БУ-Д-Ж'!D69 -> 485842 | E69: ='БУ-Д-Н'!E69+'БУ-Д-Ж'!E69 -> 379523
A70: 660,661 | B70: 1. Финансијски приходи од матичних, зависних и осталих повезаних правних лица | C70: 252 | D70: ='БУ-Д-Н'!D70+'БУ-Д-Ж'!D70 -> 148480 | E70: ='БУ-Д-Н'!E70+'БУ-Д-Ж'!E70 -> 162032
A71: 662 | B71: 2. Приход од камата | C71: 253 | D71: ='БУ-Д-Н'!D71+'БУ-Д-Ж'!D71 -> 240766 | E71: ='БУ-Д-Н'!E71+'БУ-Д-Ж'!E71 -> 217304
A72: 663 | B72: 3. Позитивне курсне разлике | C72: 254 | D72: ='БУ-Д-Н'!D72+'БУ-Д-Ж'!D72 -> 96551 | E72: ='БУ-Д-Н'!E72+'БУ-Д-Ж'!E72 -> 59
A73: 664,665,669 | B73: 4. Остали финансијски приходи | C73: 255 | D73: ='БУ-Д-Н'!D73+'БУ-Д-Ж'!D73 -> 45 | E73: ='БУ-Д-Н'!E73+'БУ-Д-Ж'!E73 -> 128
A74: 56 | B74: II - ФИНАНСИЈСКИ РАСХОДИ (257 до 260) | C74: 256 | D74: ='БУ-Д-Н'!D74+'БУ-Д-Ж'!D74 -> 46745 | E74: ='БУ-Д-Н'!E74+'БУ-Д-Ж'!E74 -> 219682
A75: 560,561 | B75: 1. Финансијски расходи из односа са матичним, зависним и осталим повезаним правним лицима | C75: 257 | D75: ='БУ-Д-Н'!D75+'БУ-Д-Ж'!D75 -> 0 | E75: ='БУ-Д-Н'!E75+'БУ-Д-Ж'!E75 -> 0
A76: 562 | B76: 2. Расходи камата | C76: 258 | D76: ='БУ-Д-Н'!D76+'БУ-Д-Ж'!D76 -> 3309 | E76: ='БУ-Д-Н'!E76+'БУ-Д-Ж'!E76 -> 4176
A77: 563 | B77: 3. Негативне курсне разлике | C77: 259 | D77: ='БУ-Д-Н'!D77+'БУ-Д-Ж'!D77 -> 43432 | E77: ='БУ-Д-Н'!E77+'БУ-Д-Ж'!E77 -> 215500
A78: 564, 565, 569 | B78: 4. Остали финансијски расходи | C78: 260 | D78: ='БУ-Д-Н'!D78+'БУ-Д-Ж'!D78 -> 4 | E78: ='БУ-Д-Н'!E78+'БУ-Д-Ж'!E78 -> 6
B79: III - ДОБИТАК РЕДОВНЕ АКТИВНОСТИ (249+251-256) или (251-256-250) | C79: 261 | D79: =IF((('БУ-Д-Н'!D69+'БУ-Д-Ж'!D69)-('БУ-Д-Н'!D74+'БУ-Д-Ж'!D74)+('БУ-Д-Н'!D67+'БУ-Д-Ж'!D67)-('БУ-Д-Н'!D68+'БУ-Д-Ж'!D68))>0,('БУ-Д-Н'!D69+'БУ-Д-Ж'!D69)-('БУ-Д-Н'!D74+'БУ-Д-Ж'!D74)+('БУ-Д-Н'!D67+'БУ-Д-Ж'!D67)-('БУ-Д-Н'!D68+'БУ-Д-Ж'!D68),0) -> 6447145 | E79: =IF((('БУ-Д-Н'!E69+'БУ-Д-Ж'!E69)-('БУ-Д-Н'!E74+'БУ-Д-Ж'!E74)+('БУ-Д-Н'!E67+'БУ-Д-Ж'!E67)-('БУ-Д-Н'!E68+'БУ-Д-Ж'!E68))>0,('БУ-Д-Н'!E69+'БУ-Д-Ж'!E69)-('БУ-Д-Н'!E74+'БУ-Д-Ж'!E74)+('БУ-Д-Н'!E67+'БУ-Д-Ж'!E67)-('БУ-Д-Н'!E68+'БУ-Д-Ж'!E68),0) -> 5893101
B80: IV - ГУБИТАК РЕДОВНЕ АКТИВНОСТИ (250+256-251) или (256-251-249) | C80: 262 | D80: =IF((('БУ-Д-Н'!D74+'БУ-Д-Ж'!D74)-('БУ-Д-Н'!D69+'БУ-Д-Ж'!D69)+('БУ-Д-Н'!D68+'БУ-Д-Ж'!D68)-('БУ-Д-Н'!D67+'БУ-Д-Ж'!D67))>0,('БУ-Д-Н'!D74+'БУ-Д-Ж'!D74)-('БУ-Д-Н'!D69+'БУ-Д-Ж'!D69)+('БУ-Д-Н'!D68+'БУ-Д-Ж'!D68)-('БУ-Д-Н'!D67+'БУ-Д-Ж'!D67),0) -> 0 | E80: =IF((('БУ-Д-Н'!E74+'БУ-Д-Ж'!E74)-('БУ-Д-Н'!E69+'БУ-Д-Ж'!E69)+('БУ-Д-Н'!E68+'БУ-Д-Ж'!E68)-('БУ-Д-Н'!E67+'БУ-Д-Ж'!E67))>0,('БУ-Д-Н'!E74+'БУ-Д-Ж'!E74)-('БУ-Д-Н'!E69+'БУ-Д-Ж'!E69)+('БУ-Д-Н'!E68+'БУ-Д-Ж'!E68)-('БУ-Д-Н'!E67+'БУ-Д-Ж'!E67),0) -> 0
A81: 67 | B81: В. ОСТАЛИ ПРИХОДИ И РАСХОДИ I - ОСТАЛИ ПРИХОДИ (264 до 267) | C81: 263 | D81: ='БУ-Д-Н'!D81+'БУ-Д-Ж'!D81 -> 27155 | E81: ='БУ-Д-Н'!E81+'БУ-Д-Ж'!E81 -> 10747
A82: 670,671 | B82: 1. Добици од продаје нематеријалних средстава, некретнина, биолошких средстава, постројења и опреме и инвестиционих некретнина | C82: 264 | D82: ='БУ-Д-Н'!D82+'БУ-Д-Ж'!D82 -> 0 | E82: ='БУ-Д-Н'!E82+'БУ-Д-Ж'!E82 -> 256
A83: 672 | B83: 2. Добици од продаје учешћа и дугорочних хартија од вриједности | C83: 265 | D83: ='БУ-Д-Н'!D83+'БУ-Д-Ж'!D83 -> 16591 | E83: ='БУ-Д-Н'!E83+'БУ-Д-Ж'!E83 -> 0
A84: 676 | B84: 3. Приходи по основу ефеката уговорене заштите од ризика | C84: 266 | D84: ='БУ-Д-Н'!D84+'БУ-Д-Ж'!D84 -> 0 | E84: ='БУ-Д-Н'!E84+'БУ-Д-Ж'!E84 -> 0
A85: 673, 674, 675, 677, 678, 679 | B85: 4. Остали приходи | C85: 267 | D85: ='БУ-Д-Н'!D85+'БУ-Д-Ж'!D85 -> 10564 | E85: ='БУ-Д-Н'!E85+'БУ-Д-Ж'!E85 -> 10491
A86: 57 | B86: II - ОСТАЛИ РАСХОДИ (269 до 272) | C86: 268 | D86: ='БУ-Д-Н'!D86+'БУ-Д-Ж'!D86 -> 53673 | E86: ='БУ-Д-Н'!E86+'БУ-Д-Ж'!E86 -> 29946
A87: 570,571 | B87: 1. Губици по основу расходовања и продаје нематеријалних средстава, некретнина, билошких средстава, постројења, опреме и инвестиционих | C87: 269 | D87: ='БУ-Д-Н'!D87+'БУ-Д-Ж'!D87 -> 0 | E87: ='БУ-Д-Н'!E87+'БУ-Д-Ж'!E87 -> 0
A88: 572 | B88: 2. Губици по основу продаје учешћа у капиталу и хартија од вриједности | C88: 270 | D88: ='БУ-Д-Н'!D88+'БУ-Д-Ж'!D88 -> 49 | E88: ='БУ-Д-Н'!E88+'БУ-Д-Ж'!E88 -> 2276
A89: 575 | B89: 3. Расходи по основу ефеката уговорене заштите од ризика | C89: 271 | D89: ='БУ-Д-Н'!D89+'БУ-Д-Ж'!D89 -> 0 | E89: ='БУ-Д-Н'!E89+'БУ-Д-Ж'!E89 -> 0
A90: 573, 574, 576, 577 и 579 | B90: 4. Остали расходи | C90: 272 | D90: ='БУ-Д-Н'!D90+'БУ-Д-Ж'!D90 -> 53624 | E90: ='БУ-Д-Н'!E90+'БУ-Д-Ж'!E90 -> 27670
B91: III - ДОБИТАК ПО ОСНОВУ ОСТАЛИХ ПРИХОДА И РАСХОДА (263-268) | C91: 273 | D91: =IF((('БУ-Д-Н'!D91+'БУ-Д-Ж'!D91)-('БУ-Д-Н'!D92+'БУ-Д-Ж'!D92))>0,('БУ-Д-Н'!D91+'БУ-Д-Ж'!D91)-('БУ-Д-Н'!D92+'БУ-Д-Ж'!D92),0) -> 0 | E91: =IF((('БУ-Д-Н'!E91+'БУ-Д-Ж'!E91)-('БУ-Д-Н'!E92+'БУ-Д-Ж'!E92))>0,('БУ-Д-Н'!E91+'БУ-Д-Ж'!E91)-('БУ-Д-Н'!E92+'БУ-Д-Ж'!E92),0) -> 0
B92: IV - ГУБИТАК ПО ОСНОВУ ОСТАЛИХ ПРИХОДА И РАСХОДА (268-263) | C92: 274 | D92: =IF((('БУ-Д-Н'!D92+'БУ-Д-Ж'!D92)-('БУ-Д-Н'!D91+'БУ-Д-Ж'!D91))>0,('БУ-Д-Н'!D92+'БУ-Д-Ж'!D92)-('БУ-Д-Н'!D91+'БУ-Д-Ж'!D91),0) -> 26518 | E92: =IF((('БУ-Д-Н'!E92+'БУ-Д-Ж'!E92)-('БУ-Д-Н'!E91+'БУ-Д-Ж'!E91))>0,('БУ-Д-Н'!E92+'БУ-Д-Ж'!E92)-('БУ-Д-Н'!E91+'БУ-Д-Ж'!E91),0) -> 19199
A93: 68 | B93: Г. ПРИХОДИ И РАСХОДИ ОД УСКЛАЂИВАЊА ВРИЈЕДНОСТИ ИМОВИНЕ I - ПРИХОДИ ОД УСКЛАЂИВАЊА ВРИЈЕДНОСТИ ИМОВИНЕ (276 до 278) | C93: 275 | D93: ='БУ-Д-Н'!D93+'БУ-Д-Ж'!D93 -> 0 | E93: ='БУ-Д-Н'!E93+'БУ-Д-Ж'!E93 -> 0
A94: 680, 681, 682 | B94: 1. Приходи од усклађивања вриједности нематеријалних средстава, некретнина, биолошких средстава, постројења, опреме и инвестиционих некретнина | C94: 276 | D94: ='БУ-Д-Н'!D94+'БУ-Д-Ж'!D94 -> 0 | E94: ='БУ-Д-Н'!E94+'БУ-Д-Ж'!E94 -> 0
A95: 683 | B95: 2. Приходи од усклађивања вриједности дугорочних финансијских пласмана и финансијских средстава расположивих за продају | C95: 277 | D95: ='БУ-Д-Н'!D95+'БУ-Д-Ж'!D95 -> 0 | E95: ='БУ-Д-Н'!E95+'БУ-Д-Ж'!E95 -> 0
A96: 684 до 689 | B96: 3. Остали приходи од усклађивања вриједности имовине | C96: 278 | D96: ='БУ-Д-Н'!D96+'БУ-Д-Ж'!D96 -> 0 | E96: ='БУ-Д-Н'!E96+'БУ-Д-Ж'!E96 -> 0
A97: 58 | B97: II - РАСХОДИ ОД УСКЛАЂИВАЊА ВРИЈЕДНОСТИ ИМОВИНЕ (280 до 282) | C97: 279 | D97: ='БУ-Д-Н'!D97+'БУ-Д-Ж'!D97 -> 0 | E97: ='БУ-Д-Н'!E97+'БУ-Д-Ж'!E97 -> 0
A98: 580, 581, 582 | B98: 1. Обезврјеђење нематеријалних средстава, некретнина, постројења, опреме и инвестиционих некретнина | C98: 280 | D98: ='БУ-Д-Н'!D98+'БУ-Д-Ж'!D98 -> 0 | E98: ='БУ-Д-Н'!E98+'БУ-Д-Ж'!E98 -> 0
A99: 583 | B99: 2. Обезврјеђење дугорочних финансијских пласмана и финансијских средстава расположивих за продају | C99: 281 | D99: ='БУ-Д-Н'!D99+'БУ-Д-Ж'!D99 -> 0 | E99: ='БУ-Д-Н'!E99+'БУ-Д-Ж'!E99 -> 0
A100: 584 до 589 | B100: 3. Остали расходи по основу усклађивања вриједности имовине | C100: 282 | D100: ='БУ-Д-Н'!D100+'БУ-Д-Ж'!D100 -> 0 | E100: ='БУ-Д-Н'!E100+'БУ-Д-Ж'!E100 -> 0
B101: III - ДОБИТАК ПО ОСНОВУ УСКЛАЂИВАЊА ВРИЈЕДНОСТИ ИМОВИНЕ (275-279) | C101: 283 | D101: =IF(('БУ-Д-Н'!D101+'БУ-Д-Ж'!D101)>0,'БУ-Д-Н'!D101+'БУ-Д-Ж'!D101,0) -> 0 | E101: =IF(('БУ-Д-Н'!E101+'БУ-Д-Ж'!E101)>0,'БУ-Д-Н'!E101+'БУ-Д-Ж'!E101,0) -> 0
B102: IV - ГУБИТАК ПО ОСНОВУ УСКЛАЂИВАЊА ВРИЈЕДНОСТИ ИМОВИНЕ (279-275) | C102: 284 | D102: =IF(('БУ-Д-Н'!D102+'БУ-Д-Ж'!D102)>0,'БУ-Д-Н'!D102+'БУ-Д-Ж'!D102,0) -> 0 | E102: =IF(('БУ-Д-Н'!E102+'БУ-Д-Ж'!E102)>0,'БУ-Д-Н'!E102+'БУ-Д-Ж'!E102,0) -> 0
A103: 690 | B103: Д. Добитак пословања које се обуставља | C103: 285 | D103: ='БУ-Д-Н'!D103+'БУ-Д-Ж'!D103 -> 0 | E103: ='БУ-Д-Н'!E103+'БУ-Д-Ж'!E103 -> 0
A104: 590 | B104: Ђ. ГУБИТАК ПОСЛОВАЊА КОЈЕ СЕ ОБУСТАВЉА | C104: 286 | D104: ='БУ-Д-Н'!D104+'БУ-Д-Ж'!D104 -> 0 | E104: ='БУ-Д-Н'!E104+'БУ-Д-Ж'!E104 -> 0
A105: 691,692 | B105: Е. Приходи по основу промјене рачуноводствених политика и исправке грешака из ранијих година | C105: 287 | D105: ='БУ-Д-Н'!D105+'БУ-Д-Ж'!D105 -> 0 | E105: ='БУ-Д-Н'!E105+'БУ-Д-Ж'!E105 -> 0
A106: 591,592 | B106: Ж. Расходи по основу промјене рачуноводствених политика и исправке грешака из ранијих година | C106: 288 | D106: ='БУ-Д-Н'!D106+'БУ-Д-Ж'!D106 -> 0 | E106: ='БУ-Д-Н'!E106+'БУ-Д-Ж'!E106 -> 0
B107: З. ДОБИТАК И ГУБИТАК ПРИЈЕ ОПОРЕЗИВАЊА 1. Добитак прије опорезивања (261+273+283+285+287-262-274-284-286-288) | C107: 289 | D107: =IF((('БУ-Д-Н'!D107+'БУ-Д-Ж'!D107)-('БУ-Д-Н'!D108+'БУ-Д-Ж'!D108))>0,('БУ-Д-Н'!D107+'БУ-Д-Ж'!D107)-('БУ-Д-Н'!D108+'БУ-Д-Ж'!D108),0) -> 6420627 | E107: =IF((('БУ-Д-Н'!E107+'БУ-Д-Ж'!E107)-('БУ-Д-Н'!E108+'БУ-Д-Ж'!E108))>0,('БУ-Д-Н'!E107+'БУ-Д-Ж'!E107)-('БУ-Д-Н'!E108+'БУ-Д-Ж'!E108),0) -> 5873902
B108: 2. Губитак прије опорезивања (262+274+284+286+288-261-273-283-285-287) | C108: 290 | D108: =IF((('БУ-Д-Н'!D108+'БУ-Д-Ж'!D108)-('БУ-Д-Н'!D107+'БУ-Д-Ж'!D107))>0,('БУ-Д-Н'!D108+'БУ-Д-Ж'!D108)-('БУ-Д-Н'!D107+'БУ-Д-Ж'!D107),0) -> 0 | E108: =IF((('БУ-Д-Н'!E108+'БУ-Д-Ж'!E108)-('БУ-Д-Н'!E107+'БУ-Д-Ж'!E107))>0,('БУ-Д-Н'!E108+'БУ-Д-Ж'!E108)-('БУ-Д-Н'!E107+'БУ-Д-Ж'!E107),0) -> 0
A109: 721 | B109: И. ТЕКУЋИ И ОДЛОЖЕНИ ПОРЕЗ НА ДОБИТ 1. Порески расходи периода | C109: 291 | D109: ='БУ-Д-Н'!D109+'БУ-Д-Ж'!D109 -> 242034 | E109: ='БУ-Д-Н'!E109+'БУ-Д-Ж'!E109 -> 247902
...
