Workbook
Name Column1: 'БС-Актива-НЖ'!$A$16:$G$17
Name Column2: 'БС-Актива-Ж'!$A$16:$G$17
Name Column3: 'БС-Актива-Укупно'!$A$16:$G$17
Name Column4: 'БС-Пасива-НЖ'!$A$15:$E$16
Name Column5: 'БС-Пасива-Ж'!$A$15:$E$16
Name Column6: 'БС-Пасива-Укупно'!$A$15:$E$16
Name Data1: 'БС-Актива-НЖ'!$A$18:$G$84
Name Data2: 'БС-Актива-Ж'!$A$18:$G$84
Name Data3: 'БС-Актива-Укупно'!$A$18:$G$84
Name Data4: 'БС-Пасива-НЖ'!$A$17:$E$94
Name Data5: 'БС-Пасива-Ж'!$A$17:$E$94
Name Data6: 'БС-Пасива-Укупно'!$A$17:$E$94
Name Header: 'БС-Актива-НЖ'!$A$2:$G$11

Sheet config
A1: 4 | B1: 45393.487 | C1: 45404.355

Sheet БС-Актива-НЖ
G1: Образац:БС-Д
A2: Назив друштва/субјекта: | C2: "НЕШКОВИЋ ОСИГУРАЊЕ" А.Д. Бијељина | D2: "НЕШКОВИЋ ОСИГУРАЊЕ" А.Д. Бијељина | E2: "НЕШКОВИЋ ОСИГУРАЊЕ" А.Д. Бијељина | F2: "НЕШКОВИЋ ОСИГУРАЊЕ" А.Д. Бијељина | G2: "НЕШКОВИЋ ОСИГУРАЊЕ" А.Д. Бијељина
A3: Ознака друштва/субјекта: | C3: РД-1 | D3: РД-1 | E3: РД-1 | F3: РД-1 | G3: РД-1
A4: Стање на дан: | C4: 46203
A5: Редни број: | C5: 1
A6: Саставио: | C6: Ј.Шкиљевић
A7: Одговорно лице: | C7: Миленко Мишановић
A8: Актуар: | C8: Вања Драгичевић
A9: Датум попуњавања: | C9: 46226
A10: Мјесто попуњавања: | C10: Бијељина
A11: Контакт: | C11: office@neskovicosiguranje.com
A13: Биланс стања
A14: КМ
A15: Група рачуна, рачун | B15: ПОЗИЦИЈА | C15: Ознака за АОП | D15: Износ текуће године | G15: Износ претходне године (почетно стање)
A16: Група рачуна, рачун | B16: ПОЗИЦИЈА | C16: Ознака за АОП | D16: Бруто | E16: Исправка вриједности | F16: Нето | G16: Износ претходне године (почетно стање)
A17: 1 | B17: 2 | C17: 3 | D17: 4 | E17: 5 | F17: 6=(4-5) | G17: 7
B18: АКТИВА А. СТАЛНА ИМОВИНА (002+009+018+028+029) | C18: 001 | D18: =D19+D26+D35+D45+D46 -> 34255076 | E18: =E19+E26+E35+E45+E46 -> 6129361 | F18: =D18-E18 -> 28125715 | G18: =G19+G26+G35+G45+G46 -> 23926866
A19: 01 | B19: I - НЕМАТЕРИЈАЛНА СРЕДСТВА (003 до 008) | C19: 002 | D19: =D20+D21+D22+D23+D24+D25 -> 209374 | E19: =E20+E21+E22+E23+E24+E25 -> 187669 | F19: =D19-E19 -> 21705 | G19: =G20+G21+G22+G23+G24+G25 -> 25160
A20: 010, дио 019 | B20: 1. Улагања у развој | C20: 003 | F20: =D20-E20 -> 0
A21: 011, дио 019 | B21: 2. Концесије, патенти, лиценце и остала права | C21: 004 | F21: =D21-E21 -> 0
A22: 012, дио 019 | B22: 3. Goodwill | C22: 005 | F22: =D22-E22 -> 0
A23: 013, дио 019 | B23: 4. Софтвер и остала права | C23: 006 | D23: 138488 | E23: 124699 | F23: =D23-E23 -> 13789 | G23: 15970
A24: 014, дио 019 | B24: 5. Остала нематеријална средства | C24: 007 | D24: 70886 | E24: 62970 | F24: =D24-E24 -> 7916 | G24: 9190
A25: 015,016 дио 019 | B25: 6. Аванси и нематеријална средства у припреми | C25: 008 | F25: =D25-E25 -> 0
A26: 02 | B26: II - НЕКРЕТНИНЕ, ИНВЕСТИЦИОНЕ НЕКРЕТНИНЕ ПОСТРОЈЕЊА, ОПРЕМА И ОСТАЛА ОСНОВНА СРЕДСТВА (010 до 017) | C26: 009 | D26: =D27+D28+D29+D30+D31+D32+D33+D34 -> 23752217 | E26: =E27+E28+E29+E30+E31+E32+E33+E34 -> 5941692 | F26: =D26-E26 -> 17810525 | G26: =G27+G28+G29+G30+G31+G32+G33+G34 -> 17925735
A27: 020, дио 029 | B27: 1. Земљиште | C27: 010 | D27: 4273178 | F27: =D27-E27 -> 4273178 | G27: 4273178
A28: 021, дио 029 | B28: 2. Биолошка средства | C28: 011 | F28: =D28-E28 -> 0
A29: 022,дио 029 | B29: 3. Грађевински објекти | C29: 012 | D29: 7823080 | E29: 4726134 | F29: =D29-E29 -> 3096946 | G29: 3212533
A30: 023, дио 029 | B30: 4. Постројења и опрема | C30: 013 | D30: 1428763 | E30: 1215558 | F30: =D30-E30 -> 213205 | G30: 212828
A31: 024,дио 029 | B31: 5. Инвестиционе некретнине | C31: 014 | D31: 10062880 | F31: =D31-E31 -> 10062880 | G31: 10062880
A32: 025,дио 029 | B32: 6. Улагања на туђим некретнинама, постројењима и опреми | C32: 015 | F32: =D32-E32 -> 0
A33: 026,дио 029 | B33: 7. Остала основна средства | C33: 016 | F33: =D33-E33 -> 0
A34: 027,028 дио 029 | B34: 8. Аванси и некретнине, биолошка средства, постројења, опрема и инвестиционе некретнине у припреми | C34: 017 | D34: 164316 | F34: =D34-E34 -> 164316 | G34: 164316
A35: 03 | B35: III - ДУГОРОЧНИ ФИНАНСИЈСКИ ПЛАСМАНИ (019 до 027) | C35: 018 | D35: =D36+D37+D38+D39+D40+D41+D42+D43+D44 -> 10293485 | E35: =E36+E37+E38+E39+E40+E41+E42+E43+E44 -> 0 | F35: =D35-E35 -> 10293485 | G35: =G36+G37+G38+G39+G40+G41+G42+G43+G44 -> 5975971
A36: 030, дио 039 | B36: 1. Учешће у капиталу зависних правних лица | C36: 019 | D36: 600000 | F36: =D36-E36 -> 600000 | G36: 600000
A37: 031, дио 039 | B37: 2. Учешће у капиталу придружених правних лица | C37: 020 | F37: =D37-E37 -> 0
A38: 032, дио 039 | B38: 3. Учешће у капиталу осталих правних лица | C38: 021 | F38: =D38-E38 -> 0
A39: 033, дио 039 | B39: 4. Дугорочни финансијски пласмани матичним, зависним и осталим повезаним правним лицима | C39: 022 | F39: =D39-E39 -> 0 | G39: 400000
A40: 034, дио 039 | B40: 5. Дугорочни финансијски пласмани у земљи | C40: 023 | D40: 7282437 | F40: =D40-E40 -> 7282437 | G40: 2564664
A41: 035, дио 039 | B41: 6. Дугорочни финансијски пласмани у иностранству | C41: 024 | D41: 9779 | F41: =D41-E41 -> 9779 | G41: 9779
A42: 036, дио 039 | B42: 7. Финансијска средства која се држе до рока доспијећа | C42: 025 | D42: 2001269 | F42: =D42-E42 -> 2001269 | G42: 2001528
A43: 037, дио 039 | B43: 8. Финансијска средства располижива за продају | C43: 026 | F43: =D43-E43 -> 0
A44: 038, дио 039 | B44: 9. Остали дугорочни финансијски пласмани | C44: 027 | D44: 400000 | F44: =D44-E44 -> 400000 | G44: 400000
A45: 041,042 дио 049 | B45: IV - ОСТАЛА ДУГОРОЧНА СРЕДСТВА | C45: 028 | F45: =D45-E45 -> 0
A46: 040,дио 049 | B46: V - ОДЛОЖЕНА ПОРЕСКА СРЕДСТВА | C46: 029 | F46: =D46-E46 -> 0
B47: Б.ТЕКУЋА ИМОВИНА (031+036+062+063) | C47: 030 | D47: =D48+D53+D79+D80 -> 20062049 | E47: =E48+E53+E79+E80 -> 303208 | F47: =D47-E47 -> 19758841 | G47: =G48+G53+G79+G80 -> 24200926
A48: 10 до 15 | B48: I - ЗАЛИХЕ, СТАЛНА СРЕДСТВА И СРЕДСТВА ОБУСТАВЉЕНОГ ПОСЛОВАЊА НАМИЈЕЊЕНА ПРОДАЈИ (032 до 035) | C48: 031 | D48: =D49+D50+D51+D52 -> 1455 | E48: =E49+E50+E51+E52 -> 0 | F48: =D48-E48 -> 1455 | G48: =G49+G50+G51+G52 -> 2569
A49: 100 до 109 | B49: 1. Залихе материјала | C49: 032 | D49: 1455 | F49: =D49-E49 -> 1455 | G49: 2106
A50: 130 до 139 | B50: 2. Залихе остатака осигураних оштећених ствари | C50: 033 | F50: =D50-E50 -> 0
A51: 140 до 149 | B51: 3. Стална средства намјењена продаји и средства пословања које се обуставља | C51: 034 | F51: =D51-E51 -> 0
A52: 150 до 159 | B52: 4. Дати аванси | C52: 035 | F52: =D52-E52 -> 0 | G52: 463
A53: 20 до 26 | B53: II - КРАТКОРОЧНА ПОТРАЖИВАЊА, ПЛАСМАНИ И ГОТОВИНА (037+046+047+048+058+061) | C53: 036 | D53: =D54+D63+D64+D65+D75+D78 -> 19071659 | E53: =E54+E63+E64+E65+E75+E78 -> 303208 | F53: =D53-E53 -> 18768451 | G53: =G54+G63+G64+G65+G75+G78 -> 23469734
A54: 20 | B54: 1. Потраживања по основу премије, учешћа у накнади штете и остали купци (038 до 045) | C54: 037 | D54: =D55+D56+D57+D58+D59+D60+D61+D62 -> 220111 | E54: =E55+E56+E57+E58+E59+E60+E61+E62 -> 21298 | F54: =D54-E54 -> 198813 | G54: =G55+G56+G57+G58+G59+G60+G61+G62 -> 172524
A55: 200, дио 209 | B55: а) Потраживања по основу премије животних осигурања | C55: 038 | F55: =D55-E55 -> 0
A56: 201, дио 209 | B56: б) Потраживања по основу премије неживотних осигурања | C56: 039 | D56: 220111 | E56: 21298 | F56: =D56-E56 -> 198813 | G56: 171836
A57: 202, 203, дио 209 | B57: в) Потраживања по основу премије саосигурања, реосигурања и ретроцесија у земљи | C57: 040 | F57: =D57-E57 -> 0 | G57: 688
A58: 204, дио 209 | B58: г) Потраживања по основу премије саосигурања, реосигурања и ретроцесија из иностранства | C58: 041 | F58: =D58-E58 -> 0
A59: 205, дио 209 | B59: д) Потраживања по основу учешћа у накнади штета у земљи | C59: 042 | F59: =D59-E59 -> 0
A60: 206, дио 209 | B60: ђ) Потраживања по основу учешћа у накнади штета у иностранству | C60: 043 | F60: =D60-E60 -> 0
A61: 207, дио 209 | B61: е) Остали купци и остала потраживања | C61: 044 | F61: =D61-E61 -> 0
A62: 208, дио 209 | B62: ж) Потраживања по основу депозитне премије осигурања, саосигурања и реосигурања | C62: 045 | F62: =D62-E62 -> 0
A63: 210 до 219 | B63: 2. Потраживања из специфичних послова | C63: 046 | D63: 567133 | E63: 225020 | F63: =D63-E63 -> 342113 | G63: 289199
A64: 220 до 229 | B64: 3. Друга потраживања | C64: 047 | D64: 114101 | E64: 6890 | F64: =D64-E64 -> 107211 | G64: 100134
A65: 23 | B65: 4. Краткорочни финансијски пласмани (049 до 057) | C65: 048 | D65: =D66+D67+D68+D69+D70+D71+D72+D73+D74 -> 14505374 | E65: =E66+E67+E68+E69+E70+E71+E72+E73+E74 -> 50000 | F65: =D65-E65 -> 14455374 | G65: =G66+G67+G68+G69+G70+G71+G72+G73+G74 -> 14024191
A66: 230, дио 239 | B66: а) Краткорочни финансијски пласмани у повезана правна лица - матична и зависна | C66: 049 | D66: 7000000 | F66: =D66-E66 -> 7000000 | G66: 3000000
A67: 231, дио 239 | B67: б) Краткорочни финансијски пласмани - остала повезана правна лица | C67: 050 | D67: 1600000 | F67: =D67-E67 -> 1600000 | G67: 600000
A68: 232, дио 239 | B68: в) Краткорочни финансијски пласмани у земљи | C68: 051 | D68: 5255830 | E68: 50000 | F68: =D68-E68 -> 5205830 | G68: 9791189
A69: 233, дио 239 | B69: г) Краткорочни финансијски пласмани у иностранству | C69: 052 | F69: =D69-E69 -> 0
A70: 234, дио 239 | B70: д) Дио дугорочних депоновања и улагања који доспијева за наплату у периоду до годину дана | C70: 053 | D70: 600000 | F70: =D70-E70 -> 600000 | G70: 600000
A71: 235, дио 239 | B71: ђ) Финансијска средства по фер вриједности кроз биланс успјеха намијењена трговању | C71: 054 | F71: =D71-E71 -> 0
A72: 236, дио 239 | B72: е) Финансијска средства означена по фер вриједности кроз биланс успјеха | C72: 055 | D72: 49544.49 | F72: =D72-E72 -> 49544.49 | G72: 33002
A73: 237 | B73: ж) Откупљене сопствене акције | C73: 056 | F73: =D73-E73 -> 0
A74: 238, дио 239 | B74: з) Остали краткорочни финансијски пласмани | C74: 057 | F74: =D74-E74 -> 0
A75: 24 | B75: 5. Готовина и готовински еквиваленти (059+060) | C75: 058 | D75: =D76+D77 -> 3664940 | E75: =E76+E77 -> 0 | F75: =D75-E75 -> 3664940 | G75: =G76+G77 -> 8883686
A76: 240 | B76: а) Готовински еквиваленти - хартије од вриједности | C76: 059 | F76: =D76-E76 -> 0
A77: 241 до 249 | B77: б) Готовина | C77: 060 | D77: 3664940 | F77: =D77-E77 -> 3664940 | G77: 8883686
A78: 260 до 269 | B78: 6. Порез на додату вриједност | C78: 061 | F78: =D78-E78 -> 0
A79: 270 до 279, осим 278 | B79: III - АKТИВНА ВРЕМЕНСКА РАЗГРАНИЧЕЊА | C79: 062 | D79: 988935 | F79: =D79-E79 -> 988935 | G79: 728623
A80: 278 | B80: IV - ОДЛОЖЕНА ПОРЕСКА СРЕДСТВА | C80: 063 | F80: =D80-E80 -> 0
A81: 290 | B81: В. ГУБИТАК ИЗНАД ВИСИНЕ КАПИТАЛА | C81: 064 | F81: =D81-E81 -> 0
B82: Г.ПОСЛОВНА АКТИВА (001+030+064) | C82: 065 | D82: =D18+D47+D81 -> 54317125 | E82: =E18+E47+E81 -> 6432569 | F82: =D82-E82 -> 47884556 | G82: =G18+G47+G81 -> 48127792
A83: 88 | B83: Д.ВАНБИЛАНСНА АКТИВА | C83: 066 | D83: 0 | F83: =D83-E83 -> 0 | G83: 0
B84: Ђ. УКУПНА АКТИВА (065+066) | C84: 067 | D84: =D82+D83 -> 54317125 | E84: =E82+E83 -> 6432569 | F84: =D84-E84 -> 47884556 | G84: =G82+G83 -> 48127792
B85: Напомена:
B86: БС-Актива-НЖ

Sheet БС-Актива-Ж
G1: Образац:БС-Д
A2: Назив друштва/субјекта: | C2: =IF('БС-Актива-НЖ'!C2="","",'БС-Актива-НЖ'!C2) -> "НЕШКОВИЋ ОСИГУРАЊЕ" А.Д. Бијељина | D2: =IF('БС-Актива-НЖ'!D2="","",'БС-Актива-НЖ'!D2) -> "НЕШКОВИЋ ОСИГУРАЊЕ" А.Д. Бијељина | E2: =IF('БС-Актива-НЖ'!E2="","",'БС-Актива-НЖ'!E2) -> "НЕШКОВИЋ ОСИГУРАЊЕ" А.Д. Бијељина | F2: =IF('БС-Актива-НЖ'!F2="","",'БС-Актива-НЖ'!F2) -> "НЕШКОВИЋ ОСИГУРАЊЕ" А.Д. Бијељина | G2: =IF('БС-Актива-НЖ'!G2="","",'БС-Актива-НЖ'!G2) -> "НЕШКОВИЋ ОСИГУРАЊЕ" А.Д. Бијељина
A3: Ознака друштва/субјекта: | C3: =IF('БС-Актива-НЖ'!C3="","",'БС-Актива-НЖ'!C3) -> РД-1 | D3: =IF('БС-Актива-НЖ'!D3="","",'БС-Актива-НЖ'!D3) -> РД-1 | E3: =IF('БС-Актива-НЖ'!E3="","",'БС-Актива-НЖ'!E3) -> РД-1 | F3: =IF('БС-Актива-НЖ'!F3="","",'БС-Актива-НЖ'!F3) -> РД-1 | G3: =IF('БС-Актива-НЖ'!G3="","",'БС-Актива-НЖ'!G3) -> РД-1
A4: Стање на дан: | C4: =IF('БС-Актива-НЖ'!C4="","",'БС-Актива-НЖ'!C4) -> 46203 | D4: =IF('БС-Актива-НЖ'!D4="","",'БС-Актива-НЖ'!D4) | E4: =IF('БС-Актива-НЖ'!E4="","",'БС-Актива-НЖ'!E4) | F4: =IF('БС-Актива-НЖ'!F4="","",'БС-Актива-НЖ'!F4) | G4: =IF('БС-Актива-НЖ'!G4="","",'БС-Актива-НЖ'!G4)
A5: Редни број: | C5: =IF('БС-Актива-НЖ'!C5="","",'БС-Актива-НЖ'!C5) -> 1 | D5: =IF('БС-Актива-НЖ'!D5="","",'БС-Актива-НЖ'!D5) | E5: =IF('БС-Актива-НЖ'!E5="","",'БС-Актива-НЖ'!E5) | F5: =IF('БС-Актива-НЖ'!F5="","",'БС-Актива-НЖ'!F5) | G5: =IF('БС-Актива-НЖ'!G5="","",'БС-Актива-НЖ'!G5)
A6: Саставио: | C6: =IF('БС-Актива-НЖ'!C6="","",'БС-Актива-НЖ'!C6) -> Ј.Шкиљевић | D6: =IF('БС-Актива-НЖ'!D6="","",'БС-Актива-НЖ'!D6) | E6: =IF('БС-Актива-НЖ'!E6="","",'БС-Актива-НЖ'!E6) | F6: =IF('БС-Актива-НЖ'!F6="","",'БС-Актива-НЖ'!F6) | G6: =IF('БС-Актива-НЖ'!G6="","",'БС-Актива-НЖ'!G6)
A7: Одговорно лице: | C7: =IF('БС-Актива-НЖ'!C7="","",'БС-Актива-НЖ'!C7) -> Миленко Мишановић | D7: =IF('БС-Актива-НЖ'!D7="","",'БС-Актива-НЖ'!D7) | E7: =IF('БС-Актива-НЖ'!E7="","",'БС-Актива-НЖ'!E7) | F7: =IF('БС-Актива-НЖ'!F7="","",'БС-Актива-НЖ'!F7) | G7: =IF('БС-Актива-НЖ'!G7="","",'БС-Актива-НЖ'!G7)
A8: Актуар: | C8: =IF('БС-Актива-НЖ'!C8="","",'БС-Актива-НЖ'!C8) -> Вања Драгичевић | D8: =IF('БС-Актива-НЖ'!D8="","",'БС-Актива-НЖ'!D8) | E8: =IF('БС-Актива-НЖ'!E8="","",'БС-Актива-НЖ'!E8) | F8: =IF('БС-Актива-НЖ'!F8="","",'БС-Актива-НЖ'!F8) | G8: =IF('БС-Актива-НЖ'!G8="","",'БС-Актива-НЖ'!G8)
A9: Датум попуњавања: | C9: =IF('БС-Актива-НЖ'!C9="","",'БС-Актива-НЖ'!C9) -> 46226 | D9: =IF('БС-Актива-НЖ'!D9="","",'БС-Актива-НЖ'!D9) | E9: =IF('БС-Актива-НЖ'!E9="","",'БС-Актива-НЖ'!E9) | F9: =IF('БС-Актива-НЖ'!F9="","",'БС-Актива-НЖ'!F9) | G9: =IF('БС-Актива-НЖ'!G9="","",'БС-Актива-НЖ'!G9)
A10: Мјесто попуњавања: | C10: =IF('БС-Актива-НЖ'!C10="","",'БС-Актива-НЖ'!C10) -> Бијељина | D10: =IF('БС-Актива-НЖ'!D10="","",'БС-Актива-НЖ'!D10) | E10: =IF('БС-Актива-НЖ'!E10="","",'БС-Актива-НЖ'!E10) | F10: =IF('БС-Актива-НЖ'!F10="","",'БС-Актива-НЖ'!F10) | G10: =IF('БС-Актива-НЖ'!G10="","",'БС-Актива-НЖ'!G10)
A11: Контакт: | C11: =IF('БС-Актива-НЖ'!C11="","",'БС-Актива-НЖ'!C11) -> office@neskovicosiguranje.com | D11: =IF('БС-Актива-НЖ'!D11="","",'БС-Актива-НЖ'!D11) | E11: =IF('БС-Актива-НЖ'!E11="","",'БС-Актива-НЖ'!E11) | F11: =IF('БС-Актива-НЖ'!F11="","",'БС-Актива-НЖ'!F11) | G11: =IF('БС-Актива-НЖ'!G11="","",'БС-Актива-НЖ'!G11)
A13: Биланс стања
A14: КМ
A15: Група рачуна, рачун | B15: ПОЗИЦИЈА | C15: Ознака за АОП | D15: Износ текуће године | G15: Износ претходне године (почетно стање)
A16: Група рачуна, рачун | B16: ПОЗИЦИЈА | C16: Ознака за АОП | D16: Бруто | E16: Исправка вриједности | F16: Нето | G16: Износ претходне године (почетно стање)
A17: 1 | B17: 2 | C17: 3 | D17: 4 | E17: 5 | F17: 6=(4-5) | G17: 7
B18: АКТИВА А. СТАЛНА ИМОВИНА (002+009+018+028+029) | C18: 001 | D18: =D19+D26+D35+D45+D46 -> 0 | E18: =E19+E26+E35+E45+E46 -> 0 | F18: =D18-E18 -> 0 | G18: =G19+G26+G35+G45+G46 -> 0
A19: 01 | B19: I - НЕМАТЕРИЈАЛНА СРЕДСТВА (003 до 008) | C19: 002 | D19: =D20+D21+D22+D23+D24+D25 -> 0 | E19: =E20+E21+E22+E23+E24+E25 -> 0 | F19: =D19-E19 -> 0 | G19: =G20+G21+G22+G23+G24+G25 -> 0
A20: 010, дио 019 | B20: 1. Улагања у развој | C20: 003 | F20: =D20-E20 -> 0
A21: 011, дио 019 | B21: 2. Концесије, патенти, лиценце и остала права | C21: 004 | F21: =D21-E21 -> 0
A22: 012, дио 019 | B22: 3. Goodwill | C22: 005 | F22: =D22-E22 -> 0
A23: 013, дио 019 | B23: 4. Софтвер и остала права | C23: 006 | F23: =D23-E23 -> 0
A24: 014, дио 019 | B24: 5. Остала нематеријална средства | C24: 007 | F24: =D24-E24 -> 0
A25: 015,016 дио 019 | B25: 6. Аванси и нематеријална средства у припреми | C25: 008 | F25: =D25-E25 -> 0
A26: 02 | B26: II - НЕКРЕТНИНЕ, ИНВЕСТИЦИОНЕ НЕКРЕТНИНЕ ПОСТРОЈЕЊА, ОПРЕМА И ОСТАЛА ОСНОВНА СРЕДСТВА (010 до 017) | C26: 009 | D26: =D27+D28+D29+D30+D31+D32+D33+D34 -> 0 | E26: =E27+E28+E29+E30+E31+E32+E33+E34 -> 0 | F26: =D26-E26 -> 0 | G26: =G27+G28+G29+G30+G31+G32+G33+G34 -> 0
A27: 020, дио 029 | B27: 1. Земљиште | C27: 010 | F27: =D27-E27 -> 0
A28: 021, дио 029 | B28: 2. Биолошка средства | C28: 011 | F28: =D28-E28 -> 0
A29: 022,дио 029 | B29: 3. Грађевински објекти | C29: 012 | F29: =D29-E29 -> 0
A30: 023, дио 029 | B30: 4. Постројења и опрема | C30: 013 | F30: =D30-E30 -> 0
A31: 024,дио 029 | B31: 5. Инвестиционе некретнине | C31: 014 | F31: =D31-E31 -> 0
A32: 025,дио 029 | B32: 6. Улагања на туђим некретнинама, постројењима и опреми | C32: 015 | F32: =D32-E32 -> 0
A33: 026,дио 029 | B33: 7. Остала основна средства | C33: 016 | F33: =D33-E33 -> 0
A34: 027,028 дио 029 | B34: 8. Аванси и некретнине, биолошка средства, постројења, опрема и инвестиционе некретнине у припреми | C34: 017 | F34: =D34-E34 -> 0
A35: 03 | B35: III - ДУГОРОЧНИ ФИНАНСИЈСКИ ПЛАСМАНИ (019 до 027) | C35: 018 | D35: =D36+D37+D38+D39+D40+D41+D42+D43+D44 -> 0 | E35: =E36+E37+E38+E39+E40+E41+E42+E43+E44 -> 0 | F35: =D35-E35 -> 0 | G35: =G36+G37+G38+G39+G40+G41+G42+G43+G44 -> 0
A36: 030, дио 039 | B36: 1. Учешће у капиталу зависних правних лица | C36: 019 | F36: =D36-E36 -> 0
A37: 031, дио 039 | B37: 2. Учешће у капиталу придружених правних лица | C37: 020 | F37: =D37-E37 -> 0
A38: 032, дио 039 | B38: 3. Учешће у капиталу осталих правних лица | C38: 021 | F38: =D38-E38 -> 0
A39: 033, дио 039 | B39: 4. Дугорочни финансијски пласмани матичним, зависним и осталим повезаним правним лицима | C39: 022 | F39: =D39-E39 -> 0
A40: 034, дио 039 | B40: 5. Дугорочни финансијски пласмани у земљи | C40: 023 | F40: =D40-E40 -> 0
A41: 035, дио 039 | B41: 6. Дугорочни финансијски пласмани у иностранству | C41: 024 | F41: =D41-E41 -> 0
A42: 036, дио 039 | B42: 7. Финансијска средства која се држе до рока доспијећа | C42: 025 | F42: =D42-E42 -> 0
A43: 037, дио 039 | B43: 8. Финансијска средства располижива за продају | C43: 026 | F43: =D43-E43 -> 0
A44: 038, дио 039 | B44: 9. Остали дугорочни финансијски пласмани | C44: 027 | F44: =D44-E44 -> 0
A45: 041,042 дио 049 | B45: IV - ОСТАЛА ДУГОРОЧНА СРЕДСТВА | C45: 028 | F45: =D45-E45 -> 0
A46: 040,дио 049 | B46: V - ОДЛОЖЕНА ПОРЕСКА СРЕДСТВА | C46: 029 | F46: =D46-E46 -> 0
B47: Б.ТЕКУЋА ИМОВИНА (031+036+062+063) | C47: 030 | D47: =D48+D53+D79+D80 -> 0 | E47: =E48+E53+E79+E80 -> 0 | F47: =D47-E47 -> 0 | G47: =G48+G53+G79+G80 -> 0
A48: 10 до 15 | B48: I - ЗАЛИХЕ, СТАЛНА СРЕДСТВА И СРЕДСТВА ОБУСТАВЉЕНОГ ПОСЛОВАЊА НАМИЈЕЊЕНА ПРОДАЈИ (032 до 035) | C48: 031 | D48: =D49+D50+D51+D52 -> 0 | E48: =E49+E50+E51+E52 -> 0 | F48: =D48-E48 -> 0 | G48: =G49+G50+G51+G52 -> 0
A49: 100 до 109 | B49: 1. Залихе материјала | C49: 032 | F49: =D49-E49 -> 0
A50: 130 до 139 | B50: 2. Залихе остатака осигураних оштећених ствари | C50: 033 | F50: =D50-E50 -> 0
A51: 140 до 149 | B51: 3. Стална средства намјењена продаји и средства пословања које се обуставља | C51: 034 | F51: =D51-E51 -> 0
A52: 150 до 159 | B52: 4. Дати аванси | C52: 035 | F52: =D52-E52 -> 0
A53: 20 до 26 | B53: II - КРАТКОРОЧНА ПОТРАЖИВАЊА, ПЛАСМАНИ И ГОТОВИНА (037+046+047+048+058+061) | C53: 036 | D53: =D54+D63+D64+D65+D75+D78 -> 0 | E53: =E54+E63+E64+E65+E75+E78 -> 0 | F53: =D53-E53 -> 0 | G53: =G54+G63+G64+G65+G75+G78 -> 0
A54: 20 | B54: 1. Потраживања по основу премије, учешћа у накнади штете и остали купци (038 до 045) | C54: 037 | D54: =D55+D56+D57+D58+D59+D60+D61+D62 -> 0 | E54: =E55+E56+E57+E58+E59+E60+E61+E62 -> 0 | F54: =D54-E54 -> 0 | G54: =G55+G56+G57+G58+G59+G60+G61+G62 -> 0
A55: 200, дио 209 | B55: а) Потраживања по основу премије животних осигурања | C55: 038 | F55: =D55-E55 -> 0
A56: 201, дио 209 | B56: б) Потраживања по основу премије неживотних осигурања | C56: 039 | F56: =D56-E56 -> 0
A57: 202, 203, дио 209 | B57: в) Потраживања по основу премије саосигурања, реосигурања и ретроцесија у земљи | C57: 040 | F57: =D57-E57 -> 0
A58: 204, дио 209 | B58: г) Потраживања по основу премије саосигурања, реосигурања и ретроцесија из иностранства | C58: 041 | F58: =D58-E58 -> 0
A59: 205, дио 209 | B59: д) Потраживања по основу учешћа у накнади штета у земљи | C59: 042 | F59: =D59-E59 -> 0
A60: 206, дио 209 | B60: ђ) Потраживања по основу учешћа у накнади штета у иностранству | C60: 043 | F60: =D60-E60 -> 0
A61: 207, дио 209 | B61: е) Остали купци и остала потраживања | C61: 044 | F61: =D61-E61 -> 0
A62: 208, дио 209 | B62: ж) Потраживања по основу депозитне премије осигурања, саосигурања и реосигурања | C62: 045 | F62: =D62-E62 -> 0
A63: 210 до 219 | B63: 2. Потраживања из специфичних послова | C63: 046 | F63: =D63-E63 -> 0
A64: 220 до 229 | B64: 3. Друга потраживања | C64: 047 | F64: =D64-E64 -> 0
A65: 23 | B65: 4. Краткорочни финансијски пласмани (049 до 057) | C65: 048 | D65: =D66+D67+D68+D69+D70+D71+D72+D73+D74 -> 0 | E65: =E66+E67+E68+E69+E70+E71+E72+E73+E74 -> 0 | F65: =D65-E65 -> 0 | G65: =G66+G67+G68+G69+G70+G71+G72+G73+G74 -> 0
A66: 230, дио 239 | B66: а) Краткорочни финансијски пласмани у повезана правна лица - матична и зависна | C66: 049 | F66: =D66-E66 -> 0
A67: 231, дио 239 | B67: б) Краткорочни финансијски пласмани - остала повезана правна лица | C67: 050 | F67: =D67-E67 -> 0
A68: 232, дио 239 | B68: в) Краткорочни финансијски пласмани у земљи | C68: 051 | F68: =D68-E68 -> 0
A69: 233, дио 239 | B69: г) Краткорочни финансијски пласмани у иностранству | C69: 052 | F69: =D69-E69 -> 0
A70: 234, дио 239 | B70: д) Дио дугорочних депоновања и улагања који доспијева за наплату у периоду до годину дана | C70: 053 | F70: =D70-E70 -> 0
A71: 235, дио 239 | B71: ђ) Финансијска средства по фер вриједности кроз биланс успјеха намијењена трговању | C71: 054 | F71: =D71-E71 -> 0
A72: 236, дио 239 | B72: е) Финансијска средства означена по фер вриједности кроз биланс успјеха | C72: 055 | F72: =D72-E72 -> 0
A73: 237 | B73: ж) Откупљене сопствене акције | C73: 056 | F73: =D73-E73 -> 0
A74: 238, дио 239 | B74: з) Остали краткорочни финансијски пласмани | C74: 057 | F74: =D74-E74 -> 0
A75: 24 | B75: 5. Готовина и готовински еквиваленти (059+060) | C75: 058 | D75: =D76+D77 -> 0 | E75: =E76+E77 -> 0 | F75: =D75-E75 -> 0 | G75: =G76+G77 -> 0
A76: 240 | B76: а) Готовински еквиваленти - хартије од вриједности | C76: 059 | F76: =D76-E76 -> 0
A77: 241 до 249 | B77: б) Готовина | C77: 060 | F77: =D77-E77 -> 0
A78: 260 до 269 | B78: 6. Порез на додату вриједност | C78: 061 | F78: =D78-E78 -> 0
A79: 270 до 279, осим 278 | B79: III - АKТИВНА ВРЕМЕНСКА РАЗГРАНИЧЕЊА | C79: 062 | F79: =D79-E79 -> 0
A80: 278 | B80: IV - ОДЛОЖЕНА ПОРЕСКА СРЕДСТВА | C80: 063 | F80: =D80-E80 -> 0
A81: 290 | B81: В. ГУБИТАК ИЗНАД ВИСИНЕ КАПИТАЛА | C81: 064 | F81: =D81-E81 -> 0
B82: Г.ПОСЛОВНА АКТИВА (001+030+064) | C82: 065 | D82: =D18+D47+D81 -> 0 | E82: =E18+E47+E81 -> 0 | F82: =D82-E82 -> 0 | G82: =G18+G47+G81 -> 0
A83: 88 | B83: Д.ВАНБИЛАНСНА АКТИВА | C83: 066 | F83: =D83-E83 -> 0
B84: Ђ. УКУПНА АКТИВА (065+066) | C84: 067 | D84: =D82+D83 -> 0 | E84: =E82+E83 -> 0 | F84: =D84-E84 -> 0 | G84: =G82+G83 -> 0
B85: Напомена:
B86: БС-Актива-Ж

Sheet БС-Актива-Укупно
G1: Образац:БС-Д
A2: Назив друштва/субјекта: | C2: =IF('БС-Актива-НЖ'!C2="","",'БС-Актива-НЖ'!C2) -> "НЕШКОВИЋ ОСИГУРАЊЕ" А.Д. Бијељина | D2: =IF('БС-Актива-НЖ'!D2="","",'БС-Актива-НЖ'!D2) -> "НЕШКОВИЋ ОСИГУРАЊЕ" А.Д. Бијељина | E2: =IF('БС-Актива-НЖ'!E2="","",'БС-Актива-НЖ'!E2) -> "НЕШКОВИЋ ОСИГУРАЊЕ" А.Д. Бијељина | F2: =IF('БС-Актива-НЖ'!F2="","",'БС-Актива-НЖ'!F2) -> "НЕШКОВИЋ ОСИГУРАЊЕ" А.Д. Бијељина | G2: =IF('БС-Актива-НЖ'!G2="","",'БС-Актива-НЖ'!G2) -> "НЕШКОВИЋ ОСИГУРАЊЕ" А.Д. Бијељина
A3: Ознака друштва/субјекта: | C3: =IF('БС-Актива-НЖ'!C3="","",'БС-Актива-НЖ'!C3) -> РД-1 | D3: =IF('БС-Актива-НЖ'!D3="","",'БС-Актива-НЖ'!D3) -> РД-1 | E3: =IF('БС-Актива-НЖ'!E3="","",'БС-Актива-НЖ'!E3) -> РД-1 | F3: =IF('БС-Актива-НЖ'!F3="","",'БС-Актива-НЖ'!F3) -> РД-1 | G3: =IF('БС-Актива-НЖ'!G3="","",'БС-Актива-НЖ'!G3) -> РД-1
A4: Стање на дан: | C4: =IF('БС-Актива-НЖ'!C4="","",'БС-Актива-НЖ'!C4) -> 46203 | D4: =IF('БС-Актива-НЖ'!D4="","",'БС-Актива-НЖ'!D4) | E4: =IF('БС-Актива-НЖ'!E4="","",'БС-Актива-НЖ'!E4) | F4: =IF('БС-Актива-НЖ'!F4="","",'БС-Актива-НЖ'!F4) | G4: =IF('БС-Актива-НЖ'!G4="","",'БС-Актива-НЖ'!G4)
A5: Редни број: | C5: =IF('БС-Актива-НЖ'!C5="","",'БС-Актива-НЖ'!C5) -> 1 | D5: =IF('БС-Актива-НЖ'!D5="","",'БС-Актива-НЖ'!D5) | E5: =IF('БС-Актива-НЖ'!E5="","",'БС-Актива-НЖ'!E5) | F5: =IF('БС-Актива-НЖ'!F5="","",'БС-Актива-НЖ'!F5) | G5: =IF('БС-Актива-НЖ'!G5="","",'БС-Актива-НЖ'!G5)
A6: Саставио: | C6: =IF('БС-Актива-НЖ'!C6="","",'БС-Актива-НЖ'!C6) -> Ј.Шкиљевић | D6: =IF('БС-Актива-НЖ'!D6="","",'БС-Актива-НЖ'!D6) | E6: =IF('БС-Актива-НЖ'!E6="","",'БС-Актива-НЖ'!E6) | F6: =IF('БС-Актива-НЖ'!F6="","",'БС-Актива-НЖ'!F6) | G6: =IF('БС-Актива-НЖ'!G6="","",'БС-Актива-НЖ'!G6)
A7: Одговорно лице: | C7: =IF('БС-Актива-НЖ'!C7="","",'БС-Актива-НЖ'!C7) -> Миленко Мишановић | D7: =IF('БС-Актива-НЖ'!D7="","",'БС-Актива-НЖ'!D7) | E7: =IF('БС-Актива-НЖ'!E7="","",'БС-Актива-НЖ'!E7) | F7: =IF('БС-Актива-НЖ'!F7="","",'БС-Актива-НЖ'!F7) | G7: =IF('БС-Актива-НЖ'!G7="","",'БС-Актива-НЖ'!G7)
A8: Актуар: | C8: =IF('БС-Актива-НЖ'!C8="","",'БС-Актива-НЖ'!C8) -> Вања Драгичевић | D8: =IF('БС-Актива-НЖ'!D8="","",'БС-Актива-НЖ'!D8) | E8: =IF('БС-Актива-НЖ'!E8="","",'БС-Актива-НЖ'!E8) | F8: =IF('БС-Актива-НЖ'!F8="","",'БС-Актива-НЖ'!F8) | G8: =IF('БС-Актива-НЖ'!G8="","",'БС-Актива-НЖ'!G8)
A9: Датум попуњавања: | C9: =IF('БС-Актива-НЖ'!C9="","",'БС-Актива-НЖ'!C9) -> 46226 | D9: =IF('БС-Актива-НЖ'!D9="","",'БС-Актива-НЖ'!D9) | E9: =IF('БС-Актива-НЖ'!E9="","",'БС-Актива-НЖ'!E9) | F9: =IF('БС-Актива-НЖ'!F9="","",'БС-Актива-НЖ'!F9) | G9: =IF('БС-Актива-НЖ'!G9="","",'БС-Актива-НЖ'!G9)
A10: Мјесто попуњавања: | C10: =IF('БС-Актива-НЖ'!C10="","",'БС-Актива-НЖ'!C10) -> Бијељина | D10: =IF('БС-Актива-НЖ'!D10="","",'БС-Актива-НЖ'!D10) | E10: =IF('БС-Актива-НЖ'!E10="","",'БС-Актива-НЖ'!E10) | F10: =IF('БС-Актива-НЖ'!F10="","",'БС-Актива-НЖ'!F10) | G10: =IF('БС-Актива-НЖ'!G10="","",'БС-Актива-НЖ'!G10)
A11: Контакт: | C11: =IF('БС-Актива-НЖ'!C11="","",'БС-Актива-НЖ'!C11) -> office@neskovicosiguranje.com | D11: =IF('БС-Актива-НЖ'!D11="","",'БС-Актива-НЖ'!D11) | E11: =IF('БС-Актива-НЖ'!E11="","",'БС-Актива-НЖ'!E11) | F11: =IF('БС-Актива-НЖ'!F11="","",'БС-Актива-НЖ'!F11) | G11: =IF('БС-Актива-НЖ'!G11="","",'БС-Актива-НЖ'!G11)
A13: Биланс стања
A14: КМ
A15: Група рачуна, рачун | B15: ПОЗИЦИЈА | C15: Ознака за АОП | D15: Износ текуће године | G15: Износ претходне године (почетно стање)
A16: Група рачуна, рачун | B16: ПОЗИЦИЈА | C16: Ознака за АОП | D16: Бруто | E16: Исправка бриједности | F16: Нето | G16: Износ претходне године (почетно стање)
A17: 1 | B17: 2 | C17: 3 | D17: 4 | E17: 5 | F17: 6=(4-5) | G17: 7
B18: АКТИВА А. СТАЛНА ИМОВИНА (002+009+018+028+029) | C18: 001 | D18: ='БС-Актива-НЖ'!D18+'БС-Актива-Ж'!D18 -> 34255076 | E18: ='БС-Актива-НЖ'!E18+'БС-Актива-Ж'!E18 -> 6129361 | F18: ='БС-Актива-НЖ'!F18+'БС-Актива-Ж'!F18 -> 28125715 | G18: ='БС-Актива-НЖ'!G18+'БС-Актива-Ж'!G18 -> 23926866
A19: 01 | B19: I - НЕМАТЕРИЈАЛНА СРЕДСТВА (003 до 008) | C19: 002 | D19: ='БС-Актива-НЖ'!D19+'БС-Актива-Ж'!D19 -> 209374 | E19: ='БС-Актива-НЖ'!E19+'БС-Актива-Ж'!E19 -> 187669 | F19: ='БС-Актива-НЖ'!F19+'БС-Актива-Ж'!F19 -> 21705 | G19: ='БС-Актива-НЖ'!G19+'БС-Актива-Ж'!G19 -> 25160
A20: 010, дио 019 | B20: 1. Улагања у развој | C20: 003 | D20: ='БС-Актива-НЖ'!D20+'БС-Актива-Ж'!D20 -> 0 | E20: ='БС-Актива-НЖ'!E20+'БС-Актива-Ж'!E20 -> 0 | F20: ='БС-Актива-НЖ'!F20+'БС-Актива-Ж'!F20 -> 0 | G20: ='БС-Актива-НЖ'!G20+'БС-Актива-Ж'!G20 -> 0
A21: 011, дио 019 | B21: 2. Концесије, патенти, лиценце и остала права | C21: 004 | D21: ='БС-Актива-НЖ'!D21+'БС-Актива-Ж'!D21 -> 0 | E21: ='БС-Актива-НЖ'!E21+'БС-Актива-Ж'!E21 -> 0 | F21: ='БС-Актива-НЖ'!F21+'БС-Актива-Ж'!F21 -> 0 | G21: ='БС-Актива-НЖ'!G21+'БС-Актива-Ж'!G21 -> 0
A22: 012, дио 019 | B22: 3. Goodwill | C22: 005 | D22: ='БС-Актива-НЖ'!D22+'БС-Актива-Ж'!D22 -> 0 | E22: ='БС-Актива-НЖ'!E22+'БС-Актива-Ж'!E22 -> 0 | F22: ='БС-Актива-НЖ'!F22+'БС-Актива-Ж'!F22 -> 0 | G22: ='БС-Актива-НЖ'!G22+'БС-Актива-Ж'!G22 -> 0
A23: 013, дио 019 | B23: 4. Софтвер и остала права | C23: 006 | D23: ='БС-Актива-НЖ'!D23+'БС-Актива-Ж'!D23 -> 138488 | E23: ='БС-Актива-НЖ'!E23+'БС-Актива-Ж'!E23 -> 124699 | F23: ='БС-Актива-НЖ'!F23+'БС-Актива-Ж'!F23 -> 13789 | G23: ='БС-Актива-НЖ'!G23+'БС-Актива-Ж'!G23 -> 15970
A24: 014, дио 019 | B24: 5. Остала нематеријална средства | C24: 007 | D24: ='БС-Актива-НЖ'!D24+'БС-Актива-Ж'!D24 -> 70886 | E24: ='БС-Актива-НЖ'!E24+'БС-Актива-Ж'!E24 -> 62970 | F24: ='БС-Актива-НЖ'!F24+'БС-Актива-Ж'!F24 -> 7916 | G24: ='БС-Актива-НЖ'!G24+'БС-Актива-Ж'!G24 -> 9190
A25: 015,016 дио 019 | B25: 6. Аванси и нематеријална средства у припреми | C25: 008 | D25: ='БС-Актива-НЖ'!D25+'БС-Актива-Ж'!D25 -> 0 | E25: ='БС-Актива-НЖ'!E25+'БС-Актива-Ж'!E25 -> 0 | F25: ='БС-Актива-НЖ'!F25+'БС-Актива-Ж'!F25 -> 0 | G25: ='БС-Актива-НЖ'!G25+'БС-Актива-Ж'!G25 -> 0
A26: 02 | B26: II - НЕКРЕТНИНЕ, ИНВЕСТИЦИОНЕ НЕКРЕТНИНЕ ПОСТРОЈЕЊА, ОПРЕМА И ОСТАЛА ОСНОВНА СРЕДСТВА (010 до 017) | C26: 009 | D26: ='БС-Актива-НЖ'!D26+'БС-Актива-Ж'!D26 -> 23752217 | E26: ='БС-Актива-НЖ'!E26+'БС-Актива-Ж'!E26 -> 5941692 | F26: ='БС-Актива-НЖ'!F26+'БС-Актива-Ж'!F26 -> 17810525 | G26: ='БС-Актива-НЖ'!G26+'БС-Актива-Ж'!G26 -> 17925735
A27: 020, дио 029 | B27: 1. Земљиште | C27: 010 | D27: ='БС-Актива-НЖ'!D27+'БС-Актива-Ж'!D27 -> 4273178 | E27: ='БС-Актива-НЖ'!E27+'БС-Актива-Ж'!E27 -> 0 | F27: ='БС-Актива-НЖ'!F27+'БС-Актива-Ж'!F27 -> 4273178 | G27: ='БС-Актива-НЖ'!G27+'БС-Актива-Ж'!G27 -> 4273178
A28: 021, дио 029 | B28: 2. Биолошка средства | C28: 011 | D28: ='БС-Актива-НЖ'!D28+'БС-Актива-Ж'!D28 -> 0 | E28: ='БС-Актива-НЖ'!E28+'БС-Актива-Ж'!E28 -> 0 | F28: ='БС-Актива-НЖ'!F28+'БС-Актива-Ж'!F28 -> 0 | G28: ='БС-Актива-НЖ'!G28+'БС-Актива-Ж'!G28 -> 0
A29: 022,дио 029 | B29: 3. Грађевински објекти | C29: 012 | D29: ='БС-Актива-НЖ'!D29+'БС-Актива-Ж'!D29 -> 7823080 | E29: ='БС-Актива-НЖ'!E29+'БС-Актива-Ж'!E29 -> 4726134 | F29: ='БС-Актива-НЖ'!F29+'БС-Актива-Ж'!F29 -> 3096946 | G29: ='БС-Актива-НЖ'!G29+'БС-Актива-Ж'!G29 -> 3212533
A30: 023, дио 029 | B30: 4. Постројења и опрема | C30: 013 | D30: ='БС-Актива-НЖ'!D30+'БС-Актива-Ж'!D30 -> 1428763 | E30: ='БС-Актива-НЖ'!E30+'БС-Актива-Ж'!E30 -> 1215558 | F30: ='БС-Актива-НЖ'!F30+'БС-Актива-Ж'!F30 -> 213205 | G30: ='БС-Актива-НЖ'!G30+'БС-Актива-Ж'!G30 -> 212828
... A46: 040,дио 049 | B46: V - ОДЛОЖЕНА ПОРЕСКА СРЕДСТВА | C46: 029 | D46: ='БС-Актива-НЖ'!D46+'БС-Актива-Ж'!D46 -> 0 | E46: ='БС-Актива-НЖ'!E46+'БС-Актива-Ж'!E46 -> 0 | F46: ='БС-Актива-НЖ'!F46+'БС-Актива-Ж'!F46 -> 0 | G46: ='БС-Актива-НЖ'!G46+'БС-Актива-Ж'!G46 -> 0
B47: Б.ТЕКУЋА ИМОВИНА (031+036+062+063) | C47: 030 | D47: ='БС-Актива-НЖ'!D47+'БС-Актива-Ж'!D47 -> 20062049 | E47: ='БС-Актива-НЖ'!E47+'БС-Актива-Ж'!E47 -> 303208 | F47: ='БС-Актива-НЖ'!F47+'БС-Актива-Ж'!F47 -> 19758841 | G47: ='БС-Актива-НЖ'!G47+'БС-Актива-Ж'!G47 -> 24200926
A48: 10 до 15 | B48: I - ЗАЛИХЕ, СТАЛНА СРЕДСТВА И СРЕДСТВА ОБУСТАВЉЕНОГ ПОСЛОВАЊА НАМИЈЕЊЕНА ПРОДАЈИ (032 до 035) | C48: 031 | D48: ='БС-Актива-НЖ'!D48+'БС-Актива-Ж'!D48 -> 1455 | E48: ='БС-Актива-НЖ'!E48+'БС-Актива-Ж'!E48 -> 0 | F48: ='БС-Актива-НЖ'!F48+'БС-Актива-Ж'!F48 -> 1455 | G48: ='БС-Актива-НЖ'!G48+'БС-Актива-Ж'!G48 -> 2569
A49: 100 до 109 | B49: 1. Залихе материјала | C49: 032 | D49: ='БС-Актива-НЖ'!D49+'БС-Актива-Ж'!D49 -> 1455 | E49: ='БС-Актива-НЖ'!E49+'БС-Актива-Ж'!E49 -> 0 | F49: ='БС-Актива-НЖ'!F49+'БС-Актива-Ж'!F49 -> 1455 | G49: ='БС-Актива-НЖ'!G49+'БС-Актива-Ж'!G49 -> 2106
A50: 130 до 139 | B50: 2. Залихе остатака осигураних оштећених ствари | C50: 033 | D50: ='БС-Актива-НЖ'!D50+'БС-Актива-Ж'!D50 -> 0 | E50: ='БС-Актива-НЖ'!E50+'БС-Актива-Ж'!E50 -> 0 | F50: ='БС-Актива-НЖ'!F50+'БС-Актива-Ж'!F50 -> 0 | G50: ='БС-Актива-НЖ'!G50+'БС-Актива-Ж'!G50 -> 0
A51: 140 до 149 | B51: 3. Стална средства намјењена продаји и средства пословања које се обуставља | C51: 034 | D51: ='БС-Актива-НЖ'!D51+'БС-Актива-Ж'!D51 -> 0 | E51: ='БС-Актива-НЖ'!E51+'БС-Актива-Ж'!E51 -> 0 | F51: ='БС-Актива-НЖ'!F51+'БС-Актива-Ж'!F51 -> 0 | G51: ='БС-Актива-НЖ'!G51+'БС-Актива-Ж'!G51 -> 0
A52: 150 до 159 | B52: 4. Дати аванси | C52: 035 | D52: ='БС-Актива-НЖ'!D52+'БС-Актива-Ж'!D52 -> 0 | E52: ='БС-Актива-НЖ'!E52+'БС-Актива-Ж'!E52 -> 0 | F52: ='БС-Актива-НЖ'!F52+'БС-Актива-Ж'!F52 -> 0 | G52: ='БС-Актива-НЖ'!G52+'БС-Актива-Ж'!G52 -> 463
A53: 20 до 26 | B53: II - КРАТКОРОЧНА ПОТРАЖИВАЊА, ПЛАСМАНИ И ГОТОВИНА (037+046+047+048+058+061) | C53: 036 | D53: ='БС-Актива-НЖ'!D53+'БС-Актива-Ж'!D53 -> 19071659 | E53: ='БС-Актива-НЖ'!E53+'БС-Актива-Ж'!E53 -> 303208 | F53: ='БС-Актива-НЖ'!F53+'БС-Актива-Ж'!F53 -> 18768451 | G53: ='БС-Актива-НЖ'!G53+'БС-Актива-Ж'!G53 -> 23469734
A54: 20 | B54: 1. Потраживања по основу премије, учешћа у накнади штете и остали купци (038 до 045) | C54: 037 | D54: ='БС-Актива-НЖ'!D54+'БС-Актива-Ж'!D54 -> 220111 | E54: ='БС-Актива-НЖ'!E54+'БС-Актива-Ж'!E54 -> 21298 | F54: ='БС-Актива-НЖ'!F54+'БС-Актива-Ж'!F54 -> 198813 | G54: ='БС-Актива-НЖ'!G54+'БС-Актива-Ж'!G54 -> 172524
A55: 200, дио 209 | B55: а) Потраживања по основу премије животних осигурања | C55: 038 | D55: ='БС-Актива-НЖ'!D55+'БС-Актива-Ж'!D55 -> 0 | E55: ='БС-Актива-НЖ'!E55+'БС-Актива-Ж'!E55 -> 0 | F55: ='БС-Актива-НЖ'!F55+'БС-Актива-Ж'!F55 -> 0 | G55: ='БС-Актива-НЖ'!G55+'БС-Актива-Ж'!G55 -> 0
A56: 201, дио 209 | B56: б) Потраживања по основу премије неживотних осигурања | C56: 039 | D56: ='БС-Актива-НЖ'!D56+'БС-Актива-Ж'!D56 -> 220111 | E56: ='БС-Актива-НЖ'!E56+'БС-Актива-Ж'!E56 -> 21298 | F56: ='БС-Актива-НЖ'!F56+'БС-Актива-Ж'!F56 -> 198813 | G56: ='БС-Актива-НЖ'!G56+'БС-Актива-Ж'!G56 -> 171836
A57: 202, 203, дио 209 | B57: в) Потраживања по основу премије саосигурања, реосигурања и ретроцесија у земљи | C57: 040 | D57: ='БС-Актива-НЖ'!D57+'БС-Актива-Ж'!D57 -> 0 | E57: ='БС-Актива-НЖ'!E57+'БС-Актива-Ж'!E57 -> 0 | F57: ='БС-Актива-НЖ'!F57+'БС-Актива-Ж'!F57 -> 0 | G57: ='БС-Актива-НЖ'!G57+'БС-Актива-Ж'!G57 -> 688
A58: 204, дио 209 | B58: г) Потраживања по основу премије саосигурања, реосигурања и ретроцесија из иностранства | C58: 041 | D58: ='БС-Актива-НЖ'!D58+'БС-Актива-Ж'!D58 -> 0 | E58: ='БС-Актива-НЖ'!E58+'БС-Актива-Ж'!E58 -> 0 | F58: ='БС-Актива-НЖ'!F58+'БС-Актива-Ж'!F58 -> 0 | G58: ='БС-Актива-НЖ'!G58+'БС-Актива-Ж'!G58 -> 0
A59: 205, дио 209 | B59: д) Потраживања по основу учешћа у накнади штета у земљи | C59: 042 | D59: ='БС-Актива-НЖ'!D59+'БС-Актива-Ж'!D59 -> 0 | E59: ='БС-Актива-НЖ'!E59+'БС-Актива-Ж'!E59 -> 0 | F59: ='БС-Актива-НЖ'!F59+'БС-Актива-Ж'!F59 -> 0 | G59: ='БС-Актива-НЖ'!G59+'БС-Актива-Ж'!G59 -> 0
... A81: 290 | B81: В. ГУБИТАК ИЗНАД ВИСИНЕ КАПИТАЛА | C81: 064 | D81: ='БС-Актива-НЖ'!D81+'БС-Актива-Ж'!D81 -> 0 | E81: ='БС-Актива-НЖ'!E81+'БС-Актива-Ж'!E81 -> 0 | F81: ='БС-Актива-НЖ'!F81+'БС-Актива-Ж'!F81 -> 0 | G81: ='БС-Актива-НЖ'!G81+'БС-Актива-Ж'!G81 -> 0
B82: Г.ПОСЛОВНА АКТИВА (001+030+064) | C82: 065 | D82: ='БС-Актива-НЖ'!D82+'БС-Актива-Ж'!D82 -> 54317125 | E82: ='БС-Актива-НЖ'!E82+'БС-Актива-Ж'!E82 -> 6432569 | F82: ='БС-Актива-НЖ'!F82+'БС-Актива-Ж'!F82 -> 47884556 | G82: ='БС-Актива-НЖ'!G82+'БС-Актива-Ж'!G82 -> 48127792
A83: 88 | B83: Д.ВАНБИЛАНСНА АКТИВА | C83: 066 | D83: ='БС-Актива-НЖ'!D83+'БС-Актива-Ж'!D83 -> 0 | E83: ='БС-Актива-НЖ'!E83+'БС-Актива-Ж'!E83 -> 0 | F83: ='БС-Актива-НЖ'!F83+'БС-Актива-Ж'!F83 -> 0 | G83: ='БС-Актива-НЖ'!G83+'БС-Актива-Ж'!G83 -> 0
B84: Ђ. УКУПНА АКТИВА (065+066) | C84: 067 | D84: ='БС-Актива-НЖ'!D84+'БС-Актива-Ж'!D84 -> 54317125 | E84: ='БС-Актива-НЖ'!E84+'БС-Актива-Ж'!E84 -> 6432569 | F84: ='БС-Актива-НЖ'!F84+'БС-Актива-Ж'!F84 -> 47884556 | G84: ='БС-Актива-НЖ'!G84+'БС-Актива-Ж'!G84 -> 48127792

Sheet БС-Пасива-НЖ
E1: Образац:БС-Д
A2: Назив друштва/субјекта: | C2: =IF('БС-Актива-НЖ'!C2="","",'БС-Актива-НЖ'!C2) -> "НЕШКОВИЋ ОСИГУРАЊЕ" А.Д. Бијељина | D2: =IF('БС-Актива-НЖ'!D2="","",'БС-Актива-НЖ'!D2) -> "НЕШКОВИЋ ОСИГУРАЊЕ" А.Д. Бијељина | E2: =IF('БС-Актива-НЖ'!E2="","",'БС-Актива-НЖ'!E2) -> "НЕШКОВИЋ ОСИГУРАЊЕ" А.Д. Бијељина
A3: Ознака друштва/субјекта: | C3: =IF('БС-Актива-НЖ'!C3="","",'БС-Актива-НЖ'!C3) -> РД-1 | D3: =IF('БС-Актива-НЖ'!D3="","",'БС-Актива-НЖ'!D3) -> РД-1 | E3: =IF('БС-Актива-НЖ'!E3="","",'БС-Актива-НЖ'!E3) -> РД-1
A4: Стање на дан: | C4: =IF('БС-Актива-НЖ'!C4="","",'БС-Актива-НЖ'!C4) -> 46203 | D4: =IF('БС-Актива-НЖ'!D4="","",'БС-Актива-НЖ'!D4) | E4: =IF('БС-Актива-НЖ'!E4="","",'БС-Актива-НЖ'!E4)
A5: Редни број: | C5: =IF('БС-Актива-НЖ'!C5="","",'БС-Актива-НЖ'!C5) -> 1 | D5: =IF('БС-Актива-НЖ'!D5="","",'БС-Актива-НЖ'!D5) | E5: =IF('БС-Актива-НЖ'!E5="","",'БС-Актива-НЖ'!E5)
A6: Саставио: | C6: =IF('БС-Актива-НЖ'!C6="","",'БС-Актива-НЖ'!C6) -> Ј.Шкиљевић | D6: =IF('БС-Актива-НЖ'!D6="","",'БС-Актива-НЖ'!D6) | E6: =IF('БС-Актива-НЖ'!E6="","",'БС-Актива-НЖ'!E6)
A7: Одговорно лице: | C7: =IF('БС-Актива-НЖ'!C7="","",'БС-Актива-НЖ'!C7) -> Миленко Мишановић | D7: =IF('БС-Актива-НЖ'!D7="","",'БС-Актива-НЖ'!D7) | E7: =IF('БС-Актива-НЖ'!E7="","",'БС-Актива-НЖ'!E7)
A8: Актуар: | C8: =IF('БС-Актива-НЖ'!C8="","",'БС-Актива-НЖ'!C8) -> Вања Драгичевић | D8: =IF('БС-Актива-НЖ'!D8="","",'БС-Актива-НЖ'!D8) | E8: =IF('БС-Актива-НЖ'!E8="","",'БС-Актива-НЖ'!E8)
A9: Датум попуњавања: | C9: =IF('БС-Актива-НЖ'!C9="","",'БС-Актива-НЖ'!C9) -> 46226 | D9: =IF('БС-Актива-НЖ'!D9="","",'БС-Актива-НЖ'!D9) | E9: =IF('БС-Актива-НЖ'!E9="","",'БС-Актива-НЖ'!E9)
A10: Мјесто попуњавања: | C10: =IF('БС-Актива-НЖ'!C10="","",'БС-Актива-НЖ'!C10) -> Бијељина | D10: =IF('БС-Актива-НЖ'!D10="","",'БС-Актива-НЖ'!D10) | E10: =IF('БС-Актива-НЖ'!E10="","",'БС-Актива-НЖ'!E10)
A11: Контакт: | C11: =IF('БС-Актива-НЖ'!C11="","",'БС-Актива-НЖ'!C11) -> office@neskovicosiguranje.com | D11: =IF('БС-Актива-НЖ'!D11="","",'БС-Актива-НЖ'!D11) | E11: =IF('БС-Актива-НЖ'!E11="","",'БС-Актива-НЖ'!E11)
A13: Биланс стања (Извјештај о финансијском положају)
A14: КМ
A15: Група рачуна, рачун | B15: ПОЗИЦИЈА | C15: Ознака за АОП | D15: Износ на дан биланса текуће | E15: Износ претходне године
A16: 1 | B16: 2 | C16: 3 | D16: 4 | E16: 5
B17: ПАСИВА А. КАПИТАЛ (102-109+110-111+112+118+119-120+121-124) | C17: 101 | D17: =D18-D25+D26-D27+D28+D34+D35-D36+D37-D40 -> 24465334 | E17: =E18-E25+E26-E27+E28+E34+E35-E36+E37-E40 -> 23286741
A18: 30 | B18: I - ОСНОВНИ КАПИТАЛ (103 до 108) | C18: 102 | D18: =D19+D20+D21+D22+D23+D24 -> 10000000 | E18: =E19+E20+E21+E22+E23+E24 -> 10000000
A19: 300 | B19: 1. Акцијски капитал | C19: 103 | D19: 10000000 | E19: 10000000
A20: 301 | B20: 2. Удјели друштва са ограниченом одговорношћу | C20: 104
A21: 302 | B21: 3. Државни капитал | C21: 105
A22: 303 | B22: 4. Улози друштава за узајамно осигурање са ограниченим доприносом | C22: 106
A23: 304 | B23: 5. Улози друштава за узајамно осигурање са неограниченим доприносом | C23: 107
A24: 309 | B24: 6. Остали капитал | C24: 108
A25: 310 до 312 | B25: II - УПИСАНИ НЕУПЛАЋЕНИ КАПИТАЛ | C25: 109
A26: 320 | B26: III - ЕМИСИОНА ПРЕМИЈА | C26: 110
A27: 321 | B27: IV - ЕМИСИОНИ ГУБИТАК | C27: 111
A28: дио 32 | B28: V - РЕЗЕРВЕ ИЗ ДОБИТКА (113 до 117) | C28: 112 | D28: =D29+D30+D31+D32+D33 -> 1000000 | E28: =E29+E30+E31+E32+E33 -> 1000000
A29: 322 | B29: 1. Законске резерве | C29: 113 | D29: 1000000 | E29: 1000000
A30: 323 | B30: 2. Статутарне резерве | C30: 114
A31: 324 | B31: 3. Друге резерве утврђене актима друштва | C31: 115
A32: 325 | B32: 4. Резерве за сопствене акције | C32: 116
A33: 329 | B33: 5. Остале резерве из добитка | C33: 117
A34: 330, 331,332,334 и 336 | B34: VI - РЕВАЛОРИЗАЦИОНЕ РЕЗЕРВЕ | C34: 118 | D34: 1064520 | E34: 1064519
A35: 333 | B35: VII - НЕРЕАЛИЗОВАНИ ДОБИЦИ ПО ОСНОВУ ФИНАНСИЈСКИХ СРЕДСТАВА РАСПОЛОЖИВИХ ЗА ПРОДАЈУ | C35: 119
A36: 335 | B36: VIII - НЕРЕАЛИЗОВАНИ ГУБИЦИ ПО ОСНОВУ ФИНАНСИЈСКИХ СРЕДСТАВА РАСПОЛОЖИВИХ ЗА ПРОДАЈУ | C36: 120
A37: 34 | B37: IX - НЕРАСПОРЕЂЕНИ ДОБИТАК (122+123) | C37: 121 | D37: =D38+D39 -> 12400814 | E37: =E38+E39 -> 11222222
A38: 340 | B38: 1. Нераспоређени добитак ранијих година | C38: 122 | D38: 6178593
A39: 341 | B39: 2. Нераспоређени добитак текуће године | C39: 123 | D39: 6222221 | E39: 11222222
A40: 35 | B40: X ГУБИТАК ДО ВИСИНЕ КАПИТАЛА (125+126) | C40: 124 | D40: =D41+D42 -> 0 | E40: =E41+E42 -> 0
A41: 350 | B41: 1. Губитак ранијих година | C41: 125
A42: 351 | B42: 2. Губитак текуће године | C42: 126
A43: 40 | B43: Б. ДУГОРОЧНА РЕЗЕРВИСАЊА (128 до 136) | C43: 127 | D43: =D44+D45+D46+D47+D48+D49+D50+D51+D52 -> 133128 | E43: =E44+E45+E46+E47+E48+E49+E50+E51+E52 -> 133128
A44: 400 | B44: 1. Математичка резерва животних осигурања | C44: 128
A45: 401 | B45: 2. Резервисања за учешће у добитку | C45: 129
A46: 402 | B46: 3. Резервисања за изравнање ризика | C46: 130
A47: 403 | B47: 4. Резервисања за задржане кауције и депозите | C47: 131
A48: 404 | B48: 5. Резервисања за трошкове реструктурисања | C48: 132
A49: 405 | B49: 6. Резервисања за бонусе и попусте | C49: 133
A50: 406 | B50: 7. Резервисања за накнаде и бенефиције запослених | C50: 134 | D50: 133128 | E50: 133128
A51: 407 | B51: 8.Друге техничке резерве осигурања | C51: 135
A52: 409 | B52: 9.Резервисања за судске спорове у току и остала дугорочна резервисања | C52: 136
B53: В.ОБАВЕЗЕ (138+147) | C53: 137 | D53: =D54+D63 -> 23286094 | E53: =E54+E63 -> 24707923
A54: 41 | B54: I ДУГОРОЧНЕ ОБАВЕЗЕ (139 до 146) | C54: 138 | D54: =D55+D56+D57+D58+D59+D60+D61+D62 -> 99015 | E54: =E55+E56+E57+E58+E59+E60+E61+E62 -> 95706
A55: 410 | B55: 1. Обавезе које се могу конвертовати у капитал | C55: 139
A56: 411 | B56: 2. Обавезе према повезаним правним лицима | C56: 140
A57: 412 | B57: 3. Обавезе по емитованим дугорочним хартијама од вриједности | C57: 141
A58: 413 и 414 | B58: 4. Дугорочни кредити | C58: 142
A59: 415 и 416 | B59: 5. Дугорочне обавезе по финансијском лизингу | C59: 143
A60: 417 | B60: 6. Дугорочне обавезе по фер вриједности кроз биланс успјеха | C60: 144
A61: 418 | B61: 7. Одложене пореске обавезе | C61: 145
A62: 419 | B62: 8. Остале дугорочне обавезе | C62: 146 | D62: 99015 | E62: 95706
A63: 42 до 48 | B63: II КРАТКОРОЧНЕ ОБАВЕЗЕ (148+156+160+161+164+165+166+167+168) | C63: 147 | D63: =D64+D72+D76+D77+D80+D81+D82+D83+D84 -> 23187079 | E63: =E64+E72+E76+E77+E80+E81+E82+E83+E84 -> 24612217
A64: 42 | B64: 1. Краткорочне финансијске обавезе (149 до 155) | C64: 148 | D64: =D65+D66+D67+D68+D69+D70+D71 -> 21177 | E64: =E65+E66+E67+E68+E69+E70+E71 -> 42353
A65: 420 | B65: а) Краткорочне финансијске обавезе према повезаним правним лицима | C65: 149
A66: 421 | B66: б) Обавезе по емитованим краткорочним хартијама од вриједности | C66: 150
A67: 422 и 423 | B67: в) Краткорочни кредити | C67: 151
A68: 424 и 425 | B68: г) Дио дугорочних финансијских обавеза који доспијева у периоду до годину дана | C68: 152
A69: 426 | B69: д) Краткорочне обавезе по фер вриједности кроз биланс успјеха | C69: 153
A70: 427 | B70: ђ) Обавезе по основу сталних средстава намијењених продаји и средстава пословања које се обуставља | C70: 154
A71: 429 | B71: е) Остале краткорочне финансијске обавезе | C71: 155 | D71: 21177 | E71: 42353
A72: 43 | B72: 2. Обавезе по основу штета и уговорених износа (157 до 159) | C72: 156 | D72: =D73+D74+D75 -> 26433 | E72: =E73+E74+E75 -> 0
A73: 430 и 431 | B73: а) Обавезе по основу штета и уговорених износа | C73: 157 | D73: 26433
A74: 432 и 434 | B74: б) Обавезе по основу удјела у штетама и уговореним износима из реосигурања и ретроцесије | C74: 158
A75: 433 и 435 | B75: в) Обавезе по основу удјела у штетама и уговореним износима из саосигурања | C75: 159
A76: 440 до 449 | B76: 3. Обавезе за премију и специфичне обавезе | C76: 160 | D76: 42033 | E76: 176105
A77: 45 | B77: 4. Обавезе по основу зарада и накнада зарада (162+163) | C77: 161 | D77: =D78+D79 -> 185310 | E77: =E78+E79 -> 172993
A78: 450 до 455 | B78: а) Обавезе по основу бруто зарада | C78: 162 | D78: 185310 | E78: 172993
A79: 456 до 458 | B79: б) Обавезе по основу бруто накнада зарада | C79: 163
A80: 460 до 469 | B80: 5. Друге обавезе из пословања | C80: 164 | D80: 222944 | E80: 124050
A81: 47, осим 474 | B81: 6. Обавезе за порезе, доприносе и друге краткорочне обавезе | C81: 165 | D81: 467786 | E81: 82311
A82: 474 | B82: 7. Обавезе за порез из резултата | C82: 166 | D82: 38847 | E82: 810167
A83: 497 | B83: 8. Одложене пореске обавезе | C83: 167
A84: 49, осим 497 | B84: 9. Пасивна временска разграничења (169 до 175) | C84: 168 | D84: =D85+D86+D87+D88+D89+D90+D91 -> 22182549 | E84: =E85+E86+E87+E88+E89+E90+E91 -> 23204238
A85: 490 | B85: а) Преносне премије животних осигурања | C85: 169
A86: 491 | B86: б) Преносне премије неживотних осигурања | C86: 170 | D86: 10127901 | E86: 10223724
A87: 492 | B87: в) Преносне премије саосигурања, реосигурања и ретроцесија | C87: 171 | D87: 1030 | E87: 1667
A88: 493 | B88: г) Резервисане штете животних осигурања | C88: 172
A89: 494 | B89: д) Резервисане штете неживотних осигурања | C89: 173 | D89: 10480855 | E89: 11415689
A90: 495 | B90: ђ) Резервисања за удјеле у штетама по основу саосигурања, реосигурања и ретроцесија | C90: 174
A91: 496, 498 и 499 | B91: е) Друга пасивна временска разграничења | C91: 175 | D91: 1572763 | E91: 1563158
B92: Г. ПОСЛОВНА ПАСИВА (101+127+137) | C92: 176 | D92: =D17+D43+D53 -> 47884556 | E92: =E17+E43+E53 -> 48127792
A93: 89 | B93: Д. ВАНБИЛАНСНА ПАСИВА | C93: 177
B94: Ђ. УКУПНА ПАСИВА (176+177) | C94: 178 | D94: =D92+D93 -> 47884556 | E94: =E92+E93 -> 48127792
B95: Напомена:
B96: БС-Пасива-НЖ

Sheet БС-Пасива-Ж
E1: Образац:БС-Д
A2: Назив друштва/субјекта: | C2: =IF('БС-Актива-НЖ'!C2="","",'БС-Актива-НЖ'!C2) -> "НЕШКОВИЋ ОСИГУРАЊЕ" А.Д. Бијељина | D2: =IF('БС-Актива-НЖ'!D2="","",'БС-Актива-НЖ'!D2) -> "НЕШКОВИЋ ОСИГУРАЊЕ" А.Д. Бијељина | E2: =IF('БС-Актива-НЖ'!E2="","",'БС-Актива-НЖ'!E2) -> "НЕШКОВИЋ ОСИГУРАЊЕ" А.Д. Бијељина
A3: Ознака друштва/субјекта: | C3: =IF('БС-Актива-НЖ'!C3="","",'БС-Актива-НЖ'!C3) -> РД-1 | D3: =IF('БС-Актива-НЖ'!D3="","",'БС-Актива-НЖ'!D3) -> РД-1 | E3: =IF('БС-Актива-НЖ'!E3="","",'БС-Актива-НЖ'!E3) -> РД-1
A4: Стање на дан: | C4: =IF('БС-Актива-НЖ'!C4="","",'БС-Актива-НЖ'!C4) -> 46203 | D4: =IF('БС-Актива-НЖ'!D4="","",'БС-Актива-НЖ'!D4) | E4: =IF('БС-Актива-НЖ'!E4="","",'БС-Актива-НЖ'!E4)
A5: Редни број: | C5: =IF('БС-Актива-НЖ'!C5="","",'БС-Актива-НЖ'!C5) -> 1 | D5: =IF('БС-Актива-НЖ'!D5="","",'БС-Актива-НЖ'!D5) | E5: =IF('БС-Актива-НЖ'!E5="","",'БС-Актива-НЖ'!E5)
A6: Саставио: | C6: =IF('БС-Актива-НЖ'!C6="","",'БС-Актива-НЖ'!C6) -> Ј.Шкиљевић | D6: =IF('БС-Актива-НЖ'!D6="","",'БС-Актива-НЖ'!D6) | E6: =IF('БС-Актива-НЖ'!E6="","",'БС-Актива-НЖ'!E6)
A7: Одговорно лице: | C7: =IF('БС-Актива-НЖ'!C7="","",'БС-Актива-НЖ'!C7) -> Миленко Мишановић | D7: =IF('БС-Актива-НЖ'!D7="","",'БС-Актива-НЖ'!D7) | E7: =IF('БС-Актива-НЖ'!E7="","",'БС-Актива-НЖ'!E7)
A8: Актуар: | C8: =IF('БС-Актива-НЖ'!C8="","",'БС-Актива-НЖ'!C8) -> Вања Драгичевић | D8: =IF('БС-Актива-НЖ'!D8="","",'БС-Актива-НЖ'!D8) | E8: =IF('БС-Актива-НЖ'!E8="","",'БС-Актива-НЖ'!E8)
A9: Датум попуњавања: | C9: =IF('БС-Актива-НЖ'!C9="","",'БС-Актива-НЖ'!C9) -> 46226 | D9: =IF('БС-Актива-НЖ'!D9="","",'БС-Актива-НЖ'!D9) | E9: =IF('БС-Актива-НЖ'!E9="","",'БС-Актива-НЖ'!E9)
A10: Мјесто попуњавања: | C10: =IF('БС-Актива-НЖ'!C10="","",'БС-Актива-НЖ'!C10) -> Бијељина | D10: =IF('БС-Актива-НЖ'!D10="","",'БС-Актива-НЖ'!D10) | E10: =IF('БС-Актива-НЖ'!E10="","",'БС-Актива-НЖ'!E10)
A11: Контакт: | C11: =IF('БС-Актива-НЖ'!C11="","",'БС-Актива-НЖ'!C11) -> office@neskovicosiguranje.com | D11: =IF('БС-Актива-НЖ'!D11="","",'БС-Актива-НЖ'!D11) | E11: =IF('БС-Актива-НЖ'!E11="","",'БС-Актива-НЖ'!E11)
A13: Биланс стања (Извјештај о финансијском положају)
A14: КМ
A15: Група рачуна, рачун | B15: ПОЗИЦИЈА | C15: Ознака за АОП | D15: Износ на дан биланса текуће | E15: Износ претходне године
A16: 1 | B16: 2 | C16: 3 | D16: 4 | E16: 5
B17: ПАСИВА А. КАПИТАЛ (102-109+110-111+112+118+119-120+121-124) | C17: 101 | D17: =D18-D25+D26-D27+D28+D34+D35-D36+D37-D40 -> 0 | E17: =E18-E25+E26-E27+E28+E34+E35-E36+E37-E40 -> 0
A18: 30 | B18: I - ОСНОВНИ КАПИТАЛ (103 до 108) | C18: 102 | D18: =D19+D20+D21+D22+D23+D24 -> 0 | E18: =E19+E20+E21+E22+E23+E24 -> 0
A19: 300 | B19: 1. Акцијски капитал | C19: 103
A20: 301 | B20: 2. Удјели друштва са ограниченом одговорношћу | C20: 104
A21: 302 | B21: 3. Државни капитал | C21: 105
A22: 303 | B22: 4. Улози друштава за узајамно осигурање са ограниченим доприносом | C22: 106
A23: 304 | B23: 5. Улози друштава за узајамно осигурање са неограниченим доприносом | C23: 107
A24: 309 | B24: 6. Остали капитал | C24: 108
A25: 310 до 312 | B25: II - УПИСАНИ НЕУПЛАЋЕНИ КАПИТАЛ | C25: 109
A26: 320 | B26: III - ЕМИСИОНА ПРЕМИЈА | C26: 110
A27: 321 | B27: IV - ЕМИСИОНИ ГУБИТАК | C27: 111
A28: дио 32 | B28: V - РЕЗЕРВЕ ИЗ ДОБИТКА (113 до 117) | C28: 112 | D28: =D29+D30+D31+D32+D33 -> 0 | E28: =E29+E30+E31+E32+E33 -> 0
A29: 322 | B29: 1. Законске резерве | C29: 113
A30: 323 | B30: 2. Статутарне резерве | C30: 114
A31: 324 | B31: 3. Друге резерве утврђене актима друштва | C31: 115
A32: 325 | B32: 4. Резерве за сопствене акције | C32: 116
A33: 329 | B33: 5. Остале резерве из добитка | C33: 117
A34: 330, 331,332,334 и 336 | B34: VI - РЕВАЛОРИЗАЦИОНЕ РЕЗЕРВЕ | C34: 118
A35: 333 | B35: VII - НЕРЕАЛИЗОВАНИ ДОБИЦИ ПО ОСНОВУ ФИНАНСИЈСКИХ СРЕДСТАВА РАСПОЛОЖИВИХ ЗА ПРОДАЈУ | C35: 119
A36: 335 | B36: VIII - НЕРЕАЛИЗОВАНИ ГУБИЦИ ПО ОСНОВУ ФИНАНСИЈСКИХ СРЕДСТАВА РАСПОЛОЖИВИХ ЗА ПРОДАЈУ | C36: 120
A37: 34 | B37: IX - НЕРАСПОРЕЂЕНИ ДОБИТАК (122+123) | C37: 121 | D37: =D38+D39 -> 0 | E37: =E38+E39 -> 0
A38: 340 | B38: 1. Нераспоређени добитак ранијих година | C38: 122
A39: 341 | B39: 2. Нераспоређени добитак текуће године | C39: 123
A40: 35 | B40: X ГУБИТАК ДО ВИСИНЕ КАПИТАЛА (125+126) | C40: 124 | D40: =D41+D42 -> 0 | E40: =E41+E42 -> 0
A41: 350 | B41: 1. Губитак ранијих година | C41: 125
A42: 351 | B42: 2. Губитак текуће године | C42: 126
A43: 40 | B43: Б. ДУГОРОЧНА РЕЗЕРВИСАЊА (128 до 136) | C43: 127 | D43: =D44+D45+D46+D47+D48+D49+D50+D51+D52 -> 0 | E43: =E44+E45+E46+E47+E48+E49+E50+E51+E52 -> 0
A44: 400 | B44: 1. Математичка резерва животних осигурања | C44: 128
A45: 401 | B45: 2. Резервисања за учешће у добитку | C45: 129
A46: 402 | B46: 3. Резервисања за изравнање ризика | C46: 130
A47: 403 | B47: 4. Резервисања за задржане кауције и депозите | C47: 131
A48: 404 | B48: 5. Резервисања за трошкове реструктурисања | C48: 132
A49: 405 | B49: 6. Резервисања за бонусе и попусте | C49: 133
A50: 406 | B50: 7. Резервисања за накнаде и бенефиције запослених | C50: 134
A51: 407 | B51: 8.Друге техничке резерве осигурања | C51: 135
A52: 409 | B52: 9.Резервисања за судске спорове у току и остала дугорочна резервисања | C52: 136
B53: В.ОБАВЕЗЕ (138+147) | C53: 137 | D53: =D54+D63 -> 0 | E53: =E54+E63 -> 0
A54: 41 | B54: I ДУГОРОЧНЕ ОБАВЕЗЕ (139 до 146) | C54: 138 | D54: =D55+D56+D57+D58+D59+D60+D61+D62 -> 0 | E54: =E55+E56+E57+E58+E59+E60+E61+E62 -> 0
A55: 410 | B55: 1. Обавезе које се могу конвертовати у капитал | C55: 139
A56: 411 | B56: 2. Обавезе према повезаним правним лицима | C56: 140
A57: 412 | B57: 3. Обавезе по емитованим дугорочним хартијама од вриједности | C57: 141
A58: 413 и 414 | B58: 4. Дугорочни кредити | C58: 142
A59: 415 и 416 | B59: 5. Дугорочне обавезе по финансијском лизингу | C59: 143
A60: 417 | B60: 6. Дугорочне обавезе по фер вриједности кроз биланс успјеха | C60: 144
A61: 418 | B61: 7. Одложене пореске обавезе | C61: 145
A62: 419 | B62: 8. Остале дугорочне обавезе | C62: 146
A63: 42 до 48 | B63: II КРАТКОРОЧНЕ ОБАВЕЗЕ (148+156+160+161+164+165+166+167+168) | C63: 147 | D63: =D64+D72+D76+D77+D80+D81+D82+D83+D84 -> 0 | E63: =E64+E72+E76+E77+E80+E81+E82+E83+E84 -> 0
A64: 42 | B64: 1. Краткорочне финансијске обавезе (149 до 155) | C64: 148 | D64: =D65+D66+D67+D68+D69+D70+D71 -> 0 | E64: =E65+E66+E67+E68+E69+E70+E71 -> 0
A65: 420 | B65: а) Краткорочне финансијске обавезе према повезаним правним лицима | C65: 149
A66: 421 | B66: б) Обавезе по емитованим краткорочним хартијама од вриједности | C66: 150
A67: 422 и 423 | B67: в) Краткорочни кредити | C67: 151
A68: 424 и 425 | B68: г) Дио дугорочних финансијских обавеза који доспијева у периоду до годину дана | C68: 152
A69: 426 | B69: д) Краткорочне обавезе по фер вриједности кроз биланс успјеха | C69: 153
A70: 427 | B70: ђ) Обавезе по основу сталних средстава намијењених продаји и средстава пословања које се обуставља | C70: 154
A71: 429 | B71: е) Остале краткорочне финансијске обавезе | C71: 155
A72: 43 | B72: 2. Обавезе по основу штета и уговорених износа (157 до 159) | C72: 156 | D72: =D73+D74+D75 -> 0 | E72: =E73+E74+E75 -> 0
A73: 430 и 431 | B73: а) Обавезе по основу штета и уговорених износа | C73: 157
A74: 432 и 434 | B74: б) Обавезе по основу удјела у штетама и уговореним износима из реосигурања и ретроцесије | C74: 158
A75: 433 и 435 | B75: в) Обавезе по основу удјела у штетама и уговореним износима из саосигурања | C75: 159
A76: 440 до 449 | B76: 3. Обавезе за премију и специфичне обавезе | C76: 160
A77: 45 | B77: 4. Обавезе по основу зарада и накнада зарада (162+163) | C77: 161 | D77: =D78+D79 -> 0 | E77: =E78+E79 -> 0
A78: 450 до 455 | B78: а) Обавезе по основу бруто зарада | C78: 162
A79: 456 до 458 | B79: б) Обавезе по основу бруто накнада зарада | C79: 163
A80: 460 до 469 | B80: 5. Друге обавезе из пословања | C80: 164
A81: 47, осим 474 | B81: 6. Обавезе за порезе, доприносе и друге краткорочне обавезе | C81: 165
A82: 474 | B82: 7. Обавезе за порез из резултата | C82: 166
A83: 497 | B83: 8. Одложене пореске обавезе | C83: 167
A84: 49, осим 497 | B84: 9. Пасивна временска разграничења (169 до 175) | C84: 168 | D84: =D85+D86+D87+D88+D89+D90+D91 -> 0 | E84: =E85+E86+E87+E88+E89+E90+E91 -> 0
A85: 490 | B85: а) Преносне премије животних осигурања | C85: 169
A86: 491 | B86: б) Преносне премије неживотних осигурања | C86: 170
A87: 492 | B87: в) Преносне премије саосигурања, реосигурања и ретроцесија | C87: 171
A88: 493 | B88: г) Резервисане штете животних осигурања | C88: 172
A89: 494 | B89: д) Резервисане штете неживотних осигурања | C89: 173
A90: 495 | B90: ђ) Резервисања за удјеле у штетама по основу саосигурања, реосигурања и ретроцесија | C90: 174
A91: 496, 498 и 499 | B91: е) Друга пасивна временска разграничења | C91: 175
B92: Г. ПОСЛОВНА ПАСИВА (101+127+137) | C92: 176 | D92: =D17+D43+D53 -> 0 | E92: =E17+E43+E53 -> 0
A93: 89 | B93: Д. ВАНБИЛАНСНА ПАСИВА | C93: 177
B94: Ђ. УКУПНА ПАСИВА (176+177) | C94: 178 | D94: =D92+D93 -> 0 | E94: =E92+E93 -> 0
B95: Напомена:
B96: БС-Пасива-Ж

Sheet БС-Пасива-Укупно
E1: Образац:БС-Д
A2: Назив друштва/субјекта: | C2: =IF('БС-Актива-НЖ'!C2="","",'БС-Актива-НЖ'!C2) -> "НЕШКОВИЋ ОСИГУРАЊЕ" А.Д. Бијељина | D2: =IF('БС-Актива-НЖ'!D2="","",'БС-Актива-НЖ'!D2) -> "НЕШКОВИЋ ОСИГУРАЊЕ" А.Д. Бијељина | E2: =IF('БС-Актива-НЖ'!E2="","",'БС-Актива-НЖ'!E2) -> "НЕШКОВИЋ ОСИГУРАЊЕ" А.Д. Бијељина
A3: Ознака друштва/субјекта: | C3: =IF('БС-Актива-НЖ'!C3="","",'БС-Актива-НЖ'!C3) -> РД-1 | D3: =IF('БС-Актива-НЖ'!D3="","",'БС-Актива-НЖ'!D3) -> РД-1 | E3: =IF('БС-Актива-НЖ'!E3="","",'БС-Актива-НЖ'!E3) -> РД-1
A4: Стање на дан: | C4: =IF('БС-Актива-НЖ'!C4="","",'БС-Актива-НЖ'!C4) -> 46203 | D4: =IF('БС-Актива-НЖ'!D4="","",'БС-Актива-НЖ'!D4) | E4: =IF('БС-Актива-НЖ'!E4="","",'БС-Актива-НЖ'!E4)
A5: Редни број: | C5: =IF('БС-Актива-НЖ'!C5="","",'БС-Актива-НЖ'!C5) -> 1 | D5: =IF('БС-Актива-НЖ'!D5="","",'БС-Актива-НЖ'!D5) | E5: =IF('БС-Актива-НЖ'!E5="","",'БС-Актива-НЖ'!E5)
A6: Саставио: | C6: =IF('БС-Актива-НЖ'!C6="","",'БС-Актива-НЖ'!C6) -> Ј.Шкиљевић | D6: =IF('БС-Актива-НЖ'!D6="","",'БС-Актива-НЖ'!D6) | E6: =IF('БС-Актива-НЖ'!E6="","",'БС-Актива-НЖ'!E6)
A7: Одговорно лице: | C7: =IF('БС-Актива-НЖ'!C7="","",'БС-Актива-НЖ'!C7) -> Миленко Мишановић | D7: =IF('БС-Актива-НЖ'!D7="","",'БС-Актива-НЖ'!D7) | E7: =IF('БС-Актива-НЖ'!E7="","",'БС-Актива-НЖ'!E7)
A8: Актуар: | C8: =IF('БС-Актива-НЖ'!C8="","",'БС-Актива-НЖ'!C8) -> Вања Драгичевић | D8: =IF('БС-Актива-НЖ'!D8="","",'БС-Актива-НЖ'!D8) | E8: =IF('БС-Актива-НЖ'!E8="","",'БС-Актива-НЖ'!E8)
A9: Датум попуњавања: | C9: =IF('БС-Актива-НЖ'!C9="","",'БС-Актива-НЖ'!C9) -> 46226 | D9: =IF('БС-Актива-НЖ'!D9="","",'БС-Актива-НЖ'!D9) | E9: =IF('БС-Актива-НЖ'!E9="","",'БС-Актива-НЖ'!E9)
A10: Мјесто попуњавања: | C10: =IF('БС-Актива-НЖ'!C10="","",'БС-Актива-НЖ'!C10) -> Бијељина | D10: =IF('БС-Актива-НЖ'!D10="","",'БС-Актива-НЖ'!D10) | E10: =IF('БС-Актива-НЖ'!E10="","",'БС-Актива-НЖ'!E10)
A11: Контакт: | C11: =IF('БС-Актива-НЖ'!C11="","",'БС-Актива-НЖ'!C11) -> office@neskovicosiguranje.com | D11: =IF('БС-Актива-НЖ'!D11="","",'БС-Актива-НЖ'!D11) | E11: =IF('БС-Актива-НЖ'!E11="","",'БС-Актива-НЖ'!E11)
A13: Биланс стања (Извјештај о финансијском положају)
A14: КМ
A15: Група рачуна, рачун | B15: ПОЗИЦИЈА | C15: Ознака за АОП | D15: Износ на дан биланса текуће | E15: Износ претходне године
A16: 1 | B16: 2 | C16: 3 | D16: 4 | E16: 5
B17: ПАСИВА А. КАПИТАЛ (102-109+110-111+112+118+119-120+121-124) | C17: 101 | D17: ='БС-Пасива-НЖ'!D17+'БС-Пасива-Ж'!D17 -> 24465334 | E17: ='БС-Пасива-НЖ'!E17+'БС-Пасива-Ж'!E17 -> 23286741
A18: 30 | B18: I - ОСНОВНИ КАПИТАЛ (103 до 108) | C18: 102 | D18: ='БС-Пасива-НЖ'!D18+'БС-Пасива-Ж'!D18 -> 10000000 | E18: ='БС-Пасива-НЖ'!E18+'БС-Пасива-Ж'!E18 -> 10000000
A19: 300 | B19: 1. Акцијски капитал | C19: 103 | D19: ='БС-Пасива-НЖ'!D19+'БС-Пасива-Ж'!D19 -> 10000000 | E19: ='БС-Пасива-НЖ'!E19+'БС-Пасива-Ж'!E19 -> 10000000
A20: 301 | B20: 2. Удјели друштва са ограниченом одговорношћу | C20: 104 | D20: ='БС-Пасива-НЖ'!D20+'БС-Пасива-Ж'!D20 -> 0 | E20: ='БС-Пасива-НЖ'!E20+'БС-Пасива-Ж'!E20 -> 0
A21: 302 | B21: 3. Државни капитал | C21: 105 | D21: ='БС-Пасива-НЖ'!D21+'БС-Пасива-Ж'!D21 -> 0 | E21: ='БС-Пасива-НЖ'!E21+'БС-Пасива-Ж'!E21 -> 0
A22: 303 | B22: 4. Улози друштава за узајамно осигурање са ограниченим доприносом | C22: 106 | D22: ='БС-Пасива-НЖ'!D22+'БС-Пасива-Ж'!D22 -> 0 | E22: ='БС-Пасива-НЖ'!E22+'БС-Пасива-Ж'!E22 -> 0
A23: 304 | B23: 5. Улози друштава за узајамно осигурање са неограниченим доприносом | C23: 107 | D23: ='БС-Пасива-НЖ'!D23+'БС-Пасива-Ж'!D23 -> 0 | E23: ='БС-Пасива-НЖ'!E23+'БС-Пасива-Ж'!E23 -> 0
A24: 309 | B24: 6. Остали капитал | C24: 108 | D24: ='БС-Пасива-НЖ'!D24+'БС-Пасива-Ж'!D24 -> 0 | E24: ='БС-Пасива-НЖ'!E24+'БС-Пасива-Ж'!E24 -> 0
A25: 310 до 312 | B25: II - УПИСАНИ НЕУПЛАЋЕНИ КАПИТАЛ | C25: 109 | D25: ='БС-Пасива-НЖ'!D25+'БС-Пасива-Ж'!D25 -> 0 | E25: ='БС-Пасива-НЖ'!E25+'БС-Пасива-Ж'!E25 -> 0
A26: 320 | B26: III - ЕМИСИОНА ПРЕМИЈА | C26: 110 | D26: ='БС-Пасива-НЖ'!D26+'БС-Пасива-Ж'!D26 -> 0 | E26: ='БС-Пасива-НЖ'!E26+'БС-Пасива-Ж'!E26 -> 0
A27: 321 | B27: IV - ЕМИСИОНИ ГУБИТАК | C27: 111 | D27: ='БС-Пасива-НЖ'!D27+'БС-Пасива-Ж'!D27 -> 0 | E27: ='БС-Пасива-НЖ'!E27+'БС-Пасива-Ж'!E27 -> 0
A28: дио 32 | B28: V - РЕЗЕРВЕ ИЗ ДОБИТКА (113 до 117) | C28: 112 | D28: ='БС-Пасива-НЖ'!D28+'БС-Пасива-Ж'!D28 -> 1000000 | E28: ='БС-Пасива-НЖ'!E28+'БС-Пасива-Ж'!E28 -> 1000000
A29: 322 | B29: 1. Законске резерве | C29: 113 | D29: ='БС-Пасива-НЖ'!D29+'БС-Пасива-Ж'!D29 -> 1000000 | E29: ='БС-Пасива-НЖ'!E29+'БС-Пасива-Ж'!E29 -> 1000000
... A36: 335 | B36: VIII - НЕРЕАЛИЗОВАНИ ГУБИЦИ ПО ОСНОВУ ФИНАНСИЈСКИХ СРЕДСТАВА РАСПОЛОЖИВИХ ЗА ПРОДАЈУ | C36: 120 | D36: ='БС-Пасива-НЖ'!D36+'БС-Пасива-Ж'!D36 -> 0 | E36: ='БС-Пасива-НЖ'!E36+'БС-Пасива-Ж'!E36 -> 0
A37: 34 | B37: IX - НЕРАСПОРЕЂЕНИ ДОБИТАК (122+123) | C37: 121 | D37: =IF((D38+D39)>0,D38+D39,0) -> 12400814 | E37: =IF((E38+E39)>0,E38+E39,0) -> 11222222
A38: 340 | B38: 1. Нераспоређени добитак ранијих година | C38: 122 | D38: =IF((('БС-Пасива-НЖ'!D38+'БС-Пасива-Ж'!D38)-('БС-Пасива-НЖ'!D41+'БС-Пасива-Ж'!D41))>0,('БС-Пасива-НЖ'!D38+'БС-Пасива-Ж'!D38)-('БС-Пасива-НЖ'!D41+'БС-Пасива-Ж'!D41),0) -> 6178593 | E38: =IF((('БС-Пасива-НЖ'!E38+'БС-Пасива-Ж'!E38)-('БС-Пасива-НЖ'!E41+'БС-Пасива-Ж'!E41))>0,('БС-Пасива-НЖ'!E38+'БС-Пасива-Ж'!E38)-('БС-Пасива-НЖ'!E41+'БС-Пасива-Ж'!E41),0) -> 0
A39: 341 | B39: 2. Нераспоређени добитак текуће године | C39: 123 | D39: =IF((('БС-Пасива-НЖ'!D39+'БС-Пасива-Ж'!D39)-('БС-Пасива-НЖ'!D42+'БС-Пасива-Ж'!D42))>0,('БС-Пасива-НЖ'!D39+'БС-Пасива-Ж'!D39)-('БС-Пасива-НЖ'!D42+'БС-Пасива-Ж'!D42),0) -> 6222221 | E39: =IF((('БС-Пасива-НЖ'!E39+'БС-Пасива-Ж'!E39)-('БС-Пасива-НЖ'!E42+'БС-Пасива-Ж'!E42))>0,('БС-Пасива-НЖ'!E39+'БС-Пасива-Ж'!E39)-('БС-Пасива-НЖ'!E42+'БС-Пасива-Ж'!E42),0) -> 11222222
A40: 35 | B40: X ГУБИТАК ДО ВИСИНЕ КАПИТАЛА (125+126) | C40: 124 | D40: =IF((D41+D42)>0,D41+D42,0) -> 0 | E40: =IF((E41+E42)>0,E41+E42,0) -> 0
A41: 350 | B41: 1. Губитак ранијих година | C41: 125 | D41: =IF((('БС-Пасива-НЖ'!D41+'БС-Пасива-Ж'!D41)-('БС-Пасива-НЖ'!D38+'БС-Пасива-Ж'!D38))>0,('БС-Пасива-НЖ'!D41+'БС-Пасива-Ж'!D41)-('БС-Пасива-НЖ'!D38+'БС-Пасива-Ж'!D38),0) -> 0 | E41: =IF((('БС-Пасива-НЖ'!E41+'БС-Пасива-Ж'!E41)-('БС-Пасива-НЖ'!E38+'БС-Пасива-Ж'!E38))>0,('БС-Пасива-НЖ'!E41+'БС-Пасива-Ж'!E41)-('БС-Пасива-НЖ'!E38+'БС-Пасива-Ж'!E38),0) -> 0
A42: 351 | B42: 2. Губитак текуће године | C42: 126 | D42: =IF((('БС-Пасива-НЖ'!D42+'БС-Пасива-Ж'!D42)-('БС-Пасива-НЖ'!D39+'БС-Пасива-Ж'!D39))>0,('БС-Пасива-НЖ'!D42+'БС-Пасива-Ж'!D42)-('БС-Пасива-НЖ'!D39+'БС-Пасива-Ж'!D39),0) -> 0 | E42: =IF((('БС-Пасива-НЖ'!E42+'БС-Пасива-Ж'!E42)-('БС-Пасива-НЖ'!E39+'БС-Пасива-Ж'!E39))>0,('БС-Пасива-НЖ'!E42+'БС-Пасива-Ж'!E42)-('БС-Пасива-НЖ'!E39+'БС-Пасива-Ж'!E39),0) -> 0
A43: 40 | B43: Б. ДУГОРОЧНА РЕЗЕРВИСАЊА (128 до 136) | C43: 127 | D43: ='БС-Пасива-НЖ'!D43+'БС-Пасива-Ж'!D43 -> 133128 | E43: ='БС-Пасива-НЖ'!E43+'БС-Пасива-Ж'!E43 -> 133128
A44: 400 | B44: 1. Математичка резерва животних осигурања | C44: 128 | D44: ='БС-Пасива-НЖ'!D44+'БС-Пасива-Ж'!D44 -> 0 | E44: ='БС-Пасива-НЖ'!E44+'БС-Пасива-Ж'!E44 -> 0
A45: 401 | B45: 2. Резервисања за учешће у добитку | C45: 129 | D45: ='БС-Пасива-НЖ'!D45+'БС-Пасива-Ж'!D45 -> 0 | E45: ='БС-Пасива-НЖ'!E45+'БС-Пасива-Ж'!E45 -> 0
A46: 402 | B46: 3. Резервисања за изравнање ризика | C46: 130 | D46: ='БС-Пасива-НЖ'!D46+'БС-Пасива-Ж'!D46 -> 0 | E46: ='БС-Пасива-НЖ'!E46+'БС-Пасива-Ж'!E46 -> 0
A47: 403 | B47: 4. Резервисања за задржане кауције и депозите | C47: 131 | D47: ='БС-Пасива-НЖ'!D47+'БС-Пасива-Ж'!D47 -> 0 | E47: ='БС-Пасива-НЖ'!E47+'БС-Пасива-Ж'!E47 -> 0
A48: 404 | B48: 5. Резервисања за трошкове реструктурисања | C48: 132 | D48: ='БС-Пасива-НЖ'!D48+'БС-Пасива-Ж'!D48 -> 0 | E48: ='БС-Пасива-НЖ'!E48+'БС-Пасива-Ж'!E48 -> 0
A49: 405 | B49: 6. Резервисања за бонусе и попусте | C49: 133 | D49: ='БС-Пасива-НЖ'!D49+'БС-Пасива-Ж'!D49 -> 0 | E49: ='БС-Пасива-НЖ'!E49+'БС-Пасива-Ж'!E49 -> 0
A50: 406 | B50: 7. Резервисања за накнаде и бенефиције запослених | C50: 134 | D50: ='БС-Пасива-НЖ'!D50+'БС-Пасива-Ж'!D50 -> 133128 | E50: ='БС-Пасива-НЖ'!E50+'БС-Пасива-Ж'!E50 -> 133128
A51: 407 | B51: 8.Друге техничке резерве осигурања | C51: 135 | D51: ='БС-Пасива-НЖ'!D51+'БС-Пасива-Ж'!D51 -> 0 | E51: ='БС-Пасива-НЖ'!E51+'БС-Пасива-Ж'!E51 -> 0
A52: 409 | B52: 9.Резервисања за судске спорове у току и остала дугорочна резервисања | C52: 136 | D52: ='БС-Пасива-НЖ'!D52+'БС-Пасива-Ж'!D52 -> 0 | E52: ='БС-Пасива-НЖ'!E52+'БС-Пасива-Ж'!E52 -> 0
B53: В.ОБАВЕЗЕ (138+147) | C53: 137 | D53: ='БС-Пасива-НЖ'!D53+'БС-Пасива-Ж'!D53 -> 23286094 | E53: ='БС-Пасива-НЖ'!E53+'БС-Пасива-Ж'!E53 -> 24707923
A54: 41 | B54: I ДУГОРОЧНЕ ОБАВЕЗЕ (139 до 146) | C54: 138 | D54: ='БС-Пасива-НЖ'!D54+'БС-Пасива-Ж'!D54 -> 99015 | E54: ='БС-Пасива-НЖ'!E54+'БС-Пасива-Ж'!E54 -> 95706
A55: 410 | B55: 1. Обавезе које се могу конвертовати у капитал | C55: 139 | D55: ='БС-Пасива-НЖ'!D55+'БС-Пасива-Ж'!D55 -> 0 | E55: ='БС-Пасива-НЖ'!E55+'БС-Пасива-Ж'!E55 -> 0
A56: 411 | B56: 2. Обавезе према повезаним правним лицима | C56: 140 | D56: ='БС-Пасива-НЖ'!D56+'БС-Пасива-Ж'!D56 -> 0 | E56: ='БС-Пасива-НЖ'!E56+'БС-Пасива-Ж'!E56 -> 0
A57: 412 | B57: 3. Обавезе по емитованим дугорочним хартијама од вриједности | C57: 141 | D57: ='БС-Пасива-НЖ'!D57+'БС-Пасива-Ж'!D57 -> 0 | E57: ='БС-Пасива-НЖ'!E57+'БС-Пасива-Ж'!E57 -> 0
A58: 413 и 414 | B58: 4. Дугорочни кредити | C58: 142 | D58: ='БС-Пасива-НЖ'!D58+'БС-Пасива-Ж'!D58 -> 0 | E58: ='БС-Пасива-НЖ'!E58+'БС-Пасива-Ж'!E58 -> 0
A59: 415 и 416 | B59: 5. Дугорочне обавезе по финансијском лизингу | C59: 143 | D59: ='БС-Пасива-НЖ'!D59+'БС-Пасива-Ж'!D59 -> 0 | E59: ='БС-Пасива-НЖ'!E59+'БС-Пасива-Ж'!E59 -> 0
A60: 417 | B60: 6. Дугорочне обавезе по фер вриједности кроз биланс успјеха | C60: 144 | D60: ='БС-Пасива-НЖ'!D60+'БС-Пасива-Ж'!D60 -> 0 | E60: ='БС-Пасива-НЖ'!E60+'БС-Пасива-Ж'!E60 -> 0
A61: 418 | B61: 7. Одложене пореске обавезе | C61: 145 | D61: ='БС-Пасива-НЖ'!D61+'БС-Пасива-Ж'!D61 -> 0 | E61: ='БС-Пасива-НЖ'!E61+'БС-Пасива-Ж'!E61 -> 0
A62: 419 | B62: 8. Остале дугорочне обавезе | C62: 146 | D62: ='БС-Пасива-НЖ'!D62+'БС-Пасива-Ж'!D62 -> 99015 | E62: ='БС-Пасива-НЖ'!E62+'БС-Пасива-Ж'!E62 -> 95706
A63: 42 до 48 | B63: II КРАТКОРОЧНЕ ОБАВЕЗЕ (148+156+160+161+164+165+166+167+168) | C63: 147 | D63: ='БС-Пасива-НЖ'!D63+'БС-Пасива-Ж'!D63 -> 23187079 | E63: ='БС-Пасива-НЖ'!E63+'БС-Пасива-Ж'!E63 -> 24612217
A64: 42 | B64: 1. Краткорочне финансијске обавезе (149 до 155) | C64: 148 | D64: ='БС-Пасива-НЖ'!D64+'БС-Пасива-Ж'!D64 -> 21177 | E64: ='БС-Пасива-НЖ'!E64+'БС-Пасива-Ж'!E64 -> 42353
A65: 420 | B65: а) Краткорочне финансијске обавезе према повезаним правним лицима | C65: 149 | D65: ='БС-Пасива-НЖ'!D65+'БС-Пасива-Ж'!D65 -> 0 | E65: ='БС-Пасива-НЖ'!E65+'БС-Пасива-Ж'!E65 -> 0
... A91: 496, 498 и 499 | B91: е) Друга пасивна временска разграничења | C91: 175 | D91: ='БС-Пасива-НЖ'!D91+'БС-Пасива-Ж'!D91 -> 1572763 | E91: ='БС-Пасива-НЖ'!E91+'БС-Пасива-Ж'!E91 -> 1563158
B92: Г. ПОСЛОВНА ПАСИВА (101+127+137) | C92: 176 | D92: ='БС-Пасива-НЖ'!D92+'БС-Пасива-Ж'!D92 -> 47884556 | E92: ='БС-Пасива-НЖ'!E92+'БС-Пасива-Ж'!E92 -> 48127792
A93: 89 | B93: Д. ВАНБИЛАНСНА ПАСИВА | C93: 177 | D93: ='БС-Пасива-НЖ'!D93+'БС-Пасива-Ж'!D93 -> 0 | E93: ='БС-Пасива-НЖ'!E93+'БС-Пасива-Ж'!E93 -> 0
B94: Ђ. УКУПНА ПАСИВА (176+177) | C94: 178 | D94: ='БС-Пасива-НЖ'!D94+'БС-Пасива-Ж'!D94 -> 47884556 | E94: ='БС-Пасива-НЖ'!E94+'БС-Пасива-Ж'!E94 -> 48127792
