Workbook
Name Column1: 'БС-Актива-НЖ'!$A$16:$G$17
Name Column2: 'БС-Актива-Ж'!$A$16:$G$17
Name Column3: 'БС-Актива-Укупно'!$A$16:$G$17
Name Column4: 'БС-Пасива-НЖ'!$A$15:$E$16
Name Column5: 'БС-Пасива-Ж'!$A$15:$E$16
Name Column6: 'БС-Пасива-Укупно'!$A$15:$E$16
Name Data1: 'БС-Актива-НЖ'!$A$18:$G$84
Name Data2: 'БС-Актива-Ж'!$A$18:$G$84
Name Data3: 'БС-Актива-Укупно'!$A$18:$G$84
Name Data4: 'БС-Пасива-НЖ'!$A$17:$E$94
Name Data5: 'БС-Пасива-Ж'!$A$17:$E$94
Name Data6: 'БС-Пасива-Укупно'!$A$17:$E$94
Name Header: 'БС-Актива-НЖ'!$A$2:$G$11

Sheet config
A1: 4 | B1: 45393.487 | C1: 45404.355

Sheet БС-Актива-НЖ
G1: Образац:БС-Д
A2: Назив друштва/субјекта: | C2: "НЕШКОВИЋ ОСИГУРАЊЕ" А.Д. Бијељина | D2: "НЕШКОВИЋ ОСИГУРАЊЕ" А.Д. Бијељина | E2: "НЕШКОВИЋ ОСИГУРАЊЕ" А.Д. Бијељина | F2: "НЕШКОВИЋ ОСИГУРАЊЕ" А.Д. Бијељина | G2: "НЕШКОВИЋ ОСИГУРАЊЕ" А.Д. Бијељина
A3: Ознака друштва/субјекта: | C3: РД-1 | D3: РД-1 | E3: РД-1 | F3: РД-1 | G3: РД-1
A4: Стање на дан: | C4: 46203
A5: Редни број: | C5: 1
A6: Саставио: | C6: Ј.Шкиљевић
A7: Одговорно лице: | C7: Миленко Мишановић
A8: Актуар: | C8: Вања Драгичевић
A9: Датум попуњавања: | C9: 46226
A10: Мјесто попуњавања: | C10: Бијељина
A11: Контакт: | C11: office@neskovicosiguranje.com
A13: Биланс стања
A14: КМ
A15: Група рачуна, рачун | B15: ПОЗИЦИЈА | C15: Ознака за АОП | D15: Износ текуће године | G15: Износ претходне године (почетно стање)
A16: Група рачуна, рачун | B16: ПОЗИЦИЈА | C16: Ознака за АОП | D16: Бруто | E16: Исправка вриједности | F16: Нето | G16: Износ претходне године (почетно стање)
A17: 1 | B17: 2 | C17: 3 | D17: 4 | E17: 5 | F17: 6=(4-5) | G17: 7
B18: АКТИВА А. СТАЛНА ИМОВИНА (002+009+018+028+029) | C18: 001 | D18: =D19+D26+D35+D45+D46 -> 34255076 | E18: =E19+E26+E35+E45+E46 -> 6129361 | F18: =D18-E18 -> 28125715 | G18: =G19+G26+G35+G45+G46 -> 23926866
A19: 01 | B19: I - НЕМАТЕРИЈАЛНА СРЕДСТВА (003 до 008) | C19: 002 | D19: =D20+D21+D22+D23+D24+D25 -> 209374 | E19: =E20+E21+E22+E23+E24+E25 -> 187669 | F19: =D19-E19 -> 21705 | G19: =G20+G21+G22+G23+G24+G25 -> 25160
A20: 010, дио 019 | B20: 1. Улагања у развој | C20: 003 | F20: =D20-E20 -> 0
A21: 011, дио 019 | B21: 2. Концесије, патенти, лиценце и остала права | C21: 004 | F21: =D21-E21 -> 0
A22: 012, дио 019 | B22: 3. Goodwill | C22: 005 | F22: =D22-E22 -> 0
A23: 013, дио 019 | B23: 4. Софтвер и остала права | C23: 006 | D23: 138488 | E23: 124699 | F23: =D23-E23 -> 13789 | G23: 15970
A24: 014, дио 019 | B24: 5. Остала нематеријална средства | C24: 007 | D24: 70886 | E24: 62970 | F24: =D24-E24 -> 7916 | G24: 9190
A25: 015,016 дио 019 | B25: 6. Аванси и нематеријална средства у припреми | C25: 008 | F25: =D25-E25 -> 0
A26: 02 | B26: II - НЕКРЕТНИНЕ, ИНВЕСТИЦИОНЕ НЕКРЕТНИНЕ ПОСТРОЈЕЊА, ОПРЕМА И ОСТАЛА ОСНОВНА СРЕДСТВА (010 до 017) | C26: 009 | D26: =D27+D28+D29+D30+D31+D32+D33+D34 -> 23752217 | E26: =E27+E28+E29+E30+E31+E32+E33+E34 -> 5941692 | F26: =D26-E26 -> 17810525 | G26: =G27+G28+G29+G30+G31+G32+G33+G34 -> 17925735
A27: 020, дио 029 | B27: 1. Земљиште | C27: 010 | D27: 4273178 | F27: =D27-E27 -> 4273178 | G27: 4273178
A28: 021, дио 029 | B28: 2. Биолошка средства | C28: 011 | F28: =D28-E28 -> 0
A29: 022,дио 029 | B29: 3. Грађевински објекти | C29: 012 | D29: 7823080 | E29: 4726134 | F29: =D29-E29 -> 3096946 | G29: 3212533
A30: 023, дио 029 | B30: 4. Постројења и опрема | C30: 013 | D30: 1428763 | E30: 1215558 | F30: =D30-E30 -> 213205 | G30: 212828
A31: 024,дио 029 | B31: 5. Инвестиционе некретнине | C31: 014 | D31: 10062880 | F31: =D31-E31 -> 10062880 | G31: 10062880
A32: 025,дио 029 | B32: 6. Улагања на туђим некретнинама, постројењима и опреми | C32: 015 | F32: =D32-E32 -> 0
A33: 026,дио 029 | B33: 7. Остала основна средства | C33: 016 | F33: =D33-E33 -> 0
A34: 027,028 дио 029 | B34: 8. Аванси и некретнине, биолошка средства, постројења, опрема и инвестиционе некретнине у припреми | C34: 017 | D34: 164316 | F34: =D34-E34 -> 164316 | G34: 164316
A35: 03 | B35: III - ДУГОРОЧНИ ФИНАНСИЈСКИ ПЛАСМАНИ (019 до 027) | C35: 018 | D35: =D36+D37+D38+D39+D40+D41+D42+D43+D44 -> 10293485 | E35: =E36+E37+E38+E39+E40+E41+E42+E43+E44 -> 0 | F35: =D35-E35 -> 10293485 | G35: =G36+G37+G38+G39+G40+G41+G42+G43+G44 -> 5975971
A36: 030, дио 039 | B36: 1. Учешће у капиталу зависних правних лица | C36: 019 | D36: 600000 | F36: =D36-E36 -> 600000 | G36: 600000
A37: 031, дио 039 | B37: 2. Учешће у капиталу придружених правних лица | C37: 020 | F37: =D37-E37 -> 0
A38: 032, дио 039 | B38: 3. Учешће у капиталу осталих правних лица | C38: 021 | F38: =D38-E38 -> 0
A39: 033, дио 039 | B39: 4. Дугорочни финансијски пласмани матичним, зависним и осталим повезаним правним лицима | C39: 022 | F39: =D39-E39 -> 0 | G39: 400000
A40: 034, дио 039 | B40: 5. Дугорочни финансијски пласмани у земљи | C40: 023 | D40: 7282437 | F40: =D40-E40 -> 7282437 | G40: 2564664
A41: 035, дио 039 | B41: 6. Дугорочни финансијски пласмани у иностранству | C41: 024 | D41: 9779 | F41: =D41-E41 -> 9779 | G41: 9779
...

Sheet БС-Актива-Ж
G1: Образац:БС-Д
A2: Назив друштва/субјекта: | C2: =IF('БС-Актива-НЖ'!C2="","",'БС-Актива-НЖ'!C2) -> "НЕШКОВИЋ ОСИГУРАЊЕ" А.Д. Бијељина | D2: =IF('БС-Актива-НЖ'!D2="","",'БС-Актива-НЖ'!D2) -> "НЕШКОВИЋ ОСИГУРАЊЕ" А.Д. Бијељина | E2: =IF('БС-Актива-НЖ'!E2="","",'БС-Актива-НЖ'!E2) -> "НЕШКОВИЋ ОСИГУРАЊЕ" А.Д. Бијељина | F2: =IF('БС-Актива-НЖ'!F2="","",'БС-Актива-НЖ'!F2) -> "НЕШКОВИЋ ОСИГУРАЊЕ" А.Д. Бијељина | G2: =IF('БС-Актива-НЖ'!G2="","",'БС-Актива-НЖ'!G2) -> "НЕШКОВИЋ ОСИГУРАЊЕ" А.Д. Бијељина
A3: Ознака друштва/субјекта: | C3: =IF('БС-Актива-НЖ'!C3="","",'БС-Актива-НЖ'!C3) -> РД-1 | D3: =IF('БС-Актива-НЖ'!D3="","",'БС-Актива-НЖ'!D3) -> РД-1 | E3: =IF('БС-Актива-НЖ'!E3="","",'БС-Актива-НЖ'!E3) -> РД-1 | F3: =IF('БС-Актива-НЖ'!F3="","",'БС-Актива-НЖ'!F3) -> РД-1 | G3: =IF('БС-Актива-НЖ'!G3="","",'БС-Актива-НЖ'!G3) -> РД-1
A4: Стање на дан: | C4: =IF('БС-Актива-НЖ'!C4="","",'БС-Актива-НЖ'!C4) -> 46203 | D4: =IF('БС-Актива-НЖ'!D4="","",'БС-Актива-НЖ'!D4) | E4: =IF('БС-Актива-НЖ'!E4="","",'БС-Актива-НЖ'!E4) | F4: =IF('БС-Актива-НЖ'!F4="","",'БС-Актива-НЖ'!F4) | G4: =IF('БС-Актива-НЖ'!G4="","",'БС-Актива-НЖ'!G4)
A5: Редни број: | C5: =IF('БС-Актива-НЖ'!C5="","",'БС-Актива-НЖ'!C5) -> 1 | D5: =IF('БС-Актива-НЖ'!D5="","",'БС-Актива-НЖ'!D5) | E5: =IF('БС-Актива-НЖ'!E5="","",'БС-Актива-НЖ'!E5) | F5: =IF('БС-Актива-НЖ'!F5="","",'БС-Актива-НЖ'!F5) | G5: =IF('БС-Актива-НЖ'!G5="","",'БС-Актива-НЖ'!G5)
A6: Саставио: | C6: =IF('БС-Актива-НЖ'!C6="","",'БС-Актива-НЖ'!C6) -> Ј.Шкиљевић | D6: =IF('БС-Актива-НЖ'!D6="","",'БС-Актива-НЖ'!D6) | E6: =IF('БС-Актива-НЖ'!E6="","",'БС-Актива-НЖ'!E6) | F6: =IF('БС-Актива-НЖ'!F6="","",'БС-Актива-НЖ'!F6) | G6: =IF('БС-Актива-НЖ'!G6="","",'БС-Актива-НЖ'!G6)
A7: Одговорно лице: | C7: =IF('БС-Актива-НЖ'!C7="","",'БС-Актива-НЖ'!C7) -> Миленко Мишановић | D7: =IF('БС-Актива-НЖ'!D7="","",'БС-Актива-НЖ'!D7) | E7: =IF('БС-Актива-НЖ'!E7="","",'БС-Актива-НЖ'!E7) | F7: =IF('БС-Актива-НЖ'!F7="","",'БС-Актива-НЖ'!F7) | G7: =IF('БС-Актива-НЖ'!G7="","",'БС-Актива-НЖ'!G7)
A8: Актуар: | C8: =IF('БС-Актива-НЖ'!C8="","",'БС-Актива-НЖ'!C8) -> Вања Драгичевић | D8: =IF('БС-Актива-НЖ'!D8="","",'БС-Актива-НЖ'!D8) | E8: =IF('БС-Актива-НЖ'!E8="","",'БС-Актива-НЖ'!E8) | F8: =IF('БС-Актива-НЖ'!F8="","",'БС-Актива-НЖ'!F8) | G8: =IF('БС-Актива-НЖ'!G8="","",'БС-Актива-НЖ'!G8)
A9: Датум попуњавања: | C9: =IF('БС-Актива-НЖ'!C9="","",'БС-Актива-НЖ'!C9) -> 46226 | D9: =IF('БС-Актива-НЖ'!D9="","",'БС-Актива-НЖ'!D9) | E9: =IF('БС-Актива-НЖ'!E9="","",'БС-Актива-НЖ'!E9) | F9: =IF('БС-Актива-НЖ'!F9="","",'БС-Актива-НЖ'!F9) | G9: =IF('БС-Актива-НЖ'!G9="","",'БС-Актива-НЖ'!G9)
A10: Мјесто попуњавања: | C10: =IF('БС-Актива-НЖ'!C10="","",'БС-Актива-НЖ'!C10) -> Бијељина | D10: =IF('БС-Актива-НЖ'!D10="","",'БС-Актива-НЖ'!D10) | E10: =IF('БС-Актива-НЖ'!E10="","",'БС-Актива-НЖ'!E10) | F10: =IF('БС-Актива-НЖ'!F10="","",'БС-Актива-НЖ'!F10) | G10: =IF('БС-Актива-НЖ'!G10="","",'БС-Актива-НЖ'!G10)
A11: Контакт: | C11: =IF('БС-Актива-НЖ'!C11="","",'БС-Актива-НЖ'!C11) -> office@neskovicosiguranje.com | D11: =IF('БС-Актива-НЖ'!D11="","",'БС-Актива-НЖ'!D11) | E11: =IF('БС-Актива-НЖ'!E11="","",'БС-Актива-НЖ'!E11) | F11: =IF('БС-Актива-НЖ'!F11="","",'БС-Актива-НЖ'!F11) | G11: =IF('БС-Актива-НЖ'!G11="","",'БС-Актива-НЖ'!G11)
A13: Биланс стања
A14: КМ
A15: Група рачуна, рачун | B15: ПОЗИЦИЈА | C15: Ознака за АОП | D15: Износ текуће године | G15: Износ претходне године (почетно стање)
A16: Група рачуна, рачун | B16: ПОЗИЦИЈА | C16: Ознака за АОП | D16: Бруто | E16: Исправка вриједности | F16: Нето | G16: Износ претходне године (почетно стање)
A17: 1 | B17: 2 | C17: 3 | D17: 4 | E17: 5 | F17: 6=(4-5) | G17: 7
B18: АКТИВА А. СТАЛНА ИМОВИНА (002+009+018+028+029) | C18: 001 | D18: =D19+D26+D35+D45+D46 -> 0 | E18: =E19+E26+E35+E45+E46 -> 0 | F18: =D18-E18 -> 0 | G18: =G19+G26+G35+G45+G46 -> 0
A19: 01 | B19: I - НЕМАТЕРИЈАЛНА СРЕДСТВА (003 до 008) | C19: 002 | D19: =D20+D21+D22+D23+D24+D25 -> 0 | E19: =E20+E21+E22+E23+E24+E25 -> 0 | F19: =D19-E19 -> 0 | G19: =G20+G21+G22+G23+G24+G25 -> 0
A20: 010, дио 019 | B20: 1. Улагања у развој | C20: 003 | F20: =D20-E20 -> 0
A21: 011, дио 019 | B21: 2. Концесије, патенти, лиценце и остала права | C21: 004 | F21: =D21-E21 -> 0
A22: 012, дио 019 | B22: 3. Goodwill | C22: 005 | F22: =D22-E22 -> 0
A23: 013, дио 019 | B23: 4. Софтвер и остала права | C23: 006 | F23: =D23-E23 -> 0
A24: 014, дио 019 | B24: 5. Остала нематеријална средства | C24: 007 | F24: =D24-E24 -> 0
A25: 015,016 дио 019 | B25: 6. Аванси и нематеријална средства у припреми | C25: 008 | F25: =D25-E25 -> 0
A26: 02 | B26: II - НЕКРЕТНИНЕ, ИНВЕСТИЦИОНЕ НЕКРЕТНИНЕ ПОСТРОЈЕЊА, ОПРЕМА И ОСТАЛА ОСНОВНА СРЕДСТВА (010 до 017) | C26: 009 | D26: =D27+D28+D29+D30+D31+D32+D33+D34 -> 0 | E26: =E27+E28+E29+E30+E31+E32+E33+E34 -> 0 | F26: =D26-E26 -> 0 | G26: =G27+G28+G29+G30+G31+G32+G33+G34 -> 0
A27: 020, дио 029 | B27: 1. Земљиште | C27: 010 | F27: =D27-E27 -> 0
A28: 021, дио 029 | B28: 2. Биолошка средства | C28: 011 | F28: =D28-E28 -> 0
A29: 022,дио 029 | B29: 3. Грађевински објекти | C29: 012 | F29: =D29-E29 -> 0
A30: 023, дио 029 | B30: 4. Постројења и опрема | C30: 013 | F30: =D30-E30 -> 0
A31: 024,дио 029 | B31: 5. Инвестиционе некретнине | C31: 014 | F31: =D31-E31 -> 0
A32: 025,дио 029 | B32: 6. Улагања на туђим некретнинама, постројењима и опреми | C32: 015 | F32: =D32-E32 -> 0
A33: 026,дио 029 | B33: 7. Остала основна средства | C33: 016 | F33: =D33-E33 -> 0
A34: 027,028 дио 029 | B34: 8. Аванси и некретнине, биолошка средства, постројења, опрема и инвестиционе некретнине у припреми | C34: 017 | F34: =D34-E34 -> 0
A35: 03 | B35: III - ДУГОРОЧНИ ФИНАНСИЈСКИ ПЛАСМАНИ (019 до 027) | C35: 018 | D35: =D36+D37+D38+D39+D40+D41+D42+D43+D44 -> 0 | E35: =E36+E37+E38+E39+E40+E41+E42+E43+E44 -> 0 | F35: =D35-E35 -> 0 | G35: =G36+G37+G38+G39+G40+G41+G42+G43+G44 -> 0
A36: 030, дио 039 | B36: 1. Учешће у капиталу зависних правних лица | C36: 019 | F36: =D36-E36 -> 0
A37: 031, дио 039 | B37: 2. Учешће у капиталу придружених правних лица | C37: 020 | F37: =D37-E37 -> 0
A38: 032, дио 039 | B38: 3. Учешће у капиталу осталих правних лица | C38: 021 | F38: =D38-E38 -> 0
A39: 033, дио 039 | B39: 4. Дугорочни финансијски пласмани матичним, зависним и осталим повезаним правним лицима | C39: 022 | F39: =D39-E39 -> 0
A40: 034, дио 039 | B40: 5. Дугорочни финансијски пласмани у земљи | C40: 023 | F40: =D40-E40 -> 0
A41: 035, дио 039 | B41: 6. Дугорочни финансијски пласмани у иностранству | C41: 024 | F41: =D41-E41 -> 0
...

Sheet БС-Актива-Укупно
G1: Образац:БС-Д
A2: Назив друштва/субјекта: | C2: =IF('БС-Актива-НЖ'!C2="","",'БС-Актива-НЖ'!C2) -> "НЕШКОВИЋ ОСИГУРАЊЕ" А.Д. Бијељина | D2: =IF('БС-Актива-НЖ'!D2="","",'БС-Актива-НЖ'!D2) -> "НЕШКОВИЋ ОСИГУРАЊЕ" А.Д. Бијељина | E2: =IF('БС-Актива-НЖ'!E2="","",'БС-Актива-НЖ'!E2) -> "НЕШКОВИЋ ОСИГУРАЊЕ" А.Д. Бијељина | F2: =IF('БС-Актива-НЖ'!F2="","",'БС-Актива-НЖ'!F2) -> "НЕШКОВИЋ ОСИГУРАЊЕ" А.Д. Бијељина | G2: =IF('БС-Актива-НЖ'!G2="","",'БС-Актива-НЖ'!G2) -> "НЕШКОВИЋ ОСИГУРАЊЕ" А.Д. Бијељина
A3: Ознака друштва/субјекта: | C3: =IF('БС-Актива-НЖ'!C3="","",'БС-Актива-НЖ'!C3) -> РД-1 | D3: =IF('БС-Актива-НЖ'!D3="","",'БС-Актива-НЖ'!D3) -> РД-1 | E3: =IF('БС-Актива-НЖ'!E3="","",'БС-Актива-НЖ'!E3) -> РД-1 | F3: =IF('БС-Актива-НЖ'!F3="","",'БС-Актива-НЖ'!F3) -> РД-1 | G3: =IF('БС-Актива-НЖ'!G3="","",'БС-Актива-НЖ'!G3) -> РД-1
A4: Стање на дан: | C4: =IF('БС-Актива-НЖ'!C4="","",'БС-Актива-НЖ'!C4) -> 46203 | D4: =IF('БС-Актива-НЖ'!D4="","",'БС-Актива-НЖ'!D4) | E4: =IF('БС-Актива-НЖ'!E4="","",'БС-Актива-НЖ'!E4) | F4: =IF('БС-Актива-НЖ'!F4="","",'БС-Актива-НЖ'!F4) | G4: =IF('БС-Актива-НЖ'!G4="","",'БС-Актива-НЖ'!G4)
A5: Редни број: | C5: =IF('БС-Актива-НЖ'!C5="","",'БС-Актива-НЖ'!C5) -> 1 | D5: =IF('БС-Актива-НЖ'!D5="","",'БС-Актива-НЖ'!D5) | E5: =IF('БС-Актива-НЖ'!E5="","",'БС-Актива-НЖ'!E5) | F5: =IF('БС-Актива-НЖ'!F5="","",'БС-Актива-НЖ'!F5) | G5: =IF('БС-Актива-НЖ'!G5="","",'БС-Актива-НЖ'!G5)
A6: Саставио: | C6: =IF('БС-Актива-НЖ'!C6="","",'БС-Актива-НЖ'!C6) -> Ј.Шкиљевић | D6: =IF('БС-Актива-НЖ'!D6="","",'БС-Актива-НЖ'!D6) | E6: =IF('БС-Актива-НЖ'!E6="","",'БС-Актива-НЖ'!E6) | F6: =IF('БС-Актива-НЖ'!F6="","",'БС-Актива-НЖ'!F6) | G6: =IF('БС-Актива-НЖ'!G6="","",'БС-Актива-НЖ'!G6)
A7: Одговорно лице: | C7: =IF('БС-Актива-НЖ'!C7="","",'БС-Актива-НЖ'!C7) -> Миленко Мишановић | D7: =IF('БС-Актива-НЖ'!D7="","",'БС-Актива-НЖ'!D7) | E7: =IF('БС-Актива-НЖ'!E7="","",'БС-Актива-НЖ'!E7) | F7: =IF('БС-Актива-НЖ'!F7="","",'БС-Актива-НЖ'!F7) | G7: =IF('БС-Актива-НЖ'!G7="","",'БС-Актива-НЖ'!G7)
A8: Актуар: | C8: =IF('БС-Актива-НЖ'!C8="","",'БС-Актива-НЖ'!C8) -> Вања Драгичевић | D8: =IF('БС-Актива-НЖ'!D8="","",'БС-Актива-НЖ'!D8) | E8: =IF('БС-Актива-НЖ'!E8="","",'БС-Актива-НЖ'!E8) | F8: =IF('БС-Актива-НЖ'!F8="","",'БС-Актива-НЖ'!F8) | G8: =IF('БС-Актива-НЖ'!G8="","",'БС-Актива-НЖ'!G8)
A9: Датум попуњавања: | C9: =IF('БС-Актива-НЖ'!C9="","",'БС-Актива-НЖ'!C9) -> 46226 | D9: =IF('БС-Актива-НЖ'!D9="","",'БС-Актива-НЖ'!D9) | E9: =IF('БС-Актива-НЖ'!E9="","",'БС-Актива-НЖ'!E9) | F9: =IF('БС-Актива-НЖ'!F9="","",'БС-Актива-НЖ'!F9) | G9: =IF('БС-Актива-НЖ'!G9="","",'БС-Актива-НЖ'!G9)
A10: Мјесто попуњавања: | C10: =IF('БС-Актива-НЖ'!C10="","",'БС-Актива-НЖ'!C10) -> Бијељина | D10: =IF('БС-Актива-НЖ'!D10="","",'БС-Актива-НЖ'!D10) | E10: =IF('БС-Актива-НЖ'!E10="","",'БС-Актива-НЖ'!E10) | F10: =IF('БС-Актива-НЖ'!F10="","",'БС-Актива-НЖ'!F10) | G10: =IF('БС-Актива-НЖ'!G10="","",'БС-Актива-НЖ'!G10)
A11: Контакт: | C11: =IF('БС-Актива-НЖ'!C11="","",'БС-Актива-НЖ'!C11) -> office@neskovicosiguranje.com | D11: =IF('БС-Актива-НЖ'!D11="","",'БС-Актива-НЖ'!D11) | E11: =IF('БС-Актива-НЖ'!E11="","",'БС-Актива-НЖ'!E11) | F11: =IF('БС-Актива-НЖ'!F11="","",'БС-Актива-НЖ'!F11) | G11: =IF('БС-Актива-НЖ'!G11="","",'БС-Актива-НЖ'!G11)
A13: Биланс стања
A14: КМ
A15: Група рачуна, рачун | B15: ПОЗИЦИЈА | C15: Ознака за АОП | D15: Износ текуће године | G15: Износ претходне године (почетно стање)
A16: Група рачуна, рачун | B16: ПОЗИЦИЈА | C16: Ознака за АОП | D16: Бруто | E16: Исправка бриједности | F16: Нето | G16: Износ претходне године (почетно стање)
A17: 1 | B17: 2 | C17: 3 | D17: 4 | E17: 5 | F17: 6=(4-5) | G17: 7
B18: АКТИВА А. СТАЛНА ИМОВИНА (002+009+018+028+029) | C18: 001 | D18: ='БС-Актива-НЖ'!D18+'БС-Актива-Ж'!D18 -> 34255076 | E18: ='БС-Актива-НЖ'!E18+'БС-Актива-Ж'!E18 -> 6129361 | F18: ='БС-Актива-НЖ'!F18+'БС-Актива-Ж'!F18 -> 28125715 | G18: ='БС-Актива-НЖ'!G18+'БС-Актива-Ж'!G18 -> 23926866
A19: 01 | B19: I - НЕМАТЕРИЈАЛНА СРЕДСТВА (003 до 008) | C19: 002 | D19: ='БС-Актива-НЖ'!D19+'БС-Актива-Ж'!D19 -> 209374 | E19: ='БС-Актива-НЖ'!E19+'БС-Актива-Ж'!E19 -> 187669 | F19: ='БС-Актива-НЖ'!F19+'БС-Актива-Ж'!F19 -> 21705 | G19: ='БС-Актива-НЖ'!G19+'БС-Актива-Ж'!G19 -> 25160
A20: 010, дио 019 | B20: 1. Улагања у развој | C20: 003 | D20: ='БС-Актива-НЖ'!D20+'БС-Актива-Ж'!D20 -> 0 | E20: ='БС-Актива-НЖ'!E20+'БС-Актива-Ж'!E20 -> 0 | F20: ='БС-Актива-НЖ'!F20+'БС-Актива-Ж'!F20 -> 0 | G20: ='БС-Актива-НЖ'!G20+'БС-Актива-Ж'!G20 -> 0
A21: 011, дио 019 | B21: 2. Концесије, патенти, лиценце и остала права | C21: 004 | D21: ='БС-Актива-НЖ'!D21+'БС-Актива-Ж'!D21 -> 0 | E21: ='БС-Актива-НЖ'!E21+'БС-Актива-Ж'!E21 -> 0 | F21: ='БС-Актива-НЖ'!F21+'БС-Актива-Ж'!F21 -> 0 | G21: ='БС-Актива-НЖ'!G21+'БС-Актива-Ж'!G21 -> 0
A22: 012, дио 019 | B22: 3. Goodwill | C22: 005 | D22: ='БС-Актива-НЖ'!D22+'БС-Актива-Ж'!D22 -> 0 | E22: ='БС-Актива-НЖ'!E22+'БС-Актива-Ж'!E22 -> 0 | F22: ='БС-Актива-НЖ'!F22+'БС-Актива-Ж'!F22 -> 0 | G22: ='БС-Актива-НЖ'!G22+'БС-Актива-Ж'!G22 -> 0
A23: 013, дио 019 | B23: 4. Софтвер и остала права | C23: 006 | D23: ='БС-Актива-НЖ'!D23+'БС-Актива-Ж'!D23 -> 138488 | E23: ='БС-Актива-НЖ'!E23+'БС-Актива-Ж'!E23 -> 124699 | F23: ='БС-Актива-НЖ'!F23+'БС-Актива-Ж'!F23 -> 13789 | G23: ='БС-Актива-НЖ'!G23+'БС-Актива-Ж'!G23 -> 15970
A24: 014, дио 019 | B24: 5. Остала нематеријална средства | C24: 007 | D24: ='БС-Актива-НЖ'!D24+'БС-Актива-Ж'!D24 -> 70886 | E24: ='БС-Актива-НЖ'!E24+'БС-Актива-Ж'!E24 -> 62970 | F24: ='БС-Актива-НЖ'!F24+'БС-Актива-Ж'!F24 -> 7916 | G24: ='БС-Актива-НЖ'!G24+'БС-Актива-Ж'!G24 -> 9190
A25: 015,016 дио 019 | B25: 6. Аванси и нематеријална средства у припреми | C25: 008 | D25: ='БС-Актива-НЖ'!D25+'БС-Актива-Ж'!D25 -> 0 | E25: ='БС-Актива-НЖ'!E25+'БС-Актива-Ж'!E25 -> 0 | F25: ='БС-Актива-НЖ'!F25+'БС-Актива-Ж'!F25 -> 0 | G25: ='БС-Актива-НЖ'!G25+'БС-Актива-Ж'!G25 -> 0
A26: 02 | B26: II - НЕКРЕТНИНЕ, ИНВЕСТИЦИОНЕ НЕКРЕТНИНЕ ПОСТРОЈЕЊА, ОПРЕМА И ОСТАЛА ОСНОВНА СРЕДСТВА (010 до 017) | C26: 009 | D26: ='БС-Актива-НЖ'!D26+'БС-Актива-Ж'!D26 -> 23752217 | E26: ='БС-Актива-НЖ'!E26+'БС-Актива-Ж'!E26 -> 5941692 | F26: ='БС-Актива-НЖ'!F26+'БС-Актива-Ж'!F26 -> 17810525 | G26: ='БС-Актива-НЖ'!G26+'БС-Актива-Ж'!G26 -> 17925735
A27: 020, дио 029 | B27: 1. Земљиште | C27: 010 | D27: ='БС-Актива-НЖ'!D27+'БС-Актива-Ж'!D27 -> 4273178 | E27: ='БС-Актива-НЖ'!E27+'БС-Актива-Ж'!E27 -> 0 | F27: ='БС-Актива-НЖ'!F27+'БС-Актива-Ж'!F27 -> 4273178 | G27: ='БС-Актива-НЖ'!G27+'БС-Актива-Ж'!G27 -> 4273178
A28: 021, дио 029 | B28: 2. Биолошка средства | C28: 011 | D28: ='БС-Актива-НЖ'!D28+'БС-Актива-Ж'!D28 -> 0 | E28: ='БС-Актива-НЖ'!E28+'БС-Актива-Ж'!E28 -> 0 | F28: ='БС-Актива-НЖ'!F28+'БС-Актива-Ж'!F28 -> 0 | G28: ='БС-Актива-НЖ'!G28+'БС-Актива-Ж'!G28 -> 0
A29: 022,дио 029 | B29: 3. Грађевински објекти | C29: 012 | D29: ='БС-Актива-НЖ'!D29+'БС-Актива-Ж'!D29 -> 7823080 | E29: ='БС-Актива-НЖ'!E29+'БС-Актива-Ж'!E29 -> 4726134 | F29: ='БС-Актива-НЖ'!F29+'БС-Актива-Ж'!F29 -> 3096946 | G29: ='БС-Актива-НЖ'!G29+'БС-Актива-Ж'!G29 -> 3212533
A30: 023, дио 029 | B30: 4. Постројења и опрема | C30: 013 | D30: ='БС-Актива-НЖ'!D30+'БС-Актива-Ж'!D30 -> 1428763 | E30: ='БС-Актива-НЖ'!E30+'БС-Актива-Ж'!E30 -> 1215558 | F30: ='БС-Актива-НЖ'!F30+'БС-Актива-Ж'!F30 -> 213205 | G30: ='БС-Актива-НЖ'!G30+'БС-Актива-Ж'!G30 -> 212828
... A46: 040,дио 049 | B46: V - ОДЛОЖЕНА ПОРЕСКА СРЕДСТВА | C46: 029 | D46: ='БС-Актива-НЖ'!D46+'БС-Актива-Ж'!D46 -> 0 | E46: ='БС-Актива-НЖ'!E46+'БС-Актива-Ж'!E46 -> 0 | F46: ='БС-Актива-НЖ'!F46+'БС-Актива-Ж'!F46 -> 0 | G46: ='БС-Актива-НЖ'!G46+'БС-Актива-Ж'!G46 -> 0
B47: Б.ТЕКУЋА ИМОВИНА (031+036+062+063) | C47: 030 | D47: ='БС-Актива-НЖ'!D47+'БС-Актива-Ж'!D47 -> 20062049 | E47: ='БС-Актива-НЖ'!E47+'БС-Актива-Ж'!E47 -> 303208 | F47: ='БС-Актива-НЖ'!F47+'БС-Актива-Ж'!F47 -> 19758841 | G47: ='БС-Актива-НЖ'!G47+'БС-Актива-Ж'!G47 -> 24200926
A48: 10 до 15 | B48: I - ЗАЛИХЕ, СТАЛНА СРЕДСТВА И СРЕДСТВА ОБУСТАВЉЕНОГ ПОСЛОВАЊА НАМИЈЕЊЕНА ПРОДАЈИ (032 до 035) | C48: 031 | D48: ='БС-Актива-НЖ'!D48+'БС-Актива-Ж'!D48 -> 1455 | E48: ='БС-Актива-НЖ'!E48+'БС-Актива-Ж'!E48 -> 0 | F48: ='БС-Актива-НЖ'!F48+'БС-Актива-Ж'!F48 -> 1455 | G48: ='БС-Актива-НЖ'!G48+'БС-Актива-Ж'!G48 -> 2569
A49: 100 до 109 | B49: 1. Залихе материјала | C49: 032 | D49: ='БС-Актива-НЖ'!D49+'БС-Актива-Ж'!D49 -> 1455 | E49: ='БС-Актива-НЖ'!E49+'БС-Актива-Ж'!E49 -> 0 | F49: ='БС-Актива-НЖ'!F49+'БС-Актива-Ж'!F49 -> 1455 | G49: ='БС-Актива-НЖ'!G49+'БС-Актива-Ж'!G49 -> 2106
A50: 130 до 139 | B50: 2. Залихе остатака осигураних оштећених ствари | C50: 033 | D50: ='БС-Актива-НЖ'!D50+'БС-Актива-Ж'!D50 -> 0 | E50: ='БС-Актива-НЖ'!E50+'БС-Актива-Ж'!E50 -> 0 | F50: ='БС-Актива-НЖ'!F50+'БС-Актива-Ж'!F50 -> 0 | G50: ='БС-Актива-НЖ'!G50+'БС-Актива-Ж'!G50 -> 0
A51: 140 до 149 | B51: 3. Стална средства намјењена продаји и средства пословања које се обуставља | C51: 034 | D51: ='БС-Актива-НЖ'!D51+'БС-Актива-Ж'!D51 -> 0 | E51: ='БС-Актива-НЖ'!E51+'БС-Актива-Ж'!E51 -> 0 | F51: ='БС-Актива-НЖ'!F51+'БС-Актива-Ж'!F51 -> 0 | G51: ='БС-Актива-НЖ'!G51+'БС-Актива-Ж'!G51 -> 0
A52: 150 до 159 | B52: 4. Дати аванси | C52: 035 | D52: ='БС-Актива-НЖ'!D52+'БС-Актива-Ж'!D52 -> 0 | E52: ='БС-Актива-НЖ'!E52+'БС-Актива-Ж'!E52 -> 0 | F52: ='БС-Актива-НЖ'!F52+'БС-Актива-Ж'!F52 -> 0 | G52: ='БС-Актива-НЖ'!G52+'БС-Актива-Ж'!G52 -> 463
A53: 20 до 26 | B53: II - КРАТКОРОЧНА ПОТРАЖИВАЊА, ПЛАСМАНИ И ГОТОВИНА (037+046+047+048+058+061) | C53: 036 | D53: ='БС-Актива-НЖ'!D53+'БС-Актива-Ж'!D53 -> 19071659 | E53: ='БС-Актива-НЖ'!E53+'БС-Актива-Ж'!E53 -> 303208 | F53: ='БС-Актива-НЖ'!F53+'БС-Актива-Ж'!F53 -> 18768451 | G53: ='БС-Актива-НЖ'!G53+'БС-Актива-Ж'!G53 -> 23469734
A54: 20 | B54: 1. Потраживања по основу премије, учешћа у накнади штете и остали купци (038 до 045) | C54: 037 | D54: ='БС-Актива-НЖ'!D54+'БС-Актива-Ж'!D54 -> 220111 | E54: ='БС-Актива-НЖ'!E54+'БС-Актива-Ж'!E54 -> 21298 | F54: ='БС-Актива-НЖ'!F54+'БС-Актива-Ж'!F54 -> 198813 | G54: ='БС-Актива-НЖ'!G54+'БС-Актива-Ж'!G54 -> 172524
A55: 200, дио 209 | B55: а) Потраживања по основу премије животних осигурања | C55: 038 | D55: ='БС-Актива-НЖ'!D55+'БС-Актива-Ж'!D55 -> 0 | E55: ='БС-Актива-НЖ'!E55+'БС-Актива-Ж'!E55 -> 0 | F55: ='БС-Актива-НЖ'!F55+'БС-Актива-Ж'!F55 -> 0 | G55: ='БС-Актива-НЖ'!G55+'БС-Актива-Ж'!G55 -> 0
A56: 201, дио 209 | B56: б) Потраживања по основу премије неживотних осигурања | C56: 039 | D56: ='БС-Актива-НЖ'!D56+'БС-Актива-Ж'!D56 -> 220111 | E56: ='БС-Актива-НЖ'!E56+'БС-Актива-Ж'!E56 -> 21298 | F56: ='БС-Актива-НЖ'!F56+'БС-Актива-Ж'!F56 -> 198813 | G56: ='БС-Актива-НЖ'!G56+'БС-Актива-Ж'!G56 -> 171836
...

Sheet БС-Пасива-НЖ
E1: Образац:БС-Д
A2: Назив друштва/субјекта: | C2: =IF('БС-Актива-НЖ'!C2="","",'БС-Актива-НЖ'!C2) -> "НЕШКОВИЋ ОСИГУРАЊЕ" А.Д. Бијељина | D2: =IF('БС-Актива-НЖ'!D2="","",'БС-Актива-НЖ'!D2) -> "НЕШКОВИЋ ОСИГУРАЊЕ" А.Д. Бијељина | E2: =IF('БС-Актива-НЖ'!E2="","",'БС-Актива-НЖ'!E2) -> "НЕШКОВИЋ ОСИГУРАЊЕ" А.Д. Бијељина
A3: Ознака друштва/субјекта: | C3: =IF('БС-Актива-НЖ'!C3="","",'БС-Актива-НЖ'!C3) -> РД-1 | D3: =IF('БС-Актива-НЖ'!D3="","",'БС-Актива-НЖ'!D3) -> РД-1 | E3: =IF('БС-Актива-НЖ'!E3="","",'БС-Актива-НЖ'!E3) -> РД-1
A4: Стање на дан: | C4: =IF('БС-Актива-НЖ'!C4="","",'БС-Актива-НЖ'!C4) -> 46203 | D4: =IF('БС-Актива-НЖ'!D4="","",'БС-Актива-НЖ'!D4) | E4: =IF('БС-Актива-НЖ'!E4="","",'БС-Актива-НЖ'!E4)
A5: Редни број: | C5: =IF('БС-Актива-НЖ'!C5="","",'БС-Актива-НЖ'!C5) -> 1 | D5: =IF('БС-Актива-НЖ'!D5="","",'БС-Актива-НЖ'!D5) | E5: =IF('БС-Актива-НЖ'!E5="","",'БС-Актива-НЖ'!E5)
A6: Саставио: | C6: =IF('БС-Актива-НЖ'!C6="","",'БС-Актива-НЖ'!C6) -> Ј.Шкиљевић | D6: =IF('БС-Актива-НЖ'!D6="","",'БС-Актива-НЖ'!D6) | E6: =IF('БС-Актива-НЖ'!E6="","",'БС-Актива-НЖ'!E6)
A7: Одговорно лице: | C7: =IF('БС-Актива-НЖ'!C7="","",'БС-Актива-НЖ'!C7) -> Миленко Мишановић | D7: =IF('БС-Актива-НЖ'!D7="","",'БС-Актива-НЖ'!D7) | E7: =IF('БС-Актива-НЖ'!E7="","",'БС-Актива-НЖ'!E7)
A8: Актуар: | C8: =IF('БС-Актива-НЖ'!C8="","",'БС-Актива-НЖ'!C8) -> Вања Драгичевић | D8: =IF('БС-Актива-НЖ'!D8="","",'БС-Актива-НЖ'!D8) | E8: =IF('БС-Актива-НЖ'!E8="","",'БС-Актива-НЖ'!E8)
A9: Датум попуњавања: | C9: =IF('БС-Актива-НЖ'!C9="","",'БС-Актива-НЖ'!C9) -> 46226 | D9: =IF('БС-Актива-НЖ'!D9="","",'БС-Актива-НЖ'!D9) | E9: =IF('БС-Актива-НЖ'!E9="","",'БС-Актива-НЖ'!E9)
A10: Мјесто попуњавања: | C10: =IF('БС-Актива-НЖ'!C10="","",'БС-Актива-НЖ'!C10) -> Бијељина | D10: =IF('БС-Актива-НЖ'!D10="","",'БС-Актива-НЖ'!D10) | E10: =IF('БС-Актива-НЖ'!E10="","",'БС-Актива-НЖ'!E10)
A11: Контакт: | C11: =IF('БС-Актива-НЖ'!C11="","",'БС-Актива-НЖ'!C11) -> office@neskovicosiguranje.com | D11: =IF('БС-Актива-НЖ'!D11="","",'БС-Актива-НЖ'!D11) | E11: =IF('БС-Актива-НЖ'!E11="","",'БС-Актива-НЖ'!E11)
A13: Биланс стања (Извјештај о финансијском положају)
A14: КМ
A15: Група рачуна, рачун | B15: ПОЗИЦИЈА | C15: Ознака за АОП | D15: Износ на дан биланса текуће | E15: Износ претходне године
A16: 1 | B16: 2 | C16: 3 | D16: 4 | E16: 5
B17: ПАСИВА А. КАПИТАЛ (102-109+110-111+112+118+119-120+121-124) | C17: 101 | D17: =D18-D25+D26-D27+D28+D34+D35-D36+D37-D40 -> 24465334 | E17: =E18-E25+E26-E27+E28+E34+E35-E36+E37-E40 -> 23286741
A18: 30 | B18: I - ОСНОВНИ КАПИТАЛ (103 до 108) | C18: 102 | D18: =D19+D20+D21+D22+D23+D24 -> 10000000 | E18: =E19+E20+E21+E22+E23+E24 -> 10000000
A19: 300 | B19: 1. Акцијски капитал | C19: 103 | D19: 10000000 | E19: 10000000
A20: 301 | B20: 2. Удјели друштва са ограниченом одговорношћу | C20: 104
A21: 302 | B21: 3. Државни капитал | C21: 105
A22: 303 | B22: 4. Улози друштава за узајамно осигурање са ограниченим доприносом | C22: 106
A23: 304 | B23: 5. Улози друштава за узајамно осигурање са неограниченим доприносом | C23: 107
A24: 309 | B24: 6. Остали капитал | C24: 108
A25: 310 до 312 | B25: II - УПИСАНИ НЕУПЛАЋЕНИ КАПИТАЛ | C25: 109
A26: 320 | B26: III - ЕМИСИОНА ПРЕМИЈА | C26: 110
A27: 321 | B27: IV - ЕМИСИОНИ ГУБИТАК | C27: 111
A28: дио 32 | B28: V - РЕЗЕРВЕ ИЗ ДОБИТКА (113 до 117) | C28: 112 | D28: =D29+D30+D31+D32+D33 -> 1000000 | E28: =E29+E30+E31+E32+E33 -> 1000000
A29: 322 | B29: 1. Законске резерве | C29: 113 | D29: 1000000 | E29: 1000000
A30: 323 | B30: 2. Статутарне резерве | C30: 114
A31: 324 | B31: 3. Друге резерве утврђене актима друштва | C31: 115
A32: 325 | B32: 4. Резерве за сопствене акције | C32: 116
A33: 329 | B33: 5. Остале резерве из добитка | C33: 117
A34: 330, 331,332,334 и 336 | B34: VI - РЕВАЛОРИЗАЦИОНЕ РЕЗЕРВЕ | C34: 118 | D34: 1064520 | E34: 1064519
A35: 333 | B35: VII - НЕРЕАЛИЗОВАНИ ДОБИЦИ ПО ОСНОВУ ФИНАНСИЈСКИХ СРЕДСТАВА РАСПОЛОЖИВИХ ЗА ПРОДАЈУ | C35: 119
A36: 335 | B36: VIII - НЕРЕАЛИЗОВАНИ ГУБИЦИ ПО ОСНОВУ ФИНАНСИЈСКИХ СРЕДСТАВА РАСПОЛОЖИВИХ ЗА ПРОДАЈУ | C36: 120
A37: 34 | B37: IX - НЕРАСПОРЕЂЕНИ ДОБИТАК (122+123) | C37: 121 | D37: =D38+D39 -> 12400814 | E37: =E38+E39 -> 11222222
A38: 340 | B38: 1. Нераспоређени добитак ранијих година | C38: 122 | D38: 6178593
A39: 341 | B39: 2. Нераспоређени добитак текуће године | C39: 123 | D39: 6222221 | E39: 11222222
A40: 35 | B40: X ГУБИТАК ДО ВИСИНЕ КАПИТАЛА (125+126) | C40: 124 | D40: =D41+D42 -> 0 | E40: =E41+E42 -> 0
A41: 350 | B41: 1. Губитак ранијих година | C41: 125
...

Sheet БС-Пасива-Ж
E1: Образац:БС-Д
A2: Назив друштва/субјекта: | C2: =IF('БС-Актива-НЖ'!C2="","",'БС-Актива-НЖ'!C2) -> "НЕШКОВИЋ ОСИГУРАЊЕ" А.Д. Бијељина | D2: =IF('БС-Актива-НЖ'!D2="","",'БС-Актива-НЖ'!D2) -> "НЕШКОВИЋ ОСИГУРАЊЕ" А.Д. Бијељина | E2: =IF('БС-Актива-НЖ'!E2="","",'БС-Актива-НЖ'!E2) -> "НЕШКОВИЋ ОСИГУРАЊЕ" А.Д. Бијељина
A3: Ознака друштва/субјекта: | C3: =IF('БС-Актива-НЖ'!C3="","",'БС-Актива-НЖ'!C3) -> РД-1 | D3: =IF('БС-Актива-НЖ'!D3="","",'БС-Актива-НЖ'!D3) -> РД-1 | E3: =IF('БС-Актива-НЖ'!E3="","",'БС-Актива-НЖ'!E3) -> РД-1
A4: Стање на дан: | C4: =IF('БС-Актива-НЖ'!C4="","",'БС-Актива-НЖ'!C4) -> 46203 | D4: =IF('БС-Актива-НЖ'!D4="","",'БС-Актива-НЖ'!D4) | E4: =IF('БС-Актива-НЖ'!E4="","",'БС-Актива-НЖ'!E4)
A5: Редни број: | C5: =IF('БС-Актива-НЖ'!C5="","",'БС-Актива-НЖ'!C5) -> 1 | D5: =IF('БС-Актива-НЖ'!D5="","",'БС-Актива-НЖ'!D5) | E5: =IF('БС-Актива-НЖ'!E5="","",'БС-Актива-НЖ'!E5)
A6: Саставио: | C6: =IF('БС-Актива-НЖ'!C6="","",'БС-Актива-НЖ'!C6) -> Ј.Шкиљевић | D6: =IF('БС-Актива-НЖ'!D6="","",'БС-Актива-НЖ'!D6) | E6: =IF('БС-Актива-НЖ'!E6="","",'БС-Актива-НЖ'!E6)
A7: Одговорно лице: | C7: =IF('БС-Актива-НЖ'!C7="","",'БС-Актива-НЖ'!C7) -> Миленко Мишановић | D7: =IF('БС-Актива-НЖ'!D7="","",'БС-Актива-НЖ'!D7) | E7: =IF('БС-Актива-НЖ'!E7="","",'БС-Актива-НЖ'!E7)
A8: Актуар: | C8: =IF('БС-Актива-НЖ'!C8="","",'БС-Актива-НЖ'!C8) -> Вања Драгичевић | D8: =IF('БС-Актива-НЖ'!D8="","",'БС-Актива-НЖ'!D8) | E8: =IF('БС-Актива-НЖ'!E8="","",'БС-Актива-НЖ'!E8)
A9: Датум попуњавања: | C9: =IF('БС-Актива-НЖ'!C9="","",'БС-Актива-НЖ'!C9) -> 46226 | D9: =IF('БС-Актива-НЖ'!D9="","",'БС-Актива-НЖ'!D9) | E9: =IF('БС-Актива-НЖ'!E9="","",'БС-Актива-НЖ'!E9)
A10: Мјесто попуњавања: | C10: =IF('БС-Актива-НЖ'!C10="","",'БС-Актива-НЖ'!C10) -> Бијељина | D10: =IF('БС-Актива-НЖ'!D10="","",'БС-Актива-НЖ'!D10) | E10: =IF('БС-Актива-НЖ'!E10="","",'БС-Актива-НЖ'!E10)
A11: Контакт: | C11: =IF('БС-Актива-НЖ'!C11="","",'БС-Актива-НЖ'!C11) -> office@neskovicosiguranje.com | D11: =IF('БС-Актива-НЖ'!D11="","",'БС-Актива-НЖ'!D11) | E11: =IF('БС-Актива-НЖ'!E11="","",'БС-Актива-НЖ'!E11)
A13: Биланс стања (Извјештај о финансијском положају)
A14: КМ
A15: Група рачуна, рачун | B15: ПОЗИЦИЈА | C15: Ознака за АОП | D15: Износ на дан биланса текуће | E15: Износ претходне године
A16: 1 | B16: 2 | C16: 3 | D16: 4 | E16: 5
B17: ПАСИВА А. КАПИТАЛ (102-109+110-111+112+118+119-120+121-124) | C17: 101 | D17: =D18-D25+D26-D27+D28+D34+D35-D36+D37-D40 -> 0 | E17: =E18-E25+E26-E27+E28+E34+E35-E36+E37-E40 -> 0
A18: 30 | B18: I - ОСНОВНИ КАПИТАЛ (103 до 108) | C18: 102 | D18: =D19+D20+D21+D22+D23+D24 -> 0 | E18: =E19+E20+E21+E22+E23+E24 -> 0
A19: 300 | B19: 1. Акцијски капитал | C19: 103
A20: 301 | B20: 2. Удјели друштва са ограниченом одговорношћу | C20: 104
A21: 302 | B21: 3. Државни капитал | C21: 105
A22: 303 | B22: 4. Улози друштава за узајамно осигурање са ограниченим доприносом | C22: 106
A23: 304 | B23: 5. Улози друштава за узајамно осигурање са неограниченим доприносом | C23: 107
A24: 309 | B24: 6. Остали капитал | C24: 108
A25: 310 до 312 | B25: II - УПИСАНИ НЕУПЛАЋЕНИ КАПИТАЛ | C25: 109
A26: 320 | B26: III - ЕМИСИОНА ПРЕМИЈА | C26: 110
A27: 321 | B27: IV - ЕМИСИОНИ ГУБИТАК | C27: 111
A28: дио 32 | B28: V - РЕЗЕРВЕ ИЗ ДОБИТКА (113 до 117) | C28: 112 | D28: =D29+D30+D31+D32+D33 -> 0 | E28: =E29+E30+E31+E32+E33 -> 0
A29: 322 | B29: 1. Законске резерве | C29: 113
A30: 323 | B30: 2. Статутарне резерве | C30: 114
A31: 324 | B31: 3. Друге резерве утврђене актима друштва | C31: 115
A32: 325 | B32: 4. Резерве за сопствене акције | C32: 116
A33: 329 | B33: 5. Остале резерве из добитка | C33: 117
A34: 330, 331,332,334 и 336 | B34: VI - РЕВАЛОРИЗАЦИОНЕ РЕЗЕРВЕ | C34: 118
A35: 333 | B35: VII - НЕРЕАЛИЗОВАНИ ДОБИЦИ ПО ОСНОВУ ФИНАНСИЈСКИХ СРЕДСТАВА РАСПОЛОЖИВИХ ЗА ПРОДАЈУ | C35: 119
A36: 335 | B36: VIII - НЕРЕАЛИЗОВАНИ ГУБИЦИ ПО ОСНОВУ ФИНАНСИЈСКИХ СРЕДСТАВА РАСПОЛОЖИВИХ ЗА ПРОДАЈУ | C36: 120
A37: 34 | B37: IX - НЕРАСПОРЕЂЕНИ ДОБИТАК (122+123) | C37: 121 | D37: =D38+D39 -> 0 | E37: =E38+E39 -> 0
A38: 340 | B38: 1. Нераспоређени добитак ранијих година | C38: 122
A39: 341 | B39: 2. Нераспоређени добитак текуће године | C39: 123
A40: 35 | B40: X ГУБИТАК ДО ВИСИНЕ КАПИТАЛА (125+126) | C40: 124 | D40: =D41+D42 -> 0 | E40: =E41+E42 -> 0
A41: 350 | B41: 1. Губитак ранијих година | C41: 125
...

Sheet БС-Пасива-Укупно
E1: Образац:БС-Д
A2: Назив друштва/субјекта: | C2: =IF('БС-Актива-НЖ'!C2="","",'БС-Актива-НЖ'!C2) -> "НЕШКОВИЋ ОСИГУРАЊЕ" А.Д. Бијељина | D2: =IF('БС-Актива-НЖ'!D2="","",'БС-Актива-НЖ'!D2) -> "НЕШКОВИЋ ОСИГУРАЊЕ" А.Д. Бијељина | E2: =IF('БС-Актива-НЖ'!E2="","",'БС-Актива-НЖ'!E2) -> "НЕШКОВИЋ ОСИГУРАЊЕ" А.Д. Бијељина
A3: Ознака друштва/субјекта: | C3: =IF('БС-Актива-НЖ'!C3="","",'БС-Актива-НЖ'!C3) -> РД-1 | D3: =IF('БС-Актива-НЖ'!D3="","",'БС-Актива-НЖ'!D3) -> РД-1 | E3: =IF('БС-Актива-НЖ'!E3="","",'БС-Актива-НЖ'!E3) -> РД-1
A4: Стање на дан: | C4: =IF('БС-Актива-НЖ'!C4="","",'БС-Актива-НЖ'!C4) -> 46203 | D4: =IF('БС-Актива-НЖ'!D4="","",'БС-Актива-НЖ'!D4) | E4: =IF('БС-Актива-НЖ'!E4="","",'БС-Актива-НЖ'!E4)
A5: Редни број: | C5: =IF('БС-Актива-НЖ'!C5="","",'БС-Актива-НЖ'!C5) -> 1 | D5: =IF('БС-Актива-НЖ'!D5="","",'БС-Актива-НЖ'!D5) | E5: =IF('БС-Актива-НЖ'!E5="","",'БС-Актива-НЖ'!E5)
A6: Саставио: | C6: =IF('БС-Актива-НЖ'!C6="","",'БС-Актива-НЖ'!C6) -> Ј.Шкиљевић | D6: =IF('БС-Актива-НЖ'!D6="","",'БС-Актива-НЖ'!D6) | E6: =IF('БС-Актива-НЖ'!E6="","",'БС-Актива-НЖ'!E6)
A7: Одговорно лице: | C7: =IF('БС-Актива-НЖ'!C7="","",'БС-Актива-НЖ'!C7) -> Миленко Мишановић | D7: =IF('БС-Актива-НЖ'!D7="","",'БС-Актива-НЖ'!D7) | E7: =IF('БС-Актива-НЖ'!E7="","",'БС-Актива-НЖ'!E7)
A8: Актуар: | C8: =IF('БС-Актива-НЖ'!C8="","",'БС-Актива-НЖ'!C8) -> Вања Драгичевић | D8: =IF('БС-Актива-НЖ'!D8="","",'БС-Актива-НЖ'!D8) | E8: =IF('БС-Актива-НЖ'!E8="","",'БС-Актива-НЖ'!E8)
A9: Датум попуњавања: | C9: =IF('БС-Актива-НЖ'!C9="","",'БС-Актива-НЖ'!C9) -> 46226 | D9: =IF('БС-Актива-НЖ'!D9="","",'БС-Актива-НЖ'!D9) | E9: =IF('БС-Актива-НЖ'!E9="","",'БС-Актива-НЖ'!E9)
A10: Мјесто попуњавања: | C10: =IF('БС-Актива-НЖ'!C10="","",'БС-Актива-НЖ'!C10) -> Бијељина | D10: =IF('БС-Актива-НЖ'!D10="","",'БС-Актива-НЖ'!D10) | E10: =IF('БС-Актива-НЖ'!E10="","",'БС-Актива-НЖ'!E10)
A11: Контакт: | C11: =IF('БС-Актива-НЖ'!C11="","",'БС-Актива-НЖ'!C11) -> office@neskovicosiguranje.com | D11: =IF('БС-Актива-НЖ'!D11="","",'БС-Актива-НЖ'!D11) | E11: =IF('БС-Актива-НЖ'!E11="","",'БС-Актива-НЖ'!E11)
A13: Биланс стања (Извјештај о финансијском положају)
A14: КМ
A15: Група рачуна, рачун | B15: ПОЗИЦИЈА | C15: Ознака за АОП | D15: Износ на дан биланса текуће | E15: Износ претходне године
A16: 1 | B16: 2 | C16: 3 | D16: 4 | E16: 5
B17: ПАСИВА А. КАПИТАЛ (102-109+110-111+112+118+119-120+121-124) | C17: 101 | D17: ='БС-Пасива-НЖ'!D17+'БС-Пасива-Ж'!D17 -> 24465334 | E17: ='БС-Пасива-НЖ'!E17+'БС-Пасива-Ж'!E17 -> 23286741
A18: 30 | B18: I - ОСНОВНИ КАПИТАЛ (103 до 108) | C18: 102 | D18: ='БС-Пасива-НЖ'!D18+'БС-Пасива-Ж'!D18 -> 10000000 | E18: ='БС-Пасива-НЖ'!E18+'БС-Пасива-Ж'!E18 -> 10000000
A19: 300 | B19: 1. Акцијски капитал | C19: 103 | D19: ='БС-Пасива-НЖ'!D19+'БС-Пасива-Ж'!D19 -> 10000000 | E19: ='БС-Пасива-НЖ'!E19+'БС-Пасива-Ж'!E19 -> 10000000
A20: 301 | B20: 2. Удјели друштва са ограниченом одговорношћу | C20: 104 | D20: ='БС-Пасива-НЖ'!D20+'БС-Пасива-Ж'!D20 -> 0 | E20: ='БС-Пасива-НЖ'!E20+'БС-Пасива-Ж'!E20 -> 0
A21: 302 | B21: 3. Државни капитал | C21: 105 | D21: ='БС-Пасива-НЖ'!D21+'БС-Пасива-Ж'!D21 -> 0 | E21: ='БС-Пасива-НЖ'!E21+'БС-Пасива-Ж'!E21 -> 0
A22: 303 | B22: 4. Улози друштава за узајамно осигурање са ограниченим доприносом | C22: 106 | D22: ='БС-Пасива-НЖ'!D22+'БС-Пасива-Ж'!D22 -> 0 | E22: ='БС-Пасива-НЖ'!E22+'БС-Пасива-Ж'!E22 -> 0
A23: 304 | B23: 5. Улози друштава за узајамно осигурање са неограниченим доприносом | C23: 107 | D23: ='БС-Пасива-НЖ'!D23+'БС-Пасива-Ж'!D23 -> 0 | E23: ='БС-Пасива-НЖ'!E23+'БС-Пасива-Ж'!E23 -> 0
A24: 309 | B24: 6. Остали капитал | C24: 108 | D24: ='БС-Пасива-НЖ'!D24+'БС-Пасива-Ж'!D24 -> 0 | E24: ='БС-Пасива-НЖ'!E24+'БС-Пасива-Ж'!E24 -> 0
A25: 310 до 312 | B25: II - УПИСАНИ НЕУПЛАЋЕНИ КАПИТАЛ | C25: 109 | D25: ='БС-Пасива-НЖ'!D25+'БС-Пасива-Ж'!D25 -> 0 | E25: ='БС-Пасива-НЖ'!E25+'БС-Пасива-Ж'!E25 -> 0
A26: 320 | B26: III - ЕМИСИОНА ПРЕМИЈА | C26: 110 | D26: ='БС-Пасива-НЖ'!D26+'БС-Пасива-Ж'!D26 -> 0 | E26: ='БС-Пасива-НЖ'!E26+'БС-Пасива-Ж'!E26 -> 0
A27: 321 | B27: IV - ЕМИСИОНИ ГУБИТАК | C27: 111 | D27: ='БС-Пасива-НЖ'!D27+'БС-Пасива-Ж'!D27 -> 0 | E27: ='БС-Пасива-НЖ'!E27+'БС-Пасива-Ж'!E27 -> 0
A28: дио 32 | B28: V - РЕЗЕРВЕ ИЗ ДОБИТКА (113 до 117) | C28: 112 | D28: ='БС-Пасива-НЖ'!D28+'БС-Пасива-Ж'!D28 -> 1000000 | E28: ='БС-Пасива-НЖ'!E28+'БС-Пасива-Ж'!E28 -> 1000000
A29: 322 | B29: 1. Законске резерве | C29: 113 | D29: ='БС-Пасива-НЖ'!D29+'БС-Пасива-Ж'!D29 -> 1000000 | E29: ='БС-Пасива-НЖ'!E29+'БС-Пасива-Ж'!E29 -> 1000000
... A36: 335 | B36: VIII - НЕРЕАЛИЗОВАНИ ГУБИЦИ ПО ОСНОВУ ФИНАНСИЈСКИХ СРЕДСТАВА РАСПОЛОЖИВИХ ЗА ПРОДАЈУ | C36: 120 | D36: ='БС-Пасива-НЖ'!D36+'БС-Пасива-Ж'!D36 -> 0 | E36: ='БС-Пасива-НЖ'!E36+'БС-Пасива-Ж'!E36 -> 0
A37: 34 | B37: IX - НЕРАСПОРЕЂЕНИ ДОБИТАК (122+123) | C37: 121 | D37: =IF((D38+D39)>0,D38+D39,0) -> 12400814 | E37: =IF((E38+E39)>0,E38+E39,0) -> 11222222
A38: 340 | B38: 1. Нераспоређени добитак ранијих година | C38: 122 | D38: =IF((('БС-Пасива-НЖ'!D38+'БС-Пасива-Ж'!D38)-('БС-Пасива-НЖ'!D41+'БС-Пасива-Ж'!D41))>0,('БС-Пасива-НЖ'!D38+'БС-Пасива-Ж'!D38)-('БС-Пасива-НЖ'!D41+'БС-Пасива-Ж'!D41),0) -> 6178593 | E38: =IF((('БС-Пасива-НЖ'!E38+'БС-Пасива-Ж'!E38)-('БС-Пасива-НЖ'!E41+'БС-Пасива-Ж'!E41))>0,('БС-Пасива-НЖ'!E38+'БС-Пасива-Ж'!E38)-('БС-Пасива-НЖ'!E41+'БС-Пасива-Ж'!E41),0) -> 0
A39: 341 | B39: 2. Нераспоређени добитак текуће године | C39: 123 | D39: =IF((('БС-Пасива-НЖ'!D39+'БС-Пасива-Ж'!D39)-('БС-Пасива-НЖ'!D42+'БС-Пасива-Ж'!D42))>0,('БС-Пасива-НЖ'!D39+'БС-Пасива-Ж'!D39)-('БС-Пасива-НЖ'!D42+'БС-Пасива-Ж'!D42),0) -> 6222221 | E39: =IF((('БС-Пасива-НЖ'!E39+'БС-Пасива-Ж'!E39)-('БС-Пасива-НЖ'!E42+'БС-Пасива-Ж'!E42))>0,('БС-Пасива-НЖ'!E39+'БС-Пасива-Ж'!E39)-('БС-Пасива-НЖ'!E42+'БС-Пасива-Ж'!E42),0) -> 11222222
A40: 35 | B40: X ГУБИТАК ДО ВИСИНЕ КАПИТАЛА (125+126) | C40: 124 | D40: =IF((D41+D42)>0,D41+D42,0) -> 0 | E40: =IF((E41+E42)>0,E41+E42,0) -> 0
A41: 350 | B41: 1. Губитак ранијих година | C41: 125 | D41: =IF((('БС-Пасива-НЖ'!D41+'БС-Пасива-Ж'!D41)-('БС-Пасива-НЖ'!D38+'БС-Пасива-Ж'!D38))>0,('БС-Пасива-НЖ'!D41+'БС-Пасива-Ж'!D41)-('БС-Пасива-НЖ'!D38+'БС-Пасива-Ж'!D38),0) -> 0 | E41: =IF((('БС-Пасива-НЖ'!E41+'БС-Пасива-Ж'!E41)-('БС-Пасива-НЖ'!E38+'БС-Пасива-Ж'!E38))>0,('БС-Пасива-НЖ'!E41+'БС-Пасива-Ж'!E41)-('БС-Пасива-НЖ'!E38+'БС-Пасива-Ж'!E38),0) -> 0
A42: 351 | B42: 2. Губитак текуће године | C42: 126 | D42: =IF((('БС-Пасива-НЖ'!D42+'БС-Пасива-Ж'!D42)-('БС-Пасива-НЖ'!D39+'БС-Пасива-Ж'!D39))>0,('БС-Пасива-НЖ'!D42+'БС-Пасива-Ж'!D42)-('БС-Пасива-НЖ'!D39+'БС-Пасива-Ж'!D39),0) -> 0 | E42: =IF((('БС-Пасива-НЖ'!E42+'БС-Пасива-Ж'!E42)-('БС-Пасива-НЖ'!E39+'БС-Пасива-Ж'!E39))>0,('БС-Пасива-НЖ'!E42+'БС-Пасива-Ж'!E42)-('БС-Пасива-НЖ'!E39+'БС-Пасива-Ж'!E39),0) -> 0
A43: 40 | B43: Б. ДУГОРОЧНА РЕЗЕРВИСАЊА (128 до 136) | C43: 127 | D43: ='БС-Пасива-НЖ'!D43+'БС-Пасива-Ж'!D43 -> 133128 | E43: ='БС-Пасива-НЖ'!E43+'БС-Пасива-Ж'!E43 -> 133128
A44: 400 | B44: 1. Математичка резерва животних осигурања | C44: 128 | D44: ='БС-Пасива-НЖ'!D44+'БС-Пасива-Ж'!D44 -> 0 | E44: ='БС-Пасива-НЖ'!E44+'БС-Пасива-Ж'!E44 -> 0
A45: 401 | B45: 2. Резервисања за учешће у добитку | C45: 129 | D45: ='БС-Пасива-НЖ'!D45+'БС-Пасива-Ж'!D45 -> 0 | E45: ='БС-Пасива-НЖ'!E45+'БС-Пасива-Ж'!E45 -> 0
A46: 402 | B46: 3. Резервисања за изравнање ризика | C46: 130 | D46: ='БС-Пасива-НЖ'!D46+'БС-Пасива-Ж'!D46 -> 0 | E46: ='БС-Пасива-НЖ'!E46+'БС-Пасива-Ж'!E46 -> 0
A47: 403 | B47: 4. Резервисања за задржане кауције и депозите | C47: 131 | D47: ='БС-Пасива-НЖ'!D47+'БС-Пасива-Ж'!D47 -> 0 | E47: ='БС-Пасива-НЖ'!E47+'БС-Пасива-Ж'!E47 -> 0
...
